Workbook

Sheet 一般户
A1: 阿扎特巴格镇央阿格勒克（13）村一般户台账
A2: 人编号 | B2: 人员状态 | C2: 姓名 | D2: 性别 | E2: 出生日期 | F2: 民族 | G2: 公民身份号码 | H2: 户籍详址 | I2: 户号 | J2: 与户主关系 | K2: 门楼详址 | L2: 门楼牌号 | M2: 残疾情况 | N2: 低保金 | O2: slry | P2: 大病、慢病、地方病 | Q2: 村组 | R2: 备注 | S2: 家庭年总纯收入 | T2: 家庭年人均纯收入
A3: 1 | B3: 在册 | C3: 麦麦提·玉斯音 | D3: 男 | E3: 1952-04-12 | F3: 维吾尔 | G3: 653125195204123811 | H3: 新疆莎车县阿扎提巴格乡央阿克勒克村3组125号 | I3: 653100000070830 | J3: 户主 | K3: 3组125号 | O3: 担保 | S3: 4320 | T3: 4320
A4: 2 | B4: 在册 | C4: 艾麦尔·肉孜 | D4: 男 | E4: 1981-04-12 | F4: 维吾尔 | G4: 653125198104123834 | H4: 新疆莎车县阿扎提巴格乡央阿克勒克村2组76号 | I4: 653100000093710 | J4: 户主 | K4: 2组76号 | O4: 收教 | S4: 23820 | T4: 5955
A5: 3 | B5: 在册 | C5: ⬛⬛⬛⬛⬛⬛⬛⬛ | D5: 女 | E5: 1989-01-13 | F5: 维吾尔 | G5: ⬛⬛⬛⬛⬛⬛⬛⬛ | H5: 新疆莎车县阿扎提巴格乡央阿克勒克村2组76号 | I5: 653100000093710 | J5: 妻 | K5: 2组76号 | S5: 23820 | T5: 5955
A6: 4 | B6: 在册 | C6: ⬛⬛⬛⬛⬛⬛⬛⬛ | D6: 男 | E6: 2007-11-24 | F6: 维吾尔 | G6: ⬛⬛⬛⬛⬛⬛⬛⬛ | H6: 新疆莎车县阿扎提巴格乡央阿克勒克村2组76号 | I6: 653100000093710 | J6: 子 | K6: 2组76号 | S6: 23820 | T6: 5955
A7: 5 | B7: 在册 | C7: ⬛⬛⬛⬛⬛⬛⬛⬛ | D7: 男 | E7: 2014-11-05 | F7: 维吾尔 | G7: ⬛⬛⬛⬛⬛⬛⬛⬛ | H7: 新疆莎车县阿扎提巴格乡央阿克勒克村2组76号 | I7: 653100000093710 | J7: 次子 | K7: 2组76号 | S7: 23820 | T7: 5955
A8: 6 | B8: 在册 | C8: 阿布力米提·热合曼 | D8: 男 | E8: 1992-02-07 | F8: 维吾尔 | G8: 653125199202073855 | H8: 新疆莎车县阿扎提巴格乡央阿克勒克村4组120号 | I8: 653100000095667 | J8: 户主 | K8: 4组120号 | O8: 收教 | S8: 21836 | T8: 5459
A9: 7 | B9: 在册 | C9: ⬛⬛⬛⬛⬛⬛⬛⬛ | D9: 女 | E9: 1991-05-14 | F9: 维吾尔 | G9: ⬛⬛⬛⬛⬛⬛⬛⬛ | H9: 新疆莎车县阿扎提巴格乡央阿克勒克村4组120号 | I9: 653100000095667 | J9: 妻 | K9: 4组120号 | S9: 21836 | T9: 5459
A10: 8 | B10: 在册 | C10: ⬛⬛⬛⬛⬛⬛⬛⬛ | D10: 男 | E10: 2013-09-04 | F10: 维吾尔 | G10: ⬛⬛⬛⬛⬛⬛⬛⬛ | H10: 新疆莎车县阿扎提巴格乡央阿克勒克村4组120号 | I10: 653100000095667 | J10: 长子 | K10: 4组120号 | S10: 21836 | T10: 5459
A11: 9 | B11: 在册 | C11: ⬛⬛⬛⬛⬛⬛⬛⬛ | D11: 女 | E11: 2011-05-10 | F11: 维吾尔 | G11: ⬛⬛⬛⬛⬛⬛⬛⬛ | H11: 新疆莎车县阿扎提巴格乡央阿克勒克村4组120号 | I11: 653100000095667 | J11: 女 | K11: 4组120号 | S11: 21836 | T11: 5459
A12: 10 | B12: 在册 | C12: 麦麦提尼亚孜·克热木 | D12: 男 | E12: 1992-04-10 | F12: 维吾尔 | G12: 653125199204103851 | H12: 新疆莎车县阿扎提巴格乡央阿克勒克村4组42号 | I12: 653100000095771 | J12: 户主 | K12: 4组42号 | O12: 收教 | S12: 25576 | T12: 6394
A13: 11 | B13: 在册 | C13: ⬛⬛⬛⬛⬛⬛⬛⬛ | D13: 女 | E13: 1990-11-14 | F13: 维吾尔 | G13: ⬛⬛⬛⬛⬛⬛⬛⬛ | H13: 新疆莎车县阿扎提巴格乡央阿克勒克村4组42号 | I13: 653100000095771 | J13: 妻 | K13: 4组42号 | S13: 25576 | T13: 6394
A14: 12 | B14: 在册 | C14: ⬛⬛⬛⬛⬛⬛⬛⬛ | D14: 女 | E14: 2012-10-10 | F14: 维吾尔 | G14: ⬛⬛⬛⬛⬛⬛⬛⬛ | H14: 新疆莎车县阿扎提巴格乡央阿克勒克村4组42号 | I14: 653100000095771 | J14: 长女 | K14: 4组42号 | S14: 25576 | T14: 6394
A15: 13 | B15: 在册 | C15: ⬛⬛⬛⬛⬛⬛⬛⬛ | D15: 女 | E15: 2012-10-10 | F15: 维吾尔 | G15: ⬛⬛⬛⬛⬛⬛⬛⬛ | H15: 新疆莎车县阿扎提巴格乡央阿克勒克村4组42号 | I15: 653100000095771 | J15: 二女 | K15: 4组42号 | S15: 25576 | T15: 6394
A16: 14 | B16: 在册 | C16: ⬛⬛⬛⬛⬛⬛⬛⬛ | D16: 男 | E16: 1990-05-23 | F16: 维吾尔 | G16: ⬛⬛⬛⬛⬛⬛⬛⬛ | H16: 新疆莎车县阿扎提巴格乡央阿克勒克村1组48号 | I16: 653100000095774 | J16: 户主 | K16: 1组48号 | S16: 31225 | T16: 10408
A17: 15 | B17: 在册 | C17: ⬛⬛⬛⬛⬛⬛⬛⬛ | D17: 女 | E17: 1991-06-07 | F17: 维吾尔 | G17: ⬛⬛⬛⬛⬛⬛⬛⬛ | H17: 新疆莎车县阿扎提巴格乡央阿克勒克村1组48号 | I17: 653100000095774 | J17: 妻 | K17: 1组48号 | S17: 31225 | T17: 10408
A18: 16 | B18: 在册 | C18: ⬛⬛⬛⬛⬛⬛⬛⬛ | D18: 男 | E18: 2011-04-01 | F18: 维吾尔 | G18: ⬛⬛⬛⬛⬛⬛⬛⬛ | H18: 新疆莎车县阿扎提巴格乡央阿克勒克村1组48号 | I18: 653100000095774 | J18: 子 | K18: 1组48号 | S18: 31225 | T18: 10408
A19: 17 | B19: 在册 | C19: ⬛⬛⬛⬛⬛⬛⬛⬛ | D19: 男 | E19: 1969-12-28 | F19: 维吾尔 | G19: ⬛⬛⬛⬛⬛⬛⬛⬛ | H19: 新疆莎车县阿扎提巴格乡央阿克勒克村1组98号 | I19: 653100000095781 | J19: 户主 | K19: 1组98号 | S19: 20570 | T19: 5142.5
A20: 18 | B20: 在册 | C20: ⬛⬛⬛⬛⬛⬛⬛⬛ | D20: 女 | E20: 1987-03-18 | F20: 维吾尔 | G20: ⬛⬛⬛⬛⬛⬛⬛⬛ | H20: 新疆莎车县阿扎提巴格乡央阿克勒克村1组98号 | I20: 653100000095781 | J20: 妻 | K20: 1组98号 | S20: 20570 | T20: 5142.5
A21: 19 | B21: 在册 | C21: ⬛⬛⬛⬛⬛⬛⬛⬛ | D21: 女 | E21: 2012-03-19 | F21: 维吾尔 | G21: ⬛⬛⬛⬛⬛⬛⬛⬛ | H21: 新疆莎车县阿扎提巴格乡央阿克勒克村1组98号 | I21: 653100000095781 | J21: 女 | K21: 1组98号 | S21: 20570 | T21: 5142.5
A22: 20 | B22: 在册 | C22: ⬛⬛⬛⬛⬛⬛⬛⬛ | D22: 女 | E22: 2008-06-30 | F22: 维吾尔 | G22: ⬛⬛⬛⬛⬛⬛⬛⬛ | H22: 新疆莎车县阿扎提巴格乡央阿克勒克村1组98号 | I22: 653100000095781 | J22: 女 | K22: 1组98号 | S22: 20570 | T22: 5142.5
A23: 21 | B23: 在册 | C23: ⬛⬛⬛⬛⬛⬛⬛⬛ | D23: 男 | E23: 1985-12-07 | F23: 维吾尔 | G23: ⬛⬛⬛⬛⬛⬛⬛⬛ | H23: 新疆莎车县阿扎提巴格乡央阿克勒克村2组59号 | I23: 653100000095937 | J23: 户主 | K23: 2组59号 | S23: 13130 | T23: 6550
A24: 22 | B24: 在册 | C24: 合丽其·艾麦提 | D24: 女 | E24: 1989-02-19 | F24: 维吾尔 | G24: 653125198902193829 | H24: 新疆莎车县阿扎提巴格乡央阿克勒克村2组59号 | I24: 653100000095937 | J24: 妻 | K24: 2组59号 | O24: 收教 | S24: 13130 | T24: 6550
A25: 23 | B25: 在册 | C25: 努尔艾合麦提·萨迪尔 | D25: 男 | E25: 1990-03-04 | F25: 维吾尔 | G25: 653125199003043856 | H25: 新疆莎车县阿扎提巴格乡央阿克勒克村4组37号 | I25: 653100000095942 | J25: 户主 | K25: 4组37号 | O25: 收教 | S25: 20216 | T25: 5054
A26: 24 | B26: 在册 | C26: ⬛⬛⬛⬛⬛⬛⬛⬛ | D26: 女 | E26: 1991-11-02 | F26: 维吾尔 | G26: ⬛⬛⬛⬛⬛⬛⬛⬛ | H26: 新疆莎车县阿扎提巴格乡央阿克勒克村4组37号 | I26: 653100000095942 | J26: 妻 | K26: 4组37号 | S26: 20216 | T26: 5054
A27: 25 | B27: 在册 | C27: ⬛⬛⬛⬛⬛⬛⬛⬛ | D27: 男 | E27: 2009-11-18 | F27: 维吾尔 | G27: ⬛⬛⬛⬛⬛⬛⬛⬛ | H27: 新疆莎车县阿扎提巴格乡央阿克勒克村4组37号 | I27: 653100000095942 | J27: 子 | K27: 4组37号 | S27: 20216 | T27: 5054
A28: 26 | B28: 在册 | C28: ⬛⬛⬛⬛⬛⬛⬛⬛ | D28: 女 | E28: 2014-12-08 | F28: 维吾尔 | G28: ⬛⬛⬛⬛⬛⬛⬛⬛ | H28: 新疆莎车县阿扎提巴格乡央阿克勒克村4组37号 | I28: 653100000095942 | J28: 女 | K28: 4组37号 | S28: 20216 | T28: 5054
A29: 27 | B29: 在册 | C29: ⬛⬛⬛⬛⬛⬛⬛⬛ | D29: 男 | E29: 1983-01-08 | F29: 维吾尔 | G29: ⬛⬛⬛⬛⬛⬛⬛⬛ | H29: 新疆莎车县阿扎提巴格乡央阿克勒克村3组43号 | I29: 653100000095944 | J29: 户主 | K29: 3组43号 | S29: 97000 | T29: 19400
A30: 28 | B30: 在册 | C30: ⬛⬛⬛⬛⬛⬛⬛⬛ | D30: 女 | E30: 1980-08-22 | F30: 维吾尔 | G30: ⬛⬛⬛⬛⬛⬛⬛⬛ | H30: 新疆莎车县阿扎提巴格乡央阿克勒克村3组43号 | I30: 653100000095944 | J30: 妻 | K30: 3组43号 | S30: 97000 | T30: 19400
A31: 29 | B31: 在册 | C31: ⬛⬛⬛⬛⬛⬛⬛⬛ | D31: 男 | E31: 2011-12-10 | F31: 维吾尔 | G31: ⬛⬛⬛⬛⬛⬛⬛⬛ | H31: 新疆莎车县阿扎提巴格乡央阿克勒克村3组43号 | I31: 653100000095944 | J31: 长子 | K31: 3组43号 | S31: 97000 | T31: 19400
A32: 30 | B32: 在册 | C32: ⬛⬛⬛⬛⬛⬛⬛⬛ | D32: 女 | E32: 2004-09-15 | F32: 维吾尔 | G32: ⬛⬛⬛⬛⬛⬛⬛⬛ | H32: 新疆莎车县阿扎提巴格乡央阿克勒克村3组43号 | I32: 653100000095944 | J32: 女 | K32: 3组43号 | S32: 97000 | T32: 19400
A33: 31 | B33: 在册 | C33: ⬛⬛⬛⬛⬛⬛⬛⬛ | D33: 女 | E33: 2011-12-10 | F33: 维吾尔 | G33: ⬛⬛⬛⬛⬛⬛⬛⬛ | H33: 新疆莎车县阿扎提巴格乡央阿克勒克村3组43号 | I33: 653100000095944 | J33: 二女 | K33: 3组43号 | S33: 97000 | T33: 19400
A34: 32 | B34: 在册 | C34: ⬛⬛⬛⬛⬛⬛⬛⬛ | D34: 男 | E34: 1980-01-17 | F34: 维吾尔 | G34: ⬛⬛⬛⬛⬛⬛⬛⬛ | H34: 新疆莎车县阿扎提巴格乡央阿克勒克村4组39号 | I34: 653100000095946 | J34: 户主 | K34: 4组39号 | S34: 19648 | T34: 4912
A35: 33 | B35: 在册 | C35: ⬛⬛⬛⬛⬛⬛⬛⬛ | D35: 女 | E35: 1981-06-10 | F35: 维吾尔 | G35: ⬛⬛⬛⬛⬛⬛⬛⬛ | H35: 新疆莎车县阿扎提巴格乡央阿克勒克村4组39号 | I35: 653100000095946 | J35: 妻 | K35: 4组39号 | S35: 19648 | T35: 4912
A36: 34 | B36: 在册 | C36: ⬛⬛⬛⬛⬛⬛⬛⬛ | D36: 男 | E36: 2008-12-04 | F36: 维吾尔 | G36: ⬛⬛⬛⬛⬛⬛⬛⬛ | H36: 新疆莎车县阿扎提巴格乡央阿克勒克村4组39号 | I36: 653100000095946 | J36: 子 | K36: 4组39号 | S36: 19648 | T36: 4912
A37: 35 | B37: 在册 | C37: ⬛⬛⬛⬛⬛⬛⬛⬛ | D37: 女 | E37: 2013-11-12 | F37: 维吾尔 | G37: ⬛⬛⬛⬛⬛⬛⬛⬛ | H37: 新疆莎车县阿扎提巴格乡央阿克勒克村4组39号 | I37: 653100000095946 | J37: 长女 | K37: 4组39号 | S37: 19648 | T37: 4912
... A41: 39 | B41: 在册 | C41: ⬛⬛⬛⬛⬛⬛⬛⬛ | D41: 女 | E41: 2015-10-29 | F41: 维吾尔 | G41: ⬛⬛⬛⬛⬛⬛⬛⬛ | H41: 新疆莎车县阿扎提巴格乡央阿克勒克村3组41号 | I41: 653100000095949 | J41: 女 | K41: 3组41号 | S41: 28660 | T41: 7165
A42: 40 | B42: 在册 | C42: ⬛⬛⬛⬛⬛⬛⬛⬛ | D42: 男 | E42: 1983-04-13 | F42: 维吾尔 | G42: ⬛⬛⬛⬛⬛⬛⬛⬛ | H42: 新疆莎车县阿扎提巴格乡央阿克勒克村1组47号 | I42: 653100000095973 | J42: 户主 | K42: 1组47号 | Q42: 七类户（大型农业机械） | S42: 25955 | T42: 5191
A43: 41 | B43: 在册 | C43: ⬛⬛⬛⬛⬛⬛⬛⬛ | D43: 女 | E43: 1985-12-01 | F43: 维吾尔 | G43: ⬛⬛⬛⬛⬛⬛⬛⬛ | H43: 新疆莎车县阿扎提巴格乡央阿克勒克村1组47号 | I43: 653100000095973 | J43: 妻 | K43: 1组47号 | Q43: 七类户（大型农业机械） | S43: 25955 | T43: 5191
...

Sheet 贫困
A1: 央阿格勒克（13）村贫困户台账（106户379人）
A2: 序号 | B2: 县(市、区、旗) | C2: 乡(镇) | D2: 行政村 | E2: 自然村 | F2: 户编号 | G2: 人编号 | H2: 姓名 | I2: 证件号码 | J2: 人数 | K2: 与户主关系 | L2: 民族 | M2: 文化程度 | N2: 在校生状况 | O2: 健康状况 | P2: 劳动技能 | Q2: 务工状况 | R2: 务工时间（月） | S2: 参加大病医疗 | T2: 脱贫属性 | U2: 脱贫年度 | V2: 贫困户属性 | W2: 致贫原因1 | X2: 危房户 | Y2: 是否解决安全饮用水 | Z2: 人均纯收入 | AA2: 联系电话 | AB2: 不在户籍 | AC2: 残疾情况 | AD2: 低保金 | AE2: 特困供养金 | AF2: 大病、慢病
A3: 1 | B3: 莎车县 | C3: 阿扎特巴格镇 | D3: 央阿格勒克村 | E3: 1 | F3: 3101378366 | G3: 310003783581 | H3: ⬛⬛⬛⬛⬛⬛⬛⬛ | I3: ⬛⬛⬛⬛⬛⬛⬛⬛ | J3: 4 | K3: 户主 | L3: 维吾尔族 | M3: 初中 | O3: 健康 | P3: 普通劳动力 | R3: 0 | S3: 是 | T3: 已脱贫（享受政策） | U3: 2018年底 | V3: 低保户 | W3: 缺技术 | X3: 否 | Y3: 是 | Z3: 8837.5 | AA3: ⬛⬛⬛⬛⬛⬛⬛⬛
A4: 2 | B4: 莎车县 | C4: 阿扎特巴格镇 | D4: 央阿格勒克村 | E4: 1 | F4: 3101378366 | G4: 310003779251 | H4: ⬛⬛⬛⬛⬛⬛⬛⬛ | I4: ⬛⬛⬛⬛⬛⬛⬛⬛ | J4: 4 | K4: 配偶 | L4: 维吾尔族 | M4: 初中 | O4: 健康 | P4: 普通劳动力 | Q4: 乡（镇）内务工 | R4: 9 | S4: 是 | T4: 已脱贫（享受政策） | U4: 2018年底 | V4: 低保户 | W4: 缺技术 | X4: 否 | Y4: 是 | Z4: 8837.5 | AA4: ⬛⬛⬛⬛⬛⬛⬛⬛
A5: 3 | B5: 莎车县 | C5: 阿扎特巴格镇 | D5: 央阿格勒克村 | E5: 1 | F5: 3101378366 | G5: 5700000148308234 | H5: ⬛⬛⬛⬛⬛⬛⬛⬛ | I5: ⬛⬛⬛⬛⬛⬛⬛⬛ | J5: 4 | K5: 之女 | L5: 维吾尔族 | N5: 学前教育 | O5: 健康 | P5: 无劳动力 | R5: 0 | S5: 是 | T5: 已脱贫（享受政策） | U5: 2018年底 | V5: 低保户 | W5: 缺技术 | X5: 否 | Y5: 是 | Z5: 8837.5 | AA5: ⬛⬛⬛⬛⬛⬛⬛⬛
A6: 4 | B6: 莎车县 | C6: 阿扎特巴格镇 | D6: 央阿格勒克村 | E6: 1 | F6: 3101378366 | G6: 310003779252 | H6: ⬛⬛⬛⬛⬛⬛⬛⬛ | I6: ⬛⬛⬛⬛⬛⬛⬛⬛ | J6: 4 | K6: 之母 | L6: 维吾尔族 | M6: 小学 | O6: 健康 | P6: 无劳动力 | R6: 0 | S6: 是 | T6: 已脱贫（享受政策） | U6: 2018年底 | V6: 低保户 | W6: 缺技术 | X6: 否 | Y6: 是 | Z6: 8837.5 | AA6: ⬛⬛⬛⬛⬛⬛⬛⬛
A7: 5 | B7: 莎车县 | C7: 阿扎特巴格镇 | D7: 央阿格勒克村 | E7: 2 | F7: 3101378770 | G7: 310003802891 | H7: ⬛⬛⬛⬛⬛⬛⬛⬛ | I7: ⬛⬛⬛⬛⬛⬛⬛⬛ | J7: 3 | K7: 户主 | L7: 维吾尔族 | M7: 小学 | O7: 健康 | P7: 普通劳动力 | Q7: 乡（镇）内务工 | R7: 2 | S7: 是 | T7: 已脱贫（享受政策） | U7: 2018年底 | V7: 低保户 | W7: 缺技术 | X7: 否 | Y7: 是 | Z7: 13508 | AA7: ⬛⬛⬛⬛⬛⬛⬛⬛
A8: 6 | B8: 莎车县 | C8: 阿扎特巴格镇 | D8: 央阿格勒克村 | E8: 2 | F8: 3101378770 | G8: 310003802892 | H8: ⬛⬛⬛⬛⬛⬛⬛⬛ | I8: ⬛⬛⬛⬛⬛⬛⬛⬛ | J8: 3 | K8: 配偶 | L8: 维吾尔族 | M8: 小学 | O8: 健康 | P8: 普通劳动力 | Q8: 县外省内务工 | R8: 2 | S8: 是 | T8: 已脱贫（享受政策） | U8: 2018年底 | V8: 低保户 | W8: 缺技术 | X8: 否 | Y8: 是 | Z8: 13508 | AA8: ⬛⬛⬛⬛⬛⬛⬛⬛
A9: 7 | B9: 莎车县 | C9: 阿扎特巴格镇 | D9: 央阿格勒克村 | E9: 2 | F9: 3101378770 | G9: 5700000203600338 | H9: ⬛⬛⬛⬛⬛⬛⬛⬛ | I9: ⬛⬛⬛⬛⬛⬛⬛⬛ | J9: 3 | K9: 之女 | L9: 维吾尔族 | M9: 初中 | O9: 健康 | P9: 普通劳动力 | Q9: 乡（镇）内务工 | R9: 12 | S9: 是 | T9: 已脱贫（享受政策） | U9: 2018年底 | V9: 低保户 | W9: 缺技术 | X9: 否 | Y9: 是 | Z9: 13508 | AA9: ⬛⬛⬛⬛⬛⬛⬛⬛
A10: 8 | B10: 莎车县 | C10: 阿扎特巴格镇 | D10: 央阿格勒克村 | E10: 2 | F10: 3101379135 | G10: 310003802995 | H10: ⬛⬛⬛⬛⬛⬛⬛⬛ | I10: ⬛⬛⬛⬛⬛⬛⬛⬛ | J10: 5 | K10: 户主 | L10: 维吾尔族 | M10: 初中 | O10: 健康 | P10: 普通劳动力 | Q10: 乡（镇）内务工 | R10: 12 | S10: 是 | T10: 已脱贫（享受政策） | U10: 2018年底 | V10: 一般农户 | W10: 缺技术 | X10: 否 | Y10: 是 | Z10: 5236.6 | AA10: ⬛⬛⬛⬛⬛⬛⬛⬛
A11: 9 | B11: 莎车县 | C11: 阿扎特巴格镇 | D11: 央阿格勒克村 | E11: 2 | F11: 3101379135 | G11: 310003802996 | H11: ⬛⬛⬛⬛⬛⬛⬛⬛ | I11: ⬛⬛⬛⬛⬛⬛⬛⬛ | J11: 5 | K11: 配偶 | L11: 维吾尔族 | M11: 初中 | O11: 健康 | P11: 普通劳动力 | S11: 是 | T11: 已脱贫（享受政策） | U11: 2018年底 | V11: 一般农户 | W11: 缺技术 | X11: 否 | Y11: 是 | Z11: 5236.6 | AA11: ⬛⬛⬛⬛⬛⬛⬛⬛
A12: 10 | B12: 莎车县 | C12: 阿扎特巴格镇 | D12: 央阿格勒克村 | E12: 2 | F12: 3101379135 | G12: 310003802997 | H12: ⬛⬛⬛⬛⬛⬛⬛⬛ | I12: ⬛⬛⬛⬛⬛⬛⬛⬛ | J12: 5 | K12: 之子 | L12: 维吾尔族 | N12: 小学 | O12: 健康 | P12: 无劳动力 | R12: 0 | S12: 是 | T12: 已脱贫（享受政策） | U12: 2018年底 | V12: 一般农户 | W12: 缺技术 | X12: 否 | Y12: 是 | Z12: 5236.6 | AA12: ⬛⬛⬛⬛⬛⬛⬛⬛
A13: 11 | B13: 莎车县 | C13: 阿扎特巴格镇 | D13: 央阿格勒克村 | E13: 2 | F13: 3101379135 | G13: 5700000148501897 | H13: ⬛⬛⬛⬛⬛⬛⬛⬛ | I13: ⬛⬛⬛⬛⬛⬛⬛⬛ | J13: 5 | K13: 之子 | L13: 维吾尔族 | N13: 学龄前儿童 | O13: 健康 | P13: 无劳动力 | R13: 0 | S13: 是 | T13: 已脱贫（享受政策） | U13: 2018年底 | V13: 一般农户 | W13: 缺技术 | X13: 否 | Y13: 是 | Z13: 5236.6 | AA13: ⬛⬛⬛⬛⬛⬛⬛⬛
A14: 12 | B14: 莎车县 | C14: 阿扎特巴格镇 | D14: 央阿格勒克村 | E14: 2 | F14: 3101379135 | G14: 5700000389714792 | H14: ⬛⬛⬛⬛⬛⬛⬛⬛ | I14: ⬛⬛⬛⬛⬛⬛⬛⬛ | J14: 5 | K14: 之子 | L14: 维吾尔族 | N14: 学龄前儿童 | O14: 健康 | P14: 无劳动力 | S14: 是 | T14: 已脱贫（享受政策） | U14: 2018年底 | V14: 一般农户 | W14: 缺技术 | X14: 否 | Y14: 是 | Z14: 5236.6 | AA14: ⬛⬛⬛⬛⬛⬛⬛⬛
A15: 13 | B15: 莎车县 | C15: 阿扎特巴格镇 | D15: 央阿格勒克村 | E15: 1 | F15: 3101381438 | G15: 310003805723 | H15: ⬛⬛⬛⬛⬛⬛⬛⬛ | I15: ⬛⬛⬛⬛⬛⬛⬛⬛ | J15: 5 | K15: 户主 | L15: 维吾尔族 | M15: 初中 | O15: 健康 | P15: 普通劳动力 | Q15: 乡（镇）内务工 | R15: 1 | S15: 是 | T15: 已脱贫（享受政策） | U15: 2018年底 | V15: 一般农户 | W15: 缺技术 | X15: 否 | Y15: 是 | Z15: 9463.2 | AA15: ⬛⬛⬛⬛⬛⬛⬛⬛
A16: 14 | B16: 莎车县 | C16: 阿扎特巴格镇 | D16: 央阿格勒克村 | E16: 1 | F16: 3101381438 | G16: 310003805725 | H16: ⬛⬛⬛⬛⬛⬛⬛⬛ | I16: ⬛⬛⬛⬛⬛⬛⬛⬛ | J16: 5 | K16: 配偶 | L16: 维吾尔族 | M16: 初中 | O16: 健康 | P16: 普通劳动力 | R16: 0 | S16: 是 | T16: 已脱贫（享受政策） | U16: 2018年底 | V16: 一般农户 | W16: 缺技术 | X16: 否 | Y16: 是 | Z16: 9463.2 | AA16: ⬛⬛⬛⬛⬛⬛⬛⬛
A17: 15 | B17: 莎车县 | C17: 阿扎特巴格镇 | D17: 央阿格勒克村 | E17: 1 | F17: 3101381438 | G17: 310003805721 | H17: ⬛⬛⬛⬛⬛⬛⬛⬛ | I17: ⬛⬛⬛⬛⬛⬛⬛⬛ | J17: 5 | K17: 之子 | L17: 维吾尔族 | N17: 学龄前儿童 | O17: 健康 | P17: 无劳动力 | R17: 0 | S17: 是 | T17: 已脱贫（享受政策） | U17: 2018年底 | V17: 一般农户 | W17: 缺技术 | X17: 否 | Y17: 是 | Z17: 9463.2 | AA17: ⬛⬛⬛⬛⬛⬛⬛⬛
A18: 16 | B18: 莎车县 | C18: 阿扎特巴格镇 | D18: 央阿格勒克村 | E18: 1 | F18: 3101381438 | G18: 310003805722 | H18: ⬛⬛⬛⬛⬛⬛⬛⬛ | I18: ⬛⬛⬛⬛⬛⬛⬛⬛ | J18: 5 | K18: 之子 | L18: 维吾尔族 | N18: 小学 | O18: 健康 | P18: 无劳动力 | R18: 0 | S18: 是 | T18: 已脱贫（享受政策） | U18: 2018年底 | V18: 一般农户 | W18: 缺技术 | X18: 否 | Y18: 是 | Z18: 9463.2 | AA18: ⬛⬛⬛⬛⬛⬛⬛⬛
A19: 17 | B19: 莎车县 | C19: 阿扎特巴格镇 | D19: 央阿格勒克村 | E19: 1 | F19: 3101381438 | G19: 310003805724 | H19: ⬛⬛⬛⬛⬛⬛⬛⬛ | I19: ⬛⬛⬛⬛⬛⬛⬛⬛ | J19: 5 | K19: 之子 | L19: 维吾尔族 | N19: 学龄前儿童 | O19: 健康 | P19: 无劳动力 | R19: 0 | S19: 是 | T19: 已脱贫（享受政策） | U19: 2018年底 | V19: 一般农户 | W19: 缺技术 | X19: 否 | Y19: 是 | Z19: 9463.2 | AA19: ⬛⬛⬛⬛⬛⬛⬛⬛
A20: 18 | B20: 莎车县 | C20: 阿扎特巴格镇 | D20: 央阿格勒克村 | E20: 1 | F20: 3101382547 | G20: 310003754150 | H20: ⬛⬛⬛⬛⬛⬛⬛⬛ | I20: ⬛⬛⬛⬛⬛⬛⬛⬛ | J20: 4 | K20: 户主 | L20: 维吾尔族 | M20: 初中 | O20: 健康 | P20: 普通劳动力 | Q20: 乡（镇）内务工 | R20: 10 | S20: 是 | T20: 已脱贫（享受政策） | U20: 2018年底 | V20: 低保户 | W20: 缺技术 | X20: 否 | Y20: 是 | Z20: 7921.25 | AA20: ⬛⬛⬛⬛⬛⬛⬛⬛
A21: 19 | B21: 莎车县 | C21: 阿扎特巴格镇 | D21: 央阿格勒克村 | E21: 1 | F21: 3101382547 | G21: 310003754149 | H21: ⬛⬛⬛⬛⬛⬛⬛⬛ | I21: ⬛⬛⬛⬛⬛⬛⬛⬛ | J21: 4 | K21: 配偶 | L21: 维吾尔族 | M21: 初中 | O21: 健康 | P21: 普通劳动力 | S21: 是 | T21: 已脱贫（享受政策） | U21: 2018年底 | V21: 低保户 | W21: 缺技术 | X21: 否 | Y21: 是 | Z21: 7921.25 | AA21: ⬛⬛⬛⬛⬛⬛⬛⬛
A22: 20 | B22: 莎车县 | C22: 阿扎特巴格镇 | D22: 央阿格勒克村 | E22: 1 | F22: 3101382547 | G22: 310003754148 | H22: ⬛⬛⬛⬛⬛⬛⬛⬛ | I22: ⬛⬛⬛⬛⬛⬛⬛⬛ | J22: 4 | K22: 之子 | L22: 维吾尔族 | N22: 小学 | O22: 健康 | P22: 无劳动力 | R22: 0 | S22: 是 | T22: 已脱贫（享受政策） | U22: 2018年底 | V22: 低保户 | W22: 缺技术 | X22: 否 | Y22: 是 | Z22: 7921.25 | AA22: ⬛⬛⬛⬛⬛⬛⬛⬛
A23: 21 | B23: 莎车县 | C23: 阿扎特巴格镇 | D23: 央阿格勒克村 | E23: 1 | F23: 3101382547 | G23: 5700000148320803 | H23: ⬛⬛⬛⬛⬛⬛⬛⬛ | I23: ⬛⬛⬛⬛⬛⬛⬛⬛ | J23: 4 | K23: 之子 | L23: 维吾尔族 | N23: 学龄前儿童 | O23: 健康 | P23: 无劳动力 | R23: 0 | S23: 是 | T23: 已脱贫（享受政策） | U23: 2018年底 | V23: 低保户 | W23: 缺技术 | X23: 否 | Y23: 是 | Z23: 7921.25 | AA23: ⬛⬛⬛⬛⬛⬛⬛⬛
A24: 22 | B24: 莎车县 | C24: 阿扎特巴格镇 | D24: 央阿格勒克村 | E24: 3 | F24: 3101394282 | G24: 310003826841 | H24: ⬛⬛⬛⬛⬛⬛⬛⬛ | I24: ⬛⬛⬛⬛⬛⬛⬛⬛ | J24: 5 | K24: 户主 | L24: 维吾尔族 | M24: 小学 | O24: 健康 | P24: 普通劳动力 | R24: 0 | S24: 是 | T24: 已脱贫（享受政策） | U24: 2018年底 | V24: 低保户 | W24: 缺技术 | X24: 否 | Y24: 是 | Z24: 16004.3 | AA24: ⬛⬛⬛⬛⬛⬛⬛⬛
A25: 23 | B25: 莎车县 | C25: 阿扎特巴格镇 | D25: 央阿格勒克村 | E25: 3 | F25: 3101394282 | G25: 310003827516 | H25: ⬛⬛⬛⬛⬛⬛⬛⬛ | I25: ⬛⬛⬛⬛⬛⬛⬛⬛ | J25: 5 | K25: 之子 | L25: 维吾尔族 | M25: 初中 | O25: 健康 | P25: 普通劳动力 | Q25: 县外省内务工 | R25: 12 | S25: 是 | T25: 已脱贫（享受政策） | U25: 2018年底 | V25: 低保户 | W25: 缺技术 | X25: 否 | Y25: 是 | Z25: 16004.3 | AA25: ⬛⬛⬛⬛⬛⬛⬛⬛
A26: 24 | B26: 莎车县 | C26: 阿扎特巴格镇 | D26: 央阿格勒克村 | E26: 3 | F26: 3101394282 | G26: 310003827515 | H26: ⬛⬛⬛⬛⬛⬛⬛⬛ | I26: ⬛⬛⬛⬛⬛⬛⬛⬛ | J26: 5 | K26: 之儿媳 | L26: 维吾尔族 | M26: 初中 | O26: 健康 | P26: 普通劳动力 | S26: 是 | T26: 已脱贫（享受政策） | U26: 2018年底 | V26: 低保户 | W26: 缺技术 | X26: 否 | Y26: 是 | Z26: 16004.3 | AA26: ⬛⬛⬛⬛⬛⬛⬛⬛
A27: 25 | B27: 莎车县 | C27: 阿扎特巴格镇 | D27: 央阿格勒克村 | E27: 3 | F27: 3101394282 | G27: 310003827517 | H27: ⬛⬛⬛⬛⬛⬛⬛⬛ | I27: ⬛⬛⬛⬛⬛⬛⬛⬛ | J27: 5 | K27: 之孙子 | L27: 维吾尔族 | N27: 普通高中二年级 | O27: 残疾 | P27: 无劳动力 | R27: 0 | S27: 是 | T27: 已脱贫（享受政策） | U27: 2018年底 | V27: 低保户 | W27: 缺技术 | X27: 否 | Y27: 是 | Z27: 16004.3 | AA27: ⬛⬛⬛⬛⬛⬛⬛⬛ | AC27: 残疾
A28: 26 | B28: 莎车县 | C28: 阿扎特巴格镇 | D28: 央阿格勒克村 | E28: 3 | F28: 3101394282 | G28: 310003827518 | H28: ⬛⬛⬛⬛⬛⬛⬛⬛ | I28: ⬛⬛⬛⬛⬛⬛⬛⬛ | J28: 5 | K28: 之孙女 | L28: 维吾尔族 | N28: 小学 | O28: 健康 | P28: 无劳动力 | R28: 0 | S28: 是 | T28: 已脱贫（享受政策） | U28: 2018年底 | V28: 低保户 | W28: 缺技术 | X28: 否 | Y28: 是 | Z28: 16004.3 | AA28: ⬛⬛⬛⬛⬛⬛⬛⬛
A29: 27 | B29: 莎车县 | C29: 阿扎特巴格镇 | D29: 央阿格勒克村 | E29: 1 | F29: 3101397454 | G29: 310003803259 | H29: ⬛⬛⬛⬛⬛⬛⬛⬛ | I29: ⬛⬛⬛⬛⬛⬛⬛⬛ | J29: 1 | K29: 户主 | L29: 维吾尔族 | M29: 初中 | O29: 健康 | P29: 普通劳动力 | Q29: 乡（镇）内务工 | R29: 6 | S29: 是 | T29: 已脱贫（享受政策） | U29: 2018年底 | V29: 一般农户 | W29: 缺技术 | X29: 否 | Y29: 是 | Z29: 19000 | AA29: ⬛⬛⬛⬛⬛⬛⬛⬛
A30: 28 | B30: 莎车县 | C30: 阿扎特巴格镇 | D30: 央阿格勒克村 | E30: 1 | F30: 3101398667 | G30: 310003820457 | H30: ⬛⬛⬛⬛⬛⬛⬛⬛ | I30: ⬛⬛⬛⬛⬛⬛⬛⬛ | J30: 5 | K30: 户主 | L30: 维吾尔族 | M30: 初中 | O30: 健康 | P30: 普通劳动力 | Q30: 乡（镇）内务工 | R30: 12 | S30: 是 | T30: 未脱贫 | V30: 一般贫困户 | W30: 缺技术 | X30: 否 | Y30: 是 | Z30: 5717.6 | AA30: ⬛⬛⬛⬛⬛⬛⬛⬛
A31: 29 | B31: 莎车县 | C31: 阿扎特巴格镇 | D31: 央阿格勒克村 | E31: 1 | F31: 3101398667 | G31: 310003820455 | H31: ⬛⬛⬛⬛⬛⬛⬛⬛ | I31: ⬛⬛⬛⬛⬛⬛⬛⬛ | J31: 5 | K31: 配偶 | L31: 维吾尔族 | M31: 初中 | O31: 健康 | P31: 普通劳动力 | R31: 0 | S31: 是 | T31: 未脱贫 | V31: 一般贫困户 | W31: 缺技术 | X31: 否 | Y31: 是 | Z31: 5717.6 | AA31: ⬛⬛⬛⬛⬛⬛⬛⬛
A32: 30 | B32: 莎车县 | C32: 阿扎特巴格镇 | D32: 央阿格勒克村 | E32: 1 | F32: 3101398667 | G32: 310003820456 | H32: ⬛⬛⬛⬛⬛⬛⬛⬛ | I32: ⬛⬛⬛⬛⬛⬛⬛⬛ | J32: 5 | K32: 之女 | L32: 维吾尔族 | N32: 小学 | O32: 健康 | P32: 无劳动力 | R32: 0 | S32: 是 | T32: 未脱贫 | V32: 一般贫困户 | W32: 缺技术 | X32: 否 | Y32: 是 | Z32: 5717.6 | AA32: ⬛⬛⬛⬛⬛⬛⬛⬛
A33: 31 | B33: 莎车县 | C33: 阿扎特巴格镇 | D33: 央阿格勒克村 | E33: 1 | F33: 3101398667 | G33: 310003820458 | H33: ⬛⬛⬛⬛⬛⬛⬛⬛ | I33: ⬛⬛⬛⬛⬛⬛⬛⬛ | J33: 5 | K33: 之女 | L33: 维吾尔族 | N33: 普通高中二年级 | O33: 健康 | P33: 无劳动力 | R33: 0 | S33: 是 | T33: 未脱贫 | V33: 一般贫困户 | W33: 缺技术 | X33: 否 | Y33: 是 | Z33: 5717.6 | AA33: ⬛⬛⬛⬛⬛⬛⬛⬛
A34: 32 | B34: 莎车县 | C34: 阿扎特巴格镇 | D34: 央阿格勒克村 | E34: 1 | F34: 3101398667 | G34: 5700000203610119 | H34: ⬛⬛⬛⬛⬛⬛⬛⬛ | I34: ⬛⬛⬛⬛⬛⬛⬛⬛ | J34: 5 | K34: 之女 | L34: 维吾尔族 | N34: 学龄前儿童 | O34: 健康 | P34: 无劳动力 | R34: 0 | S34: 是 | T34: 未脱贫 | V34: 一般贫困户 | W34: 缺技术 | X34: 否 | Y34: 是 | Z34: 5717.6 | AA34: ⬛⬛⬛⬛⬛⬛⬛⬛
A35: 33 | B35: 莎车县 | C35: 阿扎特巴格镇 | D35: 央阿格勒克村 | E35: 2 | F35: 3101430227 | G35: 310003789540 | H35: ⬛⬛⬛⬛⬛⬛⬛⬛ | I35: ⬛⬛⬛⬛⬛⬛⬛⬛ | J35: 4 | K35: 户主 | L35: 维吾尔族 | M35: 初中 | O35: 健康 | P35: 普通劳动力 | Q35: 县外省内务工 | R35: 9 | S35: 是 | T35: 已脱贫（享受政策） | U35: 2018年底 | V35: 一般农户 | W35: 缺技术 | X35: 否 | Y35: 是 | Z35: 8946.5 | AA35: ⬛⬛⬛⬛⬛⬛⬛⬛
A36: 34 | B36: 莎车县 | C36: 阿扎特巴格镇 | D36: 央阿格勒克村 | E36: 2 | F36: 3101430227 | G36: 310003789538 | H36: ⬛⬛⬛⬛⬛⬛⬛⬛ | I36: ⬛⬛⬛⬛⬛⬛⬛⬛ | J36: 4 | K36: 配偶 | L36: 维吾尔族 | M36: 初中 | O36: 健康 | P36: 普通劳动力 | Q36: 县外省内务工 | R36: 9 | S36: 是 | T36: 已脱贫（享受政策） | U36: 2018年底 | V36: 一般农户 | W36: 缺技术 | X36: 否 | Y36: 是 | Z36: 8946.5 | AA36: ⬛⬛⬛⬛⬛⬛⬛⬛
A37: 35 | B37: 莎车县 | C37: 阿扎特巴格镇 | D37: 央阿格勒克村 | E37: 2 | F37: 3101430227 | G37: 5700000203613565 | H37: ⬛⬛⬛⬛⬛⬛⬛⬛ | I37: ⬛⬛⬛⬛⬛⬛⬛⬛ | J37: 4 | K37: 之子 | L37: 维吾尔族 | N37: 学龄前儿童 | O37: 健康 | P37: 无劳动力 | R37: 0 | S37: 是 | T37: 已脱贫（享受政策） | U37: 2018年底 | V37: 一般农户 | W37: 缺技术 | X37: 否 | Y37: 是 | Z37: 8946.5 | AA37: ⬛⬛⬛⬛⬛⬛⬛⬛
A38: 36 | B38: 莎车县 | C38: 阿扎特巴格镇 | D38: 央阿格勒克村 | E38: 2 | F38: 3101430227 | G38: 310003789543 | H38: ⬛⬛⬛⬛⬛⬛⬛⬛ | I38: ⬛⬛⬛⬛⬛⬛⬛⬛ | J38: 4 | K38: 之女 | L38: 维吾尔族 | N38: 小学 | O38: 健康 | P38: 无劳动力 | R38: 0 | S38: 是 | T38: 已脱贫（享受政策） | U38: 2018年底 | V38: 一般农户 | W38: 缺技术 | X38: 否 | Y38: 是 | Z38: 8946.5 | AA38: ⬛⬛⬛⬛⬛⬛⬛⬛
A39: 37 | B39: 莎车县 | C39: 阿扎特巴格镇 | D39: 央阿格勒克村 | E39: 2 | F39: 3101430837 | G39: 310003813375 | H39: ⬛⬛⬛⬛⬛⬛⬛⬛ | I39: ⬛⬛⬛⬛⬛⬛⬛⬛ | J39: 3 | K39: 户主 | L39: 维吾尔族 | M39: 初中 | O39: 健康 | P39: 普通劳动力 | Q39: 乡（镇）内务工 | R39: 9 | S39: 是 | T39: 已脱贫（享受政策） | U39: 2018年底 | V39: 一般农户 | W39: 缺技术 | X39: 否 | Y39: 是 | Z39: 11579.33 | AA39: ⬛⬛⬛⬛⬛⬛⬛⬛
A40: 38 | B40: 莎车县 | C40: 阿扎特巴格镇 | D40: 央阿格勒克村 | E40: 2 | F40: 3101430837 | G40: 310003814048 | H40: ⬛⬛⬛⬛⬛⬛⬛⬛ | I40: ⬛⬛⬛⬛⬛⬛⬛⬛ | J40: 3 | K40: 配偶 | L40: 维吾尔族 | M40: 初中 | O40: 健康 | P40: 普通劳动力 | R40: 0 | S40: 是 | T40: 已脱贫（享受政策） | U40: 2018年底 | V40: 一般农户 | W40: 缺技术 | X40: 否 | Y40: 是 | Z40: 11579.33 | AA40: ⬛⬛⬛⬛⬛⬛⬛⬛
...

Sheet 总人口
A1: 阿扎特巴格镇央阿格勒克（13）村人口总台账
A2: 序号 | B2: 人员状态 | C2: 姓名 | D2: 性别 | E2: 出生日期 | F2: 民族 | G2: 公民身份号码 | H2: 户籍详址 | I2: 户号 | J2: 与户主关系 | K2: 门楼详址 | L2: 门楼牌号 | M2: 是否为贫困户 | N2: 残疾情况 | O2: 低保金 | P2: slry | Q2: 备注
A3: 1 | B3: 在册 | C3: 麦麦提·玉斯音 | D3: 男 | E3: 1952-04-12 | F3: 维吾尔 | G3: 653125195204123811 | H3: 新疆莎车县阿扎提巴格乡央阿克勒克村3组125号 | I3: 653100000070830 | J3: 户主 | K3: 3组125号 | M3: 否 | P3: 担保
A4: 2 | B4: 在册 | C4: ⬛⬛⬛⬛⬛⬛⬛⬛ | D4: 女 | E4: 1983-01-10 | F4: 维吾尔 | G4: ⬛⬛⬛⬛⬛⬛⬛⬛ | H4: 新疆莎车县阿扎提巴格乡央阿克勒克村2组55号 | I4: 653100000071182 | J4: 户主 | K4: 2组55号 | M4: 是
A5: 3 | B5: 在册 | C5: ⬛⬛⬛⬛⬛⬛⬛⬛ | D5: 男 | E5: 1978-10-04 | F5: 维吾尔 | G5: ⬛⬛⬛⬛⬛⬛⬛⬛ | H5: 新疆莎车县阿扎提巴格乡央阿克勒克村2组55号 | I5: 653100000071182 | J5: 夫 | K5: 2组55号 | M5: 是
A6: 4 | B6: 在册 | C6: ⬛⬛⬛⬛⬛⬛⬛⬛ | D6: 男 | E6: 2007-05-18 | F6: 维吾尔 | G6: ⬛⬛⬛⬛⬛⬛⬛⬛ | H6: 新疆莎车县阿扎提巴格乡央阿克勒克村2组55号 | I6: 653100000071182 | J6: 子 | K6: 2组55号 | M6: 是
A7: 5 | B7: 在册 | C7: ⬛⬛⬛⬛⬛⬛⬛⬛ | D7: 女 | E7: 2017-07-10 | F7: 维吾尔 | G7: ⬛⬛⬛⬛⬛⬛⬛⬛ | H7: 新疆莎车县阿扎提巴格乡央阿克勒克村2组55号 | I7: 653100000071182 | J7: 女 | K7: 2组55号 | M7: 是
A8: 6 | B8: 在册 | C8: ⬛⬛⬛⬛⬛⬛⬛⬛ | D8: 男 | E8: 1980-10-15 | F8: 维吾尔 | G8: ⬛⬛⬛⬛⬛⬛⬛⬛ | H8: 新疆莎车县阿扎提巴格乡央阿克勒克村2组52号 | I8: 653100000079962 | J8: 户主 | K8: 2组52号 | M8: 是
A9: 7 | B9: 在册 | C9: ⬛⬛⬛⬛⬛⬛⬛⬛ | D9: 女 | E9: 1969-08-04 | F9: 维吾尔 | G9: ⬛⬛⬛⬛⬛⬛⬛⬛ | H9: 新疆莎车县阿扎提巴格乡央阿克勒克村2组52号 | I9: 653100000079962 | J9: 妻 | K9: 2组52号 | M9: 是
A10: 8 | B10: 在册 | C10: ⬛⬛⬛⬛⬛⬛⬛⬛ | D10: 女 | E10: 2001-12-23 | F10: 维吾尔 | G10: ⬛⬛⬛⬛⬛⬛⬛⬛ | H10: 新疆莎车县阿扎提巴格乡央阿克勒克村2组52号 | I10: 653100000079962 | J10: 女 | K10: 2组52号 | M10: 是
A11: 9 | B11: 在册 | C11: ⬛⬛⬛⬛⬛⬛⬛⬛ | D11: 男 | E11: 1979-10-25 | F11: 维吾尔 | G11: ⬛⬛⬛⬛⬛⬛⬛⬛ | H11: 新疆莎车县阿扎提巴格乡央阿克勒克村2组99号 | I11: 653100000091331 | J11: 户主 | K11: 2组99号 | M11: 是
A12: 10 | B12: 在册 | C12: ⬛⬛⬛⬛⬛⬛⬛⬛ | D12: 女 | E12: 1980-07-14 | F12: 维吾尔 | G12: ⬛⬛⬛⬛⬛⬛⬛⬛ | H12: 新疆莎车县阿扎提巴格乡央阿克勒克村2组99号 | I12: 653100000091331 | J12: 妻 | K12: 2组99号 | M12: 是
A13: 11 | B13: 在册 | C13: ⬛⬛⬛⬛⬛⬛⬛⬛ | D13: 男 | E13: 2000-06-29 | F13: 维吾尔 | G13: ⬛⬛⬛⬛⬛⬛⬛⬛ | H13: 新疆莎车县阿扎提巴格乡央阿克勒克村2组99号 | I13: 653100000091331 | J13: 子 | K13: 2组99号 | M13: 是
A14: 12 | B14: 在册 | C14: ⬛⬛⬛⬛⬛⬛⬛⬛ | D14: 女 | E14: 2012-02-29 | F14: 维吾尔 | G14: ⬛⬛⬛⬛⬛⬛⬛⬛ | H14: 新疆莎车县阿扎提巴格乡央阿克勒克村2组99号 | I14: 653100000091331 | J14: 女 | K14: 2组99号 | M14: 是
A15: 13 | B15: 在册 | C15: ⬛⬛⬛⬛⬛⬛⬛⬛ | D15: 女 | E15: 2014-11-20 | F15: 维吾尔 | G15: ⬛⬛⬛⬛⬛⬛⬛⬛ | H15: 新疆莎车县阿扎提巴格乡央阿克勒克村2组99号 | I15: 653100000091331 | J15: 二女 | K15: 2组99号 | M15: 是
... A19: 17 | B19: 在册 | C19: ⬛⬛⬛⬛⬛⬛⬛⬛ | D19: 女 | E19: 2009-04-15 | F19: 维吾尔 | G19: ⬛⬛⬛⬛⬛⬛⬛⬛ | H19: 新疆莎车县阿扎提巴格乡央阿克勒克村2组79号 | I19: 653100000093709 | J19: 女 | K19: 2组79号 | M19: 是
A20: 18 | B20: 在册 | C20: 艾麦尔·肉孜 | D20: 男 | E20: 1981-04-12 | F20: 维吾尔 | G20: 653125198104123834 | H20: 新疆莎车县阿扎提巴格乡央阿克勒克村2组76号 | I20: 653100000093710 | J20: 户主 | K20: 2组76号 | M20: 否 | P20: 收教
A21: 19 | B21: 在册 | C21: ⬛⬛⬛⬛⬛⬛⬛⬛ | D21: 女 | E21: 1989-01-13 | F21: 维吾尔 | G21: ⬛⬛⬛⬛⬛⬛⬛⬛ | H21: 新疆莎车县阿扎提巴格乡央阿克勒克村2组76号 | I21: 653100000093710 | J21: 妻 | K21: 2组76号 | M21: 否
A22: 20 | B22: 在册 | C22: ⬛⬛⬛⬛⬛⬛⬛⬛ | D22: 男 | E22: 2007-11-24 | F22: 维吾尔 | G22: ⬛⬛⬛⬛⬛⬛⬛⬛ | H22: 新疆莎车县阿扎提巴格乡央阿克勒克村2组76号 | I22: 653100000093710 | J22: 子 | K22: 2组76号 | M22: 否
A23: 21 | B23: 在册 | C23: ⬛⬛⬛⬛⬛⬛⬛⬛ | D23: 男 | E23: 2014-11-05 | F23: 维吾尔 | G23: ⬛⬛⬛⬛⬛⬛⬛⬛ | H23: 新疆莎车县阿扎提巴格乡央阿克勒克村2组76号 | I23: 653100000093710 | J23: 次子 | K23: 2组76号 | M23: 否
A24: 22 | B24: 在册 | C24: ⬛⬛⬛⬛⬛⬛⬛⬛ | D24: 男 | E24: 1994-04-28 | F24: 维吾尔 | G24: ⬛⬛⬛⬛⬛⬛⬛⬛ | H24: 新疆莎车县阿扎提巴格乡央阿克勒克村2号上100号 | I24: 653100000094581 | J24: 户主 | K24: 2号上100号 | M24: 是
A25: 23 | B25: 在册 | C25: ⬛⬛⬛⬛⬛⬛⬛⬛ | D25: 女 | E25: 1993-10-25 | F25: 维吾尔 | G25: ⬛⬛⬛⬛⬛⬛⬛⬛ | H25: 新疆莎车县阿扎提巴格乡央阿克勒克村2号上100号 | I25: 653100000094581 | J25: 妻 | K25: 2号上100号 | M25: 是
A26: 24 | B26: 在册 | C26: ⬛⬛⬛⬛⬛⬛⬛⬛ | D26: 男 | E26: 2013-07-22 | F26: 维吾尔 | G26: ⬛⬛⬛⬛⬛⬛⬛⬛ | H26: 新疆莎车县阿扎提巴格乡央阿克勒克村2号上100号 | I26: 653100000094581 | J26: 子 | K26: 2号上100号 | M26: 是
A27: 25 | B27: 在册 | C27: ⬛⬛⬛⬛⬛⬛⬛⬛ | D27: 男 | E27: 1979-06-09 | F27: 维吾尔 | G27: ⬛⬛⬛⬛⬛⬛⬛⬛ | H27: 新疆莎车县阿扎提巴格乡央阿克勒克村1组47号 | I27: 653100000094743 | J27: 户主 | K27: 1组47号 | M27: 是
A28: 26 | B28: 在册 | C28: ⬛⬛⬛⬛⬛⬛⬛⬛ | D28: 女 | E28: 1983-10-03 | F28: 维吾尔 | G28: ⬛⬛⬛⬛⬛⬛⬛⬛ | H28: 新疆莎车县阿扎提巴格乡央阿克勒克村1组47号 | I28: 653100000094743 | J28: 妻 | K28: 1组47号 | M28: 是
A29: 27 | B29: 在册 | C29: ⬛⬛⬛⬛⬛⬛⬛⬛ | D29: 男 | E29: 2008-10-14 | F29: 维吾尔 | G29: ⬛⬛⬛⬛⬛⬛⬛⬛ | H29: 新疆莎车县阿扎提巴格乡央阿克勒克村1组47号 | I29: 653100000094743 | J29: 子 | K29: 1组47号 | M29: 是
A30: 28 | B30: 在册 | C30: ⬛⬛⬛⬛⬛⬛⬛⬛ | D30: 男 | E30: 2015-04-19 | F30: 维吾尔 | G30: ⬛⬛⬛⬛⬛⬛⬛⬛ | H30: 新疆莎车县阿扎提巴格乡央阿克勒克村1组47号 | I30: 653100000094743 | J30: 子 | K30: 1组47号 | M30: 是
A31: 29 | B31: 在册 | C31: 阿布力米提·热合曼 | D31: 男 | E31: 1992-02-07 | F31: 维吾尔 | G31: 653125199202073855 | H31: 新疆莎车县阿扎提巴格乡央阿克勒克村4组120号 | I31: 653100000095667 | J31: 户主 | K31: 4组120号 | M31: 否 | P31: 收教
A32: 30 | B32: 在册 | C32: ⬛⬛⬛⬛⬛⬛⬛⬛ | D32: 女 | E32: 1991-05-14 | F32: 维吾尔 | G32: ⬛⬛⬛⬛⬛⬛⬛⬛ | H32: 新疆莎车县阿扎提巴格乡央阿克勒克村4组120号 | I32: 653100000095667 | J32: 妻 | K32: 4组120号 | M32: 否
A33: 31 | B33: 在册 | C33: ⬛⬛⬛⬛⬛⬛⬛⬛ | D33: 男 | E33: 2013-09-04 | F33: 维吾尔 | G33: ⬛⬛⬛⬛⬛⬛⬛⬛ | H33: 新疆莎车县阿扎提巴格乡央阿克勒克村4组120号 | I33: 653100000095667 | J33: 长子 | K33: 4组120号 | M33: 否
A34: 32 | B34: 在册 | C34: ⬛⬛⬛⬛⬛⬛⬛⬛ | D34: 女 | E34: 2011-05-10 | F34: 维吾尔 | G34: ⬛⬛⬛⬛⬛⬛⬛⬛ | H34: 新疆莎车县阿扎提巴格乡央阿克勒克村4组120号 | I34: 653100000095667 | J34: 女 | K34: 4组120号 | M34: 否
A35: 33 | B35: 在册 | C35: 麦麦提尼亚孜·克热木 | D35: 男 | E35: 1992-04-10 | F35: 维吾尔 | G35: 653125199204103851 | H35: 新疆莎车县阿扎提巴格乡央阿克勒克村4组42号 | I35: 653100000095771 | J35: 户主 | K35: 4组42号 | M35: 否 | P35: 收教
A36: 34 | B36: 在册 | C36: ⬛⬛⬛⬛⬛⬛⬛⬛ | D36: 女 | E36: 1990-11-14 | F36: 维吾尔 | G36: ⬛⬛⬛⬛⬛⬛⬛⬛ | H36: 新疆莎车县阿扎提巴格乡央阿克勒克村4组42号 | I36: 653100000095771 | J36: 妻 | K36: 4组42号 | M36: 否
A37: 35 | B37: 在册 | C37: ⬛⬛⬛⬛⬛⬛⬛⬛ | D37: 女 | E37: 2012-10-10 | F37: 维吾尔 | G37: ⬛⬛⬛⬛⬛⬛⬛⬛ | H37: 新疆莎车县阿扎提巴格乡央阿克勒克村4组42号 | I37: 653100000095771 | J37: 长女 | K37: 4组42号 | M37: 否
A38: 36 | B38: 在册 | C38: ⬛⬛⬛⬛⬛⬛⬛⬛ | D38: 女 | E38: 2012-10-10 | F38: 维吾尔 | G38: ⬛⬛⬛⬛⬛⬛⬛⬛ | H38: 新疆莎车县阿扎提巴格乡央阿克勒克村4组42号 | I38: 653100000095771 | J38: 二女 | K38: 4组42号 | M38: 否
A39: 37 | B39: 在册 | C39: ⬛⬛⬛⬛⬛⬛⬛⬛ | D39: 男 | E39: 1990-05-23 | F39: 维吾尔 | G39: ⬛⬛⬛⬛⬛⬛⬛⬛ | H39: 新疆莎车县阿扎提巴格乡央阿克勒克村1组48号 | I39: 653100000095774 | J39: 户主 | K39: 1组48号 | M39: 否
A40: 38 | B40: 在册 | C40: ⬛⬛⬛⬛⬛⬛⬛⬛ | D40: 女 | E40: 1991-06-07 | F40: 维吾尔 | G40: ⬛⬛⬛⬛⬛⬛⬛⬛ | H40: 新疆莎车县阿扎提巴格乡央阿克勒克村1组48号 | I40: 653100000095774 | J40: 妻 | K40: 1组48号 | M40: 否
A41: 39 | B41: 在册 | C41: ⬛⬛⬛⬛⬛⬛⬛⬛ | D41: 男 | E41: 2011-04-01 | F41: 维吾尔 | G41: ⬛⬛⬛⬛⬛⬛⬛⬛ | H41: 新疆莎车县阿扎提巴格乡央阿克勒克村1组48号 | I41: 653100000095774 | J41: 子 | K41: 1组48号 | M41: 否
A42: 40 | B42: 在册 | C42: ⬛⬛⬛⬛⬛⬛⬛⬛ | D42: 男 | E42: 1969-12-28 | F42: 维吾尔 | G42: ⬛⬛⬛⬛⬛⬛⬛⬛ | H42: 新疆莎车县阿扎提巴格乡央阿克勒克村1组98号 | I42: 653100000095781 | J42: 户主 | K42: 1组98号 | M42: 否
A43: 41 | B43: 在册 | C43: ⬛⬛⬛⬛⬛⬛⬛⬛ | D43: 女 | E43: 1987-03-18 | F43: 维吾尔 | G43: ⬛⬛⬛⬛⬛⬛⬛⬛ | H43: 新疆莎车县阿扎提巴格乡央阿克勒克村1组98号 | I43: 653100000095781 | J43: 妻 | K43: 1组98号 | M43: 否
...

Sheet Sheet3
A1: 阿扎特巴格镇央阿格勒克（13）村一般户台账
A2: 人编号 | B2: 人员状态 | C2: 姓名 | D2: 性别 | E2: 出生日期 | F2: 民族 | G2: 公民身份号码 | H2: 户籍详址 | I2: 户号 | J2: 与户主关系 | K2: 门楼详址 | L2: 门楼牌号 | M2: 残疾情况 | N2: 低保金 | O2: slry | P2: 大病、慢病、地方病 | Q2: 村组 | R2: 备注 | S2: 家庭年总纯收入 | T2: 家庭年人均纯收入
A3: 1 | B3: 在册 | C3: ⬛⬛⬛⬛⬛⬛⬛⬛ | D3: 男 | E3: 1990-05-23 | F3: 维吾尔 | G3: ⬛⬛⬛⬛⬛⬛⬛⬛ | H3: 新疆莎车县阿扎提巴格乡央阿克勒克村1组48号 | I3: 653100000095774 | J3: 户主 | K3: 1组48号 | L3: 1组48号 | M3: 否 | N3: 否 | P3: 否 | Q3: 13村1组 | R3: 担保 | S3: 31225 | T3: 10408
A4: 2 | B4: 在册 | C4: ⬛⬛⬛⬛⬛⬛⬛⬛ | D4: 女 | E4: 1991-06-07 | F4: 维吾尔 | G4: ⬛⬛⬛⬛⬛⬛⬛⬛ | H4: 新疆莎车县阿扎提巴格乡央阿克勒克村1组48号 | I4: 653100000095774 | J4: 妻 | K4: 1组48号 | L4: 1组48号 | M4: 否 | N4: 否 | P4: 否 | Q4: 13村1组 | S4: 31225 | T4: 10408
A5: 3 | B5: 在册 | C5: ⬛⬛⬛⬛⬛⬛⬛⬛ | D5: 男 | E5: 2011-04-01 | F5: 维吾尔 | G5: ⬛⬛⬛⬛⬛⬛⬛⬛ | H5: 新疆莎车县阿扎提巴格乡央阿克勒克村1组48号 | I5: 653100000095774 | J5: 子 | K5: 1组48号 | L5: 1组48号 | M5: 否 | N5: 否 | P5: 否 | Q5: 13村1组 | S5: 31225 | T5: 10408
A6: 4 | B6: 在册 | C6: ⬛⬛⬛⬛⬛⬛⬛⬛ | D6: 男 | E6: 1969-12-28 | F6: 维吾尔 | G6: ⬛⬛⬛⬛⬛⬛⬛⬛ | H6: 新疆莎车县阿扎提巴格乡央阿克勒克村1组98号 | I6: 653100000095781 | J6: 户主 | K6: 1组98号 | L6: 1组98号 | M6: 否 | N6: 否 | P6: 否 | Q6: 13村1组 | S6: 10570 | T6: 2642
A7: 5 | B7: 在册 | C7: ⬛⬛⬛⬛⬛⬛⬛⬛ | D7: 女 | E7: 1987-03-18 | F7: 维吾尔 | G7: ⬛⬛⬛⬛⬛⬛⬛⬛ | H7: 新疆莎车县阿扎提巴格乡央阿克勒克村1组98号 | I7: 653100000095781 | J7: 妻 | K7: 1组98号 | L7: 1组98号 | M7: 否 | N7: 否 | P7: 否 | Q7: 13村1组 | S7: 10570 | T7: 2642
A8: 6 | B8: 在册 | C8: ⬛⬛⬛⬛⬛⬛⬛⬛ | D8: 女 | E8: 2012-03-19 | F8: 维吾尔 | G8: ⬛⬛⬛⬛⬛⬛⬛⬛ | H8: 新疆莎车县阿扎提巴格乡央阿克勒克村1组98号 | I8: 653100000095781 | J8: 女 | K8: 1组98号 | L8: 1组98号 | M8: 否 | N8: 否 | P8: 否 | Q8: 13村1组 | S8: 10570 | T8: 2642
A9: 7 | B9: 在册 | C9: ⬛⬛⬛⬛⬛⬛⬛⬛ | D9: 女 | E9: 2008-06-30 | F9: 维吾尔 | G9: ⬛⬛⬛⬛⬛⬛⬛⬛ | H9: 新疆莎车县阿扎提巴格乡央阿克勒克村1组98号 | I9: 653100000095781 | J9: 女 | K9: 1组98号 | L9: 1组98号 | M9: 否 | N9: 否 | P9: 否 | Q9: 13村1组 | S9: 10570 | T9: 2642
A10: 8 | B10: 在册 | C10: ⬛⬛⬛⬛⬛⬛⬛⬛ | D10: 男 | E10: 1983-04-13 | F10: 维吾尔 | G10: ⬛⬛⬛⬛⬛⬛⬛⬛ | H10: 新疆莎车县阿扎提巴格乡央阿克勒克村1组47号 | I10: 653100000095973 | J10: 户主 | K10: 1组47号 | L10: 1组47号 | M10: 否 | N10: 否 | P10: 否 | Q10: 13村1组 | S10: 20955 | T10: 4191
A11: 9 | B11: 在册 | C11: ⬛⬛⬛⬛⬛⬛⬛⬛ | D11: 女 | E11: 1985-12-01 | F11: 维吾尔 | G11: ⬛⬛⬛⬛⬛⬛⬛⬛ | H11: 新疆莎车县阿扎提巴格乡央阿克勒克村1组47号 | I11: 653100000095973 | J11: 妻 | K11: 1组47号 | L11: 1组47号 | M11: 否 | N11: 否 | P11: 否 | Q11: 13村1组 | S11: 20955 | T11: 4191
A12: 10 | B12: 在册 | C12: ⬛⬛⬛⬛⬛⬛⬛⬛ | D12: 男 | E12: 2006-05-16 | F12: 维吾尔 | G12: ⬛⬛⬛⬛⬛⬛⬛⬛ | H12: 新疆莎车县阿扎提巴格乡央阿克勒克村1组47号 | I12: 653100000095973 | J12: 子 | K12: 1组47号 | L12: 1组47号 | M12: 否 | N12: 否 | P12: 否 | Q12: 13村1组 | S12: 20955 | T12: 4191
A13: 11 | B13: 在册 | C13: ⬛⬛⬛⬛⬛⬛⬛⬛ | D13: 女 | E13: 2008-08-05 | F13: 维吾尔 | G13: ⬛⬛⬛⬛⬛⬛⬛⬛ | H13: 新疆莎车县阿扎提巴格乡央阿克勒克村1组47号 | I13: 653100000095973 | J13: 女 | K13: 1组47号 | L13: 1组47号 | M13: 否 | N13: 否 | P13: 否 | Q13: 13村1组 | S13: 20955 | T13: 4191
A14: 12 | B14: 在册 | C14: ⬛⬛⬛⬛⬛⬛⬛⬛ | D14: 女 | E14: 2012-10-20 | F14: 维吾尔 | G14: ⬛⬛⬛⬛⬛⬛⬛⬛ | H14: 新疆莎车县阿扎提巴格乡央阿克勒克村1组47号 | I14: 653100000095973 | J14: 女 | K14: 1组47号 | L14: 1组47号 | M14: 否 | N14: 否 | P14: 否 | Q14: 13村1组 | S14: 20955 | T14: 4191
A15: 13 | B15: 在册 | C15: ⬛⬛⬛⬛⬛⬛⬛⬛ | D15: 女 | E15: 1991-05-10 | F15: 维吾尔 | G15: ⬛⬛⬛⬛⬛⬛⬛⬛ | H15: 新疆莎车县阿扎提巴格乡央阿克勒克村1组11号 | I15: 653100000919951 | J15: 户主 | K15: 1组11号 | L15: 1组11号 | M15: 否 | N15: 1800 | P15: 否 | Q15: 13村1组 | S15: 21600 | T15: 10800
A16: 14 | B16: 在册 | C16: ⬛⬛⬛⬛⬛⬛⬛⬛ | D16: 女 | E16: 2011-08-10 | F16: 维吾尔 | G16: ⬛⬛⬛⬛⬛⬛⬛⬛ | H16: 新疆莎车县阿扎提巴格乡央阿克勒克村1组11号 | I16: 653100000919951 | J16: 长女 | K16: 1组11号 | L16: 1组11号 | M16: 否 | N16: 1800 | P16: 否 | Q16: 13村1组 | S16: 21600 | T16: 10800
A17: 15 | B17: 在册 | C17: ⬛⬛⬛⬛⬛⬛⬛⬛ | D17: 男 | E17: 1991-02-10 | F17: 维吾尔 | G17: ⬛⬛⬛⬛⬛⬛⬛⬛ | H17: 新疆莎车县阿扎提巴格乡央阿克勒克村1组22号 | I17: 653100001094831 | J17: 户主 | K17: 1组22号 | L17: 1组22号 | M17: 否 | N17: 否 | P17: 否 | Q17: 13村1组 | S17: 36000
A18: 16 | B18: 在册 | C18: ⬛⬛⬛⬛⬛⬛⬛⬛ | D18: 女 | E18: 1995-06-15 | F18: 维吾尔 | G18: ⬛⬛⬛⬛⬛⬛⬛⬛ | H18: 新疆莎车县阿扎提巴格乡央阿克勒克村1组22号 | I18: 653100001094831 | J18: 妻 | K18: 1组22号 | L18: 1组22号 | M18: 否 | N18: 否 | P18: 否 | Q18: 13村1组 | S18: 36000
A19: 17 | B19: 在册 | C19: ⬛⬛⬛⬛⬛⬛⬛⬛ | D19: 女 | E19: 2017-04-30 | F19: 维吾尔 | G19: ⬛⬛⬛⬛⬛⬛⬛⬛ | H19: 新疆莎车县阿扎提巴格乡央阿克勒克村1组22号 | I19: 653100001094831 | J19: 女 | K19: 1组22号 | L19: 1组22号 | M19: 否 | N19: 否 | P19: 否 | Q19: 13村1组 | S19: 13130 | T19: 6550
A20: 18 | B20: 在册 | C20: 阿米娜木·阿布杜喀迪尔 | D20: 女 | E20: 1989-05-16 | F20: 维吾尔 | G20: 653125198905163828 | H20: 新疆莎车县阿扎提巴格乡央阿克勒克村1组22号 | I20: 653100001094831 | J20: 姐姐 | K20: 1组22号 | L20: 1组22号 | M20: 否 | N20: 否 | P20: 否 | Q20: 13村1组 | R20: 收教 | S20: 13130 | T20: 6550
A21: 19 | B21: 在册 | C21: 娜扎开提·艾山 | D21: 女 | E21: 2012-09-29 | F21: 维吾尔 | G21: 653125201209293826 | H21: 新疆莎车县阿扎提巴格乡央阿克勒克村1组22号 | I21: 653100001094831 | J21: 侄女 | K21: 1组22号 | L21: 1组22号 | M21: 否 | N21: 否 | P21: 否 | Q21: 13村1组 | R21: 收教
A22: 20 | B22: 在册 | C22: ⬛⬛⬛⬛⬛⬛⬛⬛ | D22: 男 | E22: 1950-01-09 | F22: 维吾尔 | G22: ⬛⬛⬛⬛⬛⬛⬛⬛ | H22: 新疆莎车县阿扎提巴格乡央阿克勒克村1组90号 | I22: 653100001121471 | J22: 户主 | K22: 1组90号 | L22: 1组90号 | M22: 否 | N22: 2124 | P22: 否 | Q22: 13村1组 | S22: 9895 | T22: =S22/2 -> 4947.5
A23: 21 | B23: 在册 | C23: ⬛⬛⬛⬛⬛⬛⬛⬛ | D23: 女 | E23: 1954-03-07 | F23: 维吾尔 | G23: ⬛⬛⬛⬛⬛⬛⬛⬛ | H23: 新疆莎车县阿扎提巴格乡央阿克勒克村1组90号 | I23: 653100001121471 | J23: 妻 | K23: 1组90号 | L23: 1组90号 | M23: 否 | N23: 2124 | P23: 慢性病 | Q23: 13村1组 | S23: 9895 | T23: =S23/2 -> 4947.5
A24: 22 | B24: 在册 | C24: ⬛⬛⬛⬛⬛⬛⬛⬛ | D24: 女 | E24: 1987-06-03 | F24: 维吾尔 | G24: ⬛⬛⬛⬛⬛⬛⬛⬛ | H24: 新疆莎车县阿扎提巴格乡央阿克勒克村1组58号 | I24: 653100001371391 | J24: 户主 | K24: 1组58号 | L24: 1组58号 | M24: 否 | N24: 否 | P24: 否 | Q24: 13村1组 | S24: 24000 | T24: 24000
A25: 23 | B25: 在册 | C25: ⬛⬛⬛⬛⬛⬛⬛⬛ | D25: 男 | E25: 1980-11-07 | F25: 维吾尔 | G25: ⬛⬛⬛⬛⬛⬛⬛⬛ | H25: 新疆莎车县阿扎提巴格乡央阿克勒克村1组47号 | I25: 653100002055051 | J25: 户主 | K25: 1组47号 | L25: 1组47号 | M25: 否 | N25: 否 | P25: 否 | Q25: 13村1组 | S25: 14389 | T25: 2398
A26: 24 | B26: 在册 | C26: ⬛⬛⬛⬛⬛⬛⬛⬛ | D26: 女 | E26: 1984-01-29 | F26: 维吾尔 | G26: ⬛⬛⬛⬛⬛⬛⬛⬛ | H26: 新疆莎车县阿扎提巴格乡央阿克勒克村1组47号 | I26: 653100002055051 | J26: 妻 | K26: 1组47号 | L26: 1组47号 | M26: 否 | N26: 否 | P26: 否 | Q26: 13村1组 | S26: 14389 | T26: 2398
A27: 25 | B27: 在册 | C27: ⬛⬛⬛⬛⬛⬛⬛⬛ | D27: 男 | E27: 2012-02-14 | F27: 维吾尔 | G27: ⬛⬛⬛⬛⬛⬛⬛⬛ | H27: 新疆莎车县阿扎提巴格乡央阿克勒克村1组47号 | I27: 653100002055051 | J27: 长子 | K27: 1组47号 | L27: 1组47号 | M27: 否 | N27: 否 | P27: 否 | Q27: 13村1组 | S27: 14389 | T27: 2398
A28: 26 | B28: 在册 | C28: ⬛⬛⬛⬛⬛⬛⬛⬛ | D28: 女 | E28: 2005-05-13 | F28: 维吾尔 | G28: ⬛⬛⬛⬛⬛⬛⬛⬛ | H28: 新疆莎车县阿扎提巴格乡央阿克勒克村1组47号 | I28: 653100002055051 | J28: 长女 | K28: 1组47号 | L28: 1组47号 | M28: 否 | N28: 否 | P28: 否 | Q28: 13村1组 | S28: 14389 | T28: 2398
A29: 27 | B29: 在册 | C29: ⬛⬛⬛⬛⬛⬛⬛⬛ | D29: 女 | E29: 2007-07-27 | F29: 维吾尔 | G29: ⬛⬛⬛⬛⬛⬛⬛⬛ | H29: 新疆莎车县阿扎提巴格乡央阿克勒克村1组47号 | I29: 653100002055051 | J29: 二女 | K29: 1组47号 | L29: 1组47号 | M29: 否 | N29: 否 | P29: 否 | Q29: 13村1组 | S29: 14389 | T29: 2398
A30: 28 | B30: 在册 | C30: ⬛⬛⬛⬛⬛⬛⬛⬛ | D30: 女 | E30: 2010-06-12 | F30: 维吾尔 | G30: ⬛⬛⬛⬛⬛⬛⬛⬛ | H30: 新疆莎车县阿扎提巴格乡央阿克勒克村1组47号 | I30: 653100002055051 | J30: 三女 | K30: 1组47号 | L30: 1组47号 | M30: 否 | N30: 否 | P30: 否 | Q30: 13村1组 | S30: 14389 | T30: 2398
A31: 29 | B31: 在册 | C31: ⬛⬛⬛⬛⬛⬛⬛⬛ | D31: 男 | E31: 1971-05-09 | F31: 维吾尔 | G31: ⬛⬛⬛⬛⬛⬛⬛⬛ | H31: 新疆莎车县阿扎提巴格乡央阿克勒克村1组11号 | I31: 653125719002411 | J31: 户主 | K31: 1组11号 | L31: 1组11号 | M31: 否 | N31: 否 | P31: 否 | Q31: 13村1组 | S31: 16220 | T31: 3244
A32: 30 | B32: 在册 | C32: ⬛⬛⬛⬛⬛⬛⬛⬛ | D32: 女 | E32: 1979-06-05 | F32: 维吾尔 | G32: ⬛⬛⬛⬛⬛⬛⬛⬛ | H32: 新疆莎车县阿扎提巴格乡央阿克勒克村1组11号 | I32: 653125719002411 | J32: 妻 | K32: 1组11号 | L32: 1组11号 | M32: 否 | N32: 否 | P32: 否 | Q32: 13村1组 | S32: 16220 | T32: 3244
A33: 31 | B33: 在册 | C33: ⬛⬛⬛⬛⬛⬛⬛⬛ | D33: 女 | E33: 2011-02-02 | F33: 维吾尔 | G33: ⬛⬛⬛⬛⬛⬛⬛⬛ | H33: 新疆莎车县阿扎提巴格乡央阿克勒克村1组11号 | I33: 653125719002411 | J33: 女 | K33: 1组11号 | L33: 1组11号 | M33: 否 | N33: 否 | P33: 否 | Q33: 13村1组 | S33: 16220 | T33: 3244
A34: 32 | B34: 在册 | C34: ⬛⬛⬛⬛⬛⬛⬛⬛ | D34: 女 | E34: 2002-03-10 | F34: 维吾尔 | G34: ⬛⬛⬛⬛⬛⬛⬛⬛ | H34: 新疆莎车县阿扎提巴格乡央阿克勒克村1组11号 | I34: 653125719002411 | J34: 女 | K34: 1组11号 | L34: 1组11号 | M34: 否 | N34: 否 | P34: 否 | Q34: 13村1组 | S34: 16220 | T34: 3244
A35: 33 | B35: 在册 | C35: ⬛⬛⬛⬛⬛⬛⬛⬛ | D35: 女 | E35: 1997-11-03 | F35: 维吾尔 | G35: ⬛⬛⬛⬛⬛⬛⬛⬛ | H35: 新疆莎车县阿扎提巴格乡央阿克勒克村1组11号 | I35: 653125719002411 | J35: 女 | K35: 1组11号 | L35: 1组11号 | M35: 否 | N35: 否 | P35: 否 | Q35: 13村1组 | S35: 16220 | T35: 3244
... A39: 37 | B39: 在册 | C39: ⬛⬛⬛⬛⬛⬛⬛⬛ | D39: 女 | E39: 1999-01-11 | F39: 维吾尔 | G39: ⬛⬛⬛⬛⬛⬛⬛⬛ | H39: 新疆莎车县阿扎提巴格乡央阿克勒克村1组3号 | I39: 653125719002414 | J39: 女 | K39: 1组3号 | L39: 1组3号 | M39: 否 | N39: 否 | P39: 否 | Q39: 13村1组 | S39: 15540 | T39: 3385
A40: 38 | B40: 在册 | C40: ⬛⬛⬛⬛⬛⬛⬛⬛ | D40: 男 | E40: 1960-01-10 | F40: 维吾尔 | G40: ⬛⬛⬛⬛⬛⬛⬛⬛ | H40: 新疆莎车县阿扎提巴格乡央阿克勒克村1组31号 | I40: 653125719002416 | J40: 户主 | K40: 1组31号 | L40: 1组31号 | M40: 否 | N40: 720 | P40: 否 | Q40: 13村1组 | S40: 11470 | T40: 5735
A41: 39 | B41: 在册 | C41: ⬛⬛⬛⬛⬛⬛⬛⬛ | D41: 女 | E41: 1964-05-15 | F41: 维吾尔 | G41: ⬛⬛⬛⬛⬛⬛⬛⬛ | H41: 新疆莎车县阿扎提巴格乡央阿克勒克村1组31号 | I41: 653125719002416 | J41: 妻 | K41: 1组31号 | L41: 1组31号 | M41: 否 | N41: 720 | P41: 慢性病 | Q41: 13村1组 | S41: 11470 | T41: 5735
A42: 40 | B42: 在册 | C42: ⬛⬛⬛⬛⬛⬛⬛⬛ | D42: 男 | E42: 1965-03-29 | F42: 维吾尔 | G42: ⬛⬛⬛⬛⬛⬛⬛⬛ | H42: 新疆莎车县阿扎提巴格乡央阿克勒克村1组25号 | I42: 653125719002418 | J42: 户主 | K42: 1组25号 | L42: 1组25号 | M42: 否 | N42: 否 | P42: 否 | Q42: 13村1组 | S42: 15086 | T42: 3017
A43: 41 | B43: 在册 | C43: ⬛⬛⬛⬛⬛⬛⬛⬛ | D43: 女 | E43: 1973-05-01 | F43: 维吾尔 | G43: ⬛⬛⬛⬛⬛⬛⬛⬛ | H43: 新疆莎车县阿扎提巴格乡央阿克勒克村1组25号 | I43: 653125719002418 | J43: 妻 | K43: 1组25号 | L43: 1组25号 | M43: 否 | N43: 否 | P43: 否 | Q43: 13村1组 | S43: 15086 | T43: 3017
...
