Workbook

Sheet 一般户
A1: 阿扎特巴格镇央阿格勒克（13）村一般户台账
A2: 人编号 | B2: 人员状态 | C2: 姓名 | D2: 性别 | E2: 出生日期 | F2: 民族 | G2: 公民身份号码 | H2: 户籍详址 | I2: 户号 | J2: 与户主关系 | K2: 门楼详址 | L2: 门楼牌号 | M2: 残疾情况 | N2: 低保金 | O2: slry | P2: 大病、慢病、地方病 | Q2: 村组 | R2: 备注 | S2: 家庭年总纯收入 | T2: 家庭年人均纯收入
A3: 1 | B3: 在册 | C3: 麦麦提·玉斯音 | D3: 男 | E3: 1952-04-12 | F3: 维吾尔 | G3: 653125195204123811 | H3: 新疆莎车县阿扎提巴格乡央阿克勒克村3组125号 | I3: 653100000070830 | J3: 户主 | K3: 3组125号 | O3: 担保 | S3: 4320 | T3: 4320
A4: 2 | B4: 在册 | C4: 艾麦尔·肉孜 | D4: 男 | E4: 1981-04-12 | F4: 维吾尔 | G4: 653125198104123834 | H4: 新疆莎车县阿扎提巴格乡央阿克勒克村2组76号 | I4: 653100000093710 | J4: 户主 | K4: 2组76号 | O4: 收教 | S4: 23820 | T4: 5955
A5: 3 | B5: 在册 | C5: ⬛⬛⬛⬛⬛⬛⬛⬛ | D5: 女 | E5: 1989-01-13 | F5: 维吾尔 | G5: ⬛⬛⬛⬛⬛⬛⬛⬛ | H5: 新疆莎车县阿扎提巴格乡央阿克勒克村2组76号 | I5: 653100000093710 | J5: 妻 | K5: 2组76号 | S5: 23820 | T5: 5955
A6: 4 | B6: 在册 | C6: ⬛⬛⬛⬛⬛⬛⬛⬛ | D6: 男 | E6: 2007-11-24 | F6: 维吾尔 | G6: ⬛⬛⬛⬛⬛⬛⬛⬛ | H6: 新疆莎车县阿扎提巴格乡央阿克勒克村2组76号 | I6: 653100000093710 | J6: 子 | K6: 2组76号 | S6: 23820 | T6: 5955
A7: 5 | B7: 在册 | C7: ⬛⬛⬛⬛⬛⬛⬛⬛ | D7: 男 | E7: 2014-11-05 | F7: 维吾尔 | G7: ⬛⬛⬛⬛⬛⬛⬛⬛ | H7: 新疆莎车县阿扎提巴格乡央阿克勒克村2组76号 | I7: 653100000093710 | J7: 次子 | K7: 2组76号 | S7: 23820 | T7: 5955
A8: 6 | B8: 在册 | C8: 阿布力米提·热合曼 | D8: 男 | E8: 1992-02-07 | F8: 维吾尔 | G8: 653125199202073855 | H8: 新疆莎车县阿扎提巴格乡央阿克勒克村4组120号 | I8: 653100000095667 | J8: 户主 | K8: 4组120号 | O8: 收教 | S8: 21836 | T8: 5459
A9: 7 | B9: 在册 | C9: ⬛⬛⬛⬛⬛⬛⬛⬛ | D9: 女 | E9: 1991-05-14 | F9: 维吾尔 | G9: ⬛⬛⬛⬛⬛⬛⬛⬛ | H9: 新疆莎车县阿扎提巴格乡央阿克勒克村4组120号 | I9: 653100000095667 | J9: 妻 | K9: 4组120号 | S9: 21836 | T9: 5459
A10: 8 | B10: 在册 | C10: ⬛⬛⬛⬛⬛⬛⬛⬛ | D10: 男 | E10: 2013-09-04 | F10: 维吾尔 | G10: ⬛⬛⬛⬛⬛⬛⬛⬛ | H10: 新疆莎车县阿扎提巴格乡央阿克勒克村4组120号 | I10: 653100000095667 | J10: 长子 | K10: 4组120号 | S10: 21836 | T10: 5459
A11: 9 | B11: 在册 | C11: ⬛⬛⬛⬛⬛⬛⬛⬛ | D11: 女 | E11: 2011-05-10 | F11: 维吾尔 | G11: ⬛⬛⬛⬛⬛⬛⬛⬛ | H11: 新疆莎车县阿扎提巴格乡央阿克勒克村4组120号 | I11: 653100000095667 | J11: 女 | K11: 4组120号 | S11: 21836 | T11: 5459
A12: 10 | B12: 在册 | C12: 麦麦提尼亚孜·克热木 | D12: 男 | E12: 1992-04-10 | F12: 维吾尔 | G12: 653125199204103851 | H12: 新疆莎车县阿扎提巴格乡央阿克勒克村4组42号 | I12: 653100000095771 | J12: 户主 | K12: 4组42号 | O12: 收教 | S12: 25576 | T12: 6394
A13: 11 | B13: 在册 | C13: ⬛⬛⬛⬛⬛⬛⬛⬛ | D13: 女 | E13: 1990-11-14 | F13: 维吾尔 | G13: ⬛⬛⬛⬛⬛⬛⬛⬛ | H13: 新疆莎车县阿扎提巴格乡央阿克勒克村4组42号 | I13: 653100000095771 | J13: 妻 | K13: 4组42号 | S13: 25576 | T13: 6394
A14: 12 | B14: 在册 | C14: ⬛⬛⬛⬛⬛⬛⬛⬛ | D14: 女 | E14: 2012-10-10 | F14: 维吾尔 | G14: ⬛⬛⬛⬛⬛⬛⬛⬛ | H14: 新疆莎车县阿扎提巴格乡央阿克勒克村4组42号 | I14: 653100000095771 | J14: 长女 | K14: 4组42号 | S14: 25576 | T14: 6394
A15: 13 | B15: 在册 | C15: ⬛⬛⬛⬛⬛⬛⬛⬛ | D15: 女 | E15: 2012-10-10 | F15: 维吾尔 | G15: ⬛⬛⬛⬛⬛⬛⬛⬛ | H15: 新疆莎车县阿扎提巴格乡央阿克勒克村4组42号 | I15: 653100000095771 | J15: 二女 | K15: 4组42号 | S15: 25576 | T15: 6394
A16: 14 | B16: 在册 | C16: ⬛⬛⬛⬛⬛⬛⬛⬛ | D16: 男 | E16: 1990-05-23 | F16: 维吾尔 | G16: ⬛⬛⬛⬛⬛⬛⬛⬛ | H16: 新疆莎车县阿扎提巴格乡央阿克勒克村1组48号 | I16: 653100000095774 | J16: 户主 | K16: 1组48号 | S16: 31225 | T16: 10408
A17: 15 | B17: 在册 | C17: ⬛⬛⬛⬛⬛⬛⬛⬛ | D17: 女 | E17: 1991-06-07 | F17: 维吾尔 | G17: ⬛⬛⬛⬛⬛⬛⬛⬛ | H17: 新疆莎车县阿扎提巴格乡央阿克勒克村1组48号 | I17: 653100000095774 | J17: 妻 | K17: 1组48号 | S17: 31225 | T17: 10408
A18: 16 | B18: 在册 | C18: ⬛⬛⬛⬛⬛⬛⬛⬛ | D18: 男 | E18: 2011-04-01 | F18: 维吾尔 | G18: ⬛⬛⬛⬛⬛⬛⬛⬛ | H18: 新疆莎车县阿扎提巴格乡央阿克勒克村1组48号 | I18: 653100000095774 | J18: 子 | K18: 1组48号 | S18: 31225 | T18: 10408
A19: 17 | B19: 在册 | C19: ⬛⬛⬛⬛⬛⬛⬛⬛ | D19: 男 | E19: 1969-12-28 | F19: 维吾尔 | G19: ⬛⬛⬛⬛⬛⬛⬛⬛ | H19: 新疆莎车县阿扎提巴格乡央阿克勒克村1组98号 | I19: 653100000095781 | J19: 户主 | K19: 1组98号 | S19: 20570 | T19: 5142.5
A20: 18 | B20: 在册 | C20: ⬛⬛⬛⬛⬛⬛⬛⬛ | D20: 女 | E20: 1987-03-18 | F20: 维吾尔 | G20: ⬛⬛⬛⬛⬛⬛⬛⬛ | H20: 新疆莎车县阿扎提巴格乡央阿克勒克村1组98号 | I20: 653100000095781 | J20: 妻 | K20: 1组98号 | S20: 20570 | T20: 5142.5
A21: 19 | B21: 在册 | C21: ⬛⬛⬛⬛⬛⬛⬛⬛ | D21: 女 | E21: 2012-03-19 | F21: 维吾尔 | G21: ⬛⬛⬛⬛⬛⬛⬛⬛ | H21: 新疆莎车县阿扎提巴格乡央阿克勒克村1组98号 | I21: 653100000095781 | J21: 女 | K21: 1组98号 | S21: 20570 | T21: 5142.5
A22: 20 | B22: 在册 | C22: ⬛⬛⬛⬛⬛⬛⬛⬛ | D22: 女 | E22: 2008-06-30 | F22: 维吾尔 | G22: ⬛⬛⬛⬛⬛⬛⬛⬛ | H22: 新疆莎车县阿扎提巴格乡央阿克勒克村1组98号 | I22: 653100000095781 | J22: 女 | K22: 1组98号 | S22: 20570 | T22: 5142.5
A23: 21 | B23: 在册 | C23: ⬛⬛⬛⬛⬛⬛⬛⬛ | D23: 男 | E23: 1985-12-07 | F23: 维吾尔 | G23: ⬛⬛⬛⬛⬛⬛⬛⬛ | H23: 新疆莎车县阿扎提巴格乡央阿克勒克村2组59号 | I23: 653100000095937 | J23: 户主 | K23: 2组59号 | S23: 13130 | T23: 6550
A24: 22 | B24: 在册 | C24: 合丽其·艾麦提 | D24: 女 | E24: 1989-02-19 | F24: 维吾尔 | G24: 653125198902193829 | H24: 新疆莎车县阿扎提巴格乡央阿克勒克村2组59号 | I24: 653100000095937 | J24: 妻 | K24: 2组59号 | O24: 收教 | S24: 13130 | T24: 6550
A25: 23 | B25: 在册 | C25: 努尔艾合麦提·萨迪尔 | D25: 男 | E25: 1990-03-04 | F25: 维吾尔 | G25: 653125199003043856 | H25: 新疆莎车县阿扎提巴格乡央阿克勒克村4组37号 | I25: 653100000095942 | J25: 户主 | K25: 4组37号 | O25: 收教 | S25: 20216 | T25: 5054
A26: 24 | B26: 在册 | C26: ⬛⬛⬛⬛⬛⬛⬛⬛ | D26: 女 | E26: 1991-11-02 | F26: 维吾尔 | G26: ⬛⬛⬛⬛⬛⬛⬛⬛ | H26: 新疆莎车县阿扎提巴格乡央阿克勒克村4组37号 | I26: 653100000095942 | J26: 妻 | K26: 4组37号 | S26: 20216 | T26: 5054
A27: 25 | B27: 在册 | C27: ⬛⬛⬛⬛⬛⬛⬛⬛ | D27: 男 | E27: 2009-11-18 | F27: 维吾尔 | G27: ⬛⬛⬛⬛⬛⬛⬛⬛ | H27: 新疆莎车县阿扎提巴格乡央阿克勒克村4组37号 | I27: 653100000095942 | J27: 子 | K27: 4组37号 | S27: 20216 | T27: 5054
A28: 26 | B28: 在册 | C28: ⬛⬛⬛⬛⬛⬛⬛⬛ | D28: 女 | E28: 2014-12-08 | F28: 维吾尔 | G28: ⬛⬛⬛⬛⬛⬛⬛⬛ | H28: 新疆莎车县阿扎提巴格乡央阿克勒克村4组37号 | I28: 653100000095942 | J28: 女 | K28: 4组37号 | S28: 20216 | T28: 5054
A29: 27 | B29: 在册 | C29: ⬛⬛⬛⬛⬛⬛⬛⬛ | D29: 男 | E29: 1983-01-08 | F29: 维吾尔 | G29: ⬛⬛⬛⬛⬛⬛⬛⬛ | H29: 新疆莎车县阿扎提巴格乡央阿克勒克村3组43号 | I29: 653100000095944 | J29: 户主 | K29: 3组43号 | S29: 97000 | T29: 19400
A30: 28 | B30: 在册 | C30: ⬛⬛⬛⬛⬛⬛⬛⬛ | D30: 女 | E30: 1980-08-22 | F30: 维吾尔 | G30: ⬛⬛⬛⬛⬛⬛⬛⬛ | H30: 新疆莎车县阿扎提巴格乡央阿克勒克村3组43号 | I30: 653100000095944 | J30: 妻 | K30: 3组43号 | S30: 97000 | T30: 19400
A31: 29 | B31: 在册 | C31: ⬛⬛⬛⬛⬛⬛⬛⬛ | D31: 男 | E31: 2011-12-10 | F31: 维吾尔 | G31: ⬛⬛⬛⬛⬛⬛⬛⬛ | H31: 新疆莎车县阿扎提巴格乡央阿克勒克村3组43号 | I31: 653100000095944 | J31: 长子 | K31: 3组43号 | S31: 97000 | T31: 19400
A32: 30 | B32: 在册 | C32: ⬛⬛⬛⬛⬛⬛⬛⬛ | D32: 女 | E32: 2004-09-15 | F32: 维吾尔 | G32: ⬛⬛⬛⬛⬛⬛⬛⬛ | H32: 新疆莎车县阿扎提巴格乡央阿克勒克村3组43号 | I32: 653100000095944 | J32: 女 | K32: 3组43号 | S32: 97000 | T32: 19400
A33: 31 | B33: 在册 | C33: ⬛⬛⬛⬛⬛⬛⬛⬛ | D33: 女 | E33: 2011-12-10 | F33: 维吾尔 | G33: ⬛⬛⬛⬛⬛⬛⬛⬛ | H33: 新疆莎车县阿扎提巴格乡央阿克勒克村3组43号 | I33: 653100000095944 | J33: 二女 | K33: 3组43号 | S33: 97000 | T33: 19400
A34: 32 | B34: 在册 | C34: ⬛⬛⬛⬛⬛⬛⬛⬛ | D34: 男 | E34: 1980-01-17 | F34: 维吾尔 | G34: ⬛⬛⬛⬛⬛⬛⬛⬛ | H34: 新疆莎车县阿扎提巴格乡央阿克勒克村4组39号 | I34: 653100000095946 | J34: 户主 | K34: 4组39号 | S34: 19648 | T34: 4912
A35: 33 | B35: 在册 | C35: ⬛⬛⬛⬛⬛⬛⬛⬛ | D35: 女 | E35: 1981-06-10 | F35: 维吾尔 | G35: ⬛⬛⬛⬛⬛⬛⬛⬛ | H35: 新疆莎车县阿扎提巴格乡央阿克勒克村4组39号 | I35: 653100000095946 | J35: 妻 | K35: 4组39号 | S35: 19648 | T35: 4912
A36: 34 | B36: 在册 | C36: ⬛⬛⬛⬛⬛⬛⬛⬛ | D36: 男 | E36: 2008-12-04 | F36: 维吾尔 | G36: ⬛⬛⬛⬛⬛⬛⬛⬛ | H36: 新疆莎车县阿扎提巴格乡央阿克勒克村4组39号 | I36: 653100000095946 | J36: 子 | K36: 4组39号 | S36: 19648 | T36: 4912
A37: 35 | B37: 在册 | C37: ⬛⬛⬛⬛⬛⬛⬛⬛ | D37: 女 | E37: 2013-11-12 | F37: 维吾尔 | G37: ⬛⬛⬛⬛⬛⬛⬛⬛ | H37: 新疆莎车县阿扎提巴格乡央阿克勒克村4组39号 | I37: 653100000095946 | J37: 长女 | K37: 4组39号 | S37: 19648 | T37: 4912
... A41: 39 | B41: 在册 | C41: ⬛⬛⬛⬛⬛⬛⬛⬛ | D41: 女 | E41: 2015-10-29 | F41: 维吾尔 | G41: ⬛⬛⬛⬛⬛⬛⬛⬛ | H41: 新疆莎车县阿扎提巴格乡央阿克勒克村3组41号 | I41: 653100000095949 | J41: 女 | K41: 3组41号 | S41: 28660 | T41: 7165
A42: 40 | B42: 在册 | C42: ⬛⬛⬛⬛⬛⬛⬛⬛ | D42: 男 | E42: 1983-04-13 | F42: 维吾尔 | G42: ⬛⬛⬛⬛⬛⬛⬛⬛ | H42: 新疆莎车县阿扎提巴格乡央阿克勒克村1组47号 | I42: 653100000095973 | J42: 户主 | K42: 1组47号 | Q42: 七类户（大型农业机械） | S42: 25955 | T42: 5191
A43: 41 | B43: 在册 | C43: ⬛⬛⬛⬛⬛⬛⬛⬛ | D43: 女 | E43: 1985-12-01 | F43: 维吾尔 | G43: ⬛⬛⬛⬛⬛⬛⬛⬛ | H43: 新疆莎车县阿扎提巴格乡央阿克勒克村1组47号 | I43: 653100000095973 | J43: 妻 | K43: 1组47号 | Q43: 七类户（大型农业机械） | S43: 25955 | T43: 5191
A44: 42 | B44: 在册 | C44: ⬛⬛⬛⬛⬛⬛⬛⬛ | D44: 男 | E44: 2006-05-16 | F44: 维吾尔 | G44: ⬛⬛⬛⬛⬛⬛⬛⬛ | H44: 新疆莎车县阿扎提巴格乡央阿克勒克村1组47号 | I44: 653100000095973 | J44: 子 | K44: 1组47号 | Q44: 七类户（大型农业机械） | S44: 25955 | T44: 5191
A45: 43 | B45: 在册 | C45: ⬛⬛⬛⬛⬛⬛⬛⬛ | D45: 女 | E45: 2008-08-05 | F45: 维吾尔 | G45: ⬛⬛⬛⬛⬛⬛⬛⬛ | H45: 新疆莎车县阿扎提巴格乡央阿克勒克村1组47号 | I45: 653100000095973 | J45: 女 | K45: 1组47号 | Q45: 七类户（大型农业机械） | S45: 25955 | T45: 5191
A46: 44 | B46: 在册 | C46: ⬛⬛⬛⬛⬛⬛⬛⬛ | D46: 女 | E46: 2012-10-20 | F46: 维吾尔 | G46: ⬛⬛⬛⬛⬛⬛⬛⬛ | H46: 新疆莎车县阿扎提巴格乡央阿克勒克村1组47号 | I46: 653100000095973 | J46: 女 | K46: 1组47号 | Q46: 七类户（大型农业机械） | S46: 25955 | T46: 5191
A47: 45 | B47: 在册 | C47: ⬛⬛⬛⬛⬛⬛⬛⬛ | D47: 男 | E47: 1988-10-05 | F47: 维吾尔 | G47: ⬛⬛⬛⬛⬛⬛⬛⬛ | H47: 新疆莎车县阿扎提巴格乡央阿克勒克村2组65号 | I47: 653100000099094 | J47: 户主 | K47: 2组65号 | S47: 20953 | T47: 5238.25
A48: 46 | B48: 在册 | C48: ⬛⬛⬛⬛⬛⬛⬛⬛ | D48: 女 | E48: 1985-09-17 | F48: 维吾尔 | G48: ⬛⬛⬛⬛⬛⬛⬛⬛ | H48: 新疆莎车县阿扎提巴格乡央阿克勒克村2组65号 | I48: 653100000099094 | J48: 妻 | K48: 2组65号 | S48: 20953 | T48: 5238.25
A49: 47 | B49: 在册 | C49: ⬛⬛⬛⬛⬛⬛⬛⬛ | D49: 男 | E49: 2010-11-21 | F49: 维吾尔 | G49: ⬛⬛⬛⬛⬛⬛⬛⬛ | H49: 新疆莎车县阿扎提巴格乡央阿克勒克村2组65号 | I49: 653100000099094 | J49: 子 | K49: 2组65号 | S49: 20953 | T49: 5238.25
A50: 48 | B50: 在册 | C50: ⬛⬛⬛⬛⬛⬛⬛⬛ | D50: 女 | E50: 2016-03-17 | F50: 维吾尔 | G50: ⬛⬛⬛⬛⬛⬛⬛⬛ | H50: 新疆莎车县阿扎提巴格乡央阿克勒克村2组65号 | I50: 653100000099094 | J50: 女 | K50: 2组65号 | S50: 20953 | T50: 5238.25
A51: 49 | B51: 在册 | C51: ⬛⬛⬛⬛⬛⬛⬛⬛ | D51: 男 | E51: 1989-05-17 | F51: 维吾尔 | G51: ⬛⬛⬛⬛⬛⬛⬛⬛ | H51: 新疆莎车县阿扎提巴格乡央阿克勒克村4组42号 | I51: 653100000101415 | J51: 户主 | K51: 4组42号 | S51: 21000 | T51: 5250
A52: 50 | B52: 在册 | C52: ⬛⬛⬛⬛⬛⬛⬛⬛ | D52: 女 | E52: 1994-11-15 | F52: 维吾尔 | G52: ⬛⬛⬛⬛⬛⬛⬛⬛ | H52: 新疆莎车县阿扎提巴格乡央阿克勒克村4组42号 | I52: 653100000101415 | J52: 妻 | K52: 4组42号 | S52: 21000 | T52: 5250
A53: 51 | B53: 在册 | C53: ⬛⬛⬛⬛⬛⬛⬛⬛ | D53: 男 | E53: 2010-04-09 | F53: 维吾尔 | G53: ⬛⬛⬛⬛⬛⬛⬛⬛ | H53: 新疆莎车县阿扎提巴格乡央阿克勒克村4组42号 | I53: 653100000101415 | J53: 子 | K53: 4组42号 | S53: 21000 | T53: 5250
A54: 52 | B54: 在册 | C54: ⬛⬛⬛⬛⬛⬛⬛⬛ | D54: 男 | E54: 2014-11-27 | F54: 维吾尔 | G54: ⬛⬛⬛⬛⬛⬛⬛⬛ | H54: 新疆莎车县阿扎提巴格乡央阿克勒克村4组42号 | I54: 653100000101415 | J54: 次子 | K54: 4组42号 | S54: 21000 | T54: 5250
A55: 53 | B55: 在册 | C55: ⬛⬛⬛⬛⬛⬛⬛⬛ | D55: 男 | E55: 1992-02-27 | F55: 维吾尔 | G55: ⬛⬛⬛⬛⬛⬛⬛⬛ | H55: 新疆莎车县阿扎提巴格乡央阿克勒克村4组44号 | I55: 653100000107356 | J55: 户主 | K55: 4组44号 | S55: 5025 | T55: 5025
A56: 54 | B56: 在册 | C56: ⬛⬛⬛⬛⬛⬛⬛⬛ | D56: 男 | E56: 1981-03-15 | F56: 维吾尔 | G56: ⬛⬛⬛⬛⬛⬛⬛⬛ | H56: 新疆莎车县阿扎提巴格乡央阿克勒克村3组11号 | I56: 653100000919231 | J56: 户主 | K56: 3组11号 | S56: 35000 | T56: 5000
A57: 55 | B57: 在册 | C57: ⬛⬛⬛⬛⬛⬛⬛⬛ | D57: 女 | E57: 1981-06-28 | F57: 维吾尔 | G57: ⬛⬛⬛⬛⬛⬛⬛⬛ | H57: 新疆莎车县阿扎提巴格乡央阿克勒克村3组11号 | I57: 653100000919231 | J57: 妻 | K57: 3组11号 | S57: 35000 | T57: 5000
A58: 56 | B58: 在册 | C58: ⬛⬛⬛⬛⬛⬛⬛⬛ | D58: 男 | E58: 2003-10-05 | F58: 维吾尔 | G58: ⬛⬛⬛⬛⬛⬛⬛⬛ | H58: 新疆莎车县阿扎提巴格乡央阿克勒克村3组11号 | I58: 653100000919231 | J58: 长子 | K58: 3组11号 | S58: 35000 | T58: 5000
... A67: 65 | B67: 在册 | C67: ⬛⬛⬛⬛⬛⬛⬛⬛ | D67: 女 | E67: 2014-10-30 | F67: 维吾尔 | G67: ⬛⬛⬛⬛⬛⬛⬛⬛ | H67: 新疆莎车县阿扎提巴格乡央阿克勒克村2组3号 | I67: 653100001037791 | J67: 长女 | K67: 2组3号 | S67: 20000 | T67: 6667
A68: 66 | B68: 在册 | C68: 艾散·孜热普 | D68: 男 | E68: 1987-06-05 | F68: 维吾尔 | G68: 653125198706053837 | H68: 新疆莎车县阿扎提巴格乡央阿克勒克村3组43号 | I68: 653100001092231 | J68: 户主 | K68: 3组43号 | O68: 收教 | S68: 4320 | T68: 4320
A69: 67 | B69: 在册 | C69: ⬛⬛⬛⬛⬛⬛⬛⬛ | D69: 男 | E69: 1991-02-10 | F69: 维吾尔 | G69: ⬛⬛⬛⬛⬛⬛⬛⬛ | H69: 新疆莎车县阿扎提巴格乡央阿克勒克村1组22号 | I69: 653100001094831 | J69: 户主 | K69: 1组22号 | S69: 36000 | T69: 7200
A70: 68 | B70: 在册 | C70: ⬛⬛⬛⬛⬛⬛⬛⬛ | D70: 女 | E70: 1995-06-15 | F70: 维吾尔 | G70: ⬛⬛⬛⬛⬛⬛⬛⬛ | H70: 新疆莎车县阿扎提巴格乡央阿克勒克村1组22号 | I70: 653100001094831 | J70: 妻 | K70: 1组22号 | S70: 36000 | T70: 7200
A71: 69 | B71: 在册 | C71: ⬛⬛⬛⬛⬛⬛⬛⬛ | D71: 女 | E71: 2017-04-30 | F71: 维吾尔 | G71: ⬛⬛⬛⬛⬛⬛⬛⬛ | H71: 新疆莎车县阿扎提巴格乡央阿克勒克村1组22号 | I71: 653100001094831 | J71: 女 | K71: 1组22号 | S71: 36000 | T71: 7200
A72: 70 | B72: 在册 | C72: ⬛⬛⬛⬛⬛⬛⬛⬛ | D72: 女 | E72: 1989-05-16 | F72: 维吾尔 | G72: ⬛⬛⬛⬛⬛⬛⬛⬛ | H72: 新疆莎车县阿扎提巴格乡央阿克勒克村1组22号 | I72: 653100001094831 | J72: 姐姐 | K72: 1组22号 | S72: 36000 | T72: 7200
A73: 71 | B73: 在册 | C73: ⬛⬛⬛⬛⬛⬛⬛⬛ | D73: 女 | E73: 2012-09-29 | F73: 维吾尔 | G73: ⬛⬛⬛⬛⬛⬛⬛⬛ | H73: 新疆莎车县阿扎提巴格乡央阿克勒克村1组22号 | I73: 653100001094831 | J73: 侄女 | K73: 1组22号 | S73: 36000 | T73: 7200
A74: 72 | B74: 在册 | C74: ⬛⬛⬛⬛⬛⬛⬛⬛ | D74: 男 | E74: 1950-01-09 | F74: 维吾尔 | G74: ⬛⬛⬛⬛⬛⬛⬛⬛ | H74: 新疆莎车县阿扎提巴格乡央阿克勒克村1组90号 | I74: 653100001121471 | J74: 户主 | K74: 1组90号 | S74: 9895 | T74: 4947.5
A75: 73 | B75: 在册 | C75: ⬛⬛⬛⬛⬛⬛⬛⬛ | D75: 女 | E75: 1954-03-07 | F75: 维吾尔 | G75: ⬛⬛⬛⬛⬛⬛⬛⬛ | H75: 新疆莎车县阿扎提巴格乡央阿克勒克村1组90号 | I75: 653100001121471 | J75: 妻 | K75: 1组90号 | S75: 9895 | T75: 4947.5
A76: 74 | B76: 在册 | C76: 阿布杜热合曼·艾麦尔 | D76: 男 | E76: 1993-05-15 | F76: 维吾尔 | G76: 653125199305153911 | H76: 新疆莎车县阿扎提巴格乡央阿克勒克村3组9号 | I76: 653100001253611 | J76: 户主 | K76: 3组9号 | O76: 收教 | S76: 17920 | T76: 5973
A77: 75 | B77: 在册 | C77: ⬛⬛⬛⬛⬛⬛⬛⬛ | D77: 女 | E77: 1993-02-03 | F77: 维吾尔 | G77: ⬛⬛⬛⬛⬛⬛⬛⬛ | H77: 新疆莎车县阿扎提巴格乡央阿克勒克村3组9号 | I77: 653100001253611 | J77: 妻 | K77: 3组9号 | S77: 17920 | T77: 5973
A78: 76 | B78: 在册 | C78: ⬛⬛⬛⬛⬛⬛⬛⬛ | D78: 男 | E78: 2013-01-25 | F78: 维吾尔 | G78: ⬛⬛⬛⬛⬛⬛⬛⬛ | H78: 新疆莎车县阿扎提巴格乡央阿克勒克村3组9号 | I78: 653100001253611 | J78: 子 | K78: 3组9号 | S78: 17920 | T78: 5973
A79: 77 | B79: 在册 | C79: ⬛⬛⬛⬛⬛⬛⬛⬛ | D79: 女 | E79: 1987-06-03 | F79: 维吾尔 | G79: ⬛⬛⬛⬛⬛⬛⬛⬛ | H79: 新疆莎车县阿扎提巴格乡央阿克勒克村1组58号 | I79: 653100001371391 | J79: 户主 | K79: 1组58号 | S79: 24000 | T79: 24000
A80: 78 | B80: 在册 | C80: ⬛⬛⬛⬛⬛⬛⬛⬛ | D80: 男 | E80: 1980-11-07 | F80: 维吾尔 | G80: ⬛⬛⬛⬛⬛⬛⬛⬛ | H80: 新疆莎车县阿扎提巴格乡央阿克勒克村1组47号 | I80: 653100002055051 | J80: 户主 | K80: 1组47号 | S80: 31492 | T80: 5248
A81: 79 | B81: 在册 | C81: ⬛⬛⬛⬛⬛⬛⬛⬛ | D81: 女 | E81: 1984-01-29 | F81: 维吾尔 | G81: ⬛⬛⬛⬛⬛⬛⬛⬛ | H81: 新疆莎车县阿扎提巴格乡央阿克勒克村1组47号 | I81: 653100002055051 | J81: 妻 | K81: 1组47号 | S81: 31492 | T81: 5248
A82: 80 | B82: 在册 | C82: ⬛⬛⬛⬛⬛⬛⬛⬛ | D82: 男 | E82: 2012-02-14 | F82: 维吾尔 | G82: ⬛⬛⬛⬛⬛⬛⬛⬛ | H82: 新疆莎车县阿扎提巴格乡央阿克勒克村1组47号 | I82: 653100002055051 | J82: 长子 | K82: 1组47号 | S82: 31492 | T82: 5248
A83: 81 | B83: 在册 | C83: ⬛⬛⬛⬛⬛⬛⬛⬛ | D83: 女 | E83: 2005-05-13 | F83: 维吾尔 | G83: ⬛⬛⬛⬛⬛⬛⬛⬛ | H83: 新疆莎车县阿扎提巴格乡央阿克勒克村1组47号 | I83: 653100002055051 | J83: 长女 | K83: 1组47号 | S83: 31492 | T83: 5248
A84: 82 | B84: 在册 | C84: ⬛⬛⬛⬛⬛⬛⬛⬛ | D84: 女 | E84: 2007-07-27 | F84: 维吾尔 | G84: ⬛⬛⬛⬛⬛⬛⬛⬛ | H84: 新疆莎车县阿扎提巴格乡央阿克勒克村1组47号 | I84: 653100002055051 | J84: 二女 | K84: 1组47号 | S84: 31492 | T84: 5248
A85: 83 | B85: 在册 | C85: ⬛⬛⬛⬛⬛⬛⬛⬛ | D85: 女 | E85: 2010-06-12 | F85: 维吾尔 | G85: ⬛⬛⬛⬛⬛⬛⬛⬛ | H85: 新疆莎车县阿扎提巴格乡央阿克勒克村1组47号 | I85: 653100002055051 | J85: 三女 | K85: 1组47号 | S85: 31492 | T85: 5248
A86: 84 | B86: 在册 | C86: ⬛⬛⬛⬛⬛⬛⬛⬛ | D86: 男 | E86: 1971-03-10 | F86: 维吾尔 | G86: ⬛⬛⬛⬛⬛⬛⬛⬛ | H86: 新疆莎车县阿扎提巴格乡央阿克勒克村2组74号 | I86: 653125719001627 | J86: 户主 | K86: 2组74号 | S86: 30000 | T86: 7500
A87: 85 | B87: 在册 | C87: ⬛⬛⬛⬛⬛⬛⬛⬛ | D87: 男 | E87: 2010-07-12 | F87: 维吾尔 | G87: ⬛⬛⬛⬛⬛⬛⬛⬛ | H87: 新疆莎车县阿扎提巴格乡央阿克勒克村2组74号 | I87: 653125719001627 | J87: 子 | K87: 2组74号 | S87: 30000 | T87: 7500
A88: 86 | B88: 在册 | C88: ⬛⬛⬛⬛⬛⬛⬛⬛ | D88: 男 | E88: 2007-09-21 | F88: 维吾尔 | G88: ⬛⬛⬛⬛⬛⬛⬛⬛ | H88: 新疆莎车县阿扎提巴格乡央阿克勒克村2组74号 | I88: 653125719001627 | J88: 子 | K88: 2组74号 | S88: 30000 | T88: 7500
A89: 87 | B89: 在册 | C89: ⬛⬛⬛⬛⬛⬛⬛⬛ | D89: 男 | E89: 2011-11-18 | F89: 维吾尔 | G89: ⬛⬛⬛⬛⬛⬛⬛⬛ | H89: 新疆莎车县阿扎提巴格乡央阿克勒克村2组74号 | I89: 653125719001627 | J89: 子 | K89: 2组74号 | S89: 30000 | T89: 7500
A90: 88 | B90: 在册 | C90: 伍布力·马木提 | D90: 男 | E90: 1968-05-15 | F90: 维吾尔 | G90: 653125196805153818 | H90: 新疆莎车县阿扎提巴格乡央阿克勒克村2组41号 | I90: 653125719001958 | J90: 户主 | K90: 2组41号 | O90: 收教 | S90: 44300 | T90: 6328
A91: 89 | B91: 在册 | C91: ⬛⬛⬛⬛⬛⬛⬛⬛ | D91: 女 | E91: 1970-08-10 | F91: 维吾尔 | G91: ⬛⬛⬛⬛⬛⬛⬛⬛ | H91: 新疆莎车县阿扎提巴格乡央阿克勒克村2组41号 | I91: 653125719001958 | J91: 妻 | K91: 2组41号 | S91: 44300 | T91: 6328
A92: 90 | B92: 在册 | C92: 亚森·伍布力 | D92: 男 | E92: 1993-09-03 | F92: 维吾尔 | G92: 653125199309033810 | H92: 新疆莎车县阿扎提巴格乡央阿克勒克村2组41号 | I92: 653125719001958 | J92: 子 | K92: 2组41号 | O92: 收教 | S92: 44300 | T92: 6328
A93: 91 | B93: 在册 | C93: ⬛⬛⬛⬛⬛⬛⬛⬛ | D93: 男 | E93: 1998-07-16 | F93: 维吾尔 | G93: ⬛⬛⬛⬛⬛⬛⬛⬛ | H93: 新疆莎车县阿扎提巴格乡央阿克勒克村2组41号 | I93: 653125719001958 | J93: 子 | K93: 2组41号 | S93: 44300 | T93: 6328
A94: 92 | B94: 在册 | C94: ⬛⬛⬛⬛⬛⬛⬛⬛ | D94: 女 | E94: 1992-06-15 | F94: 维吾尔 | G94: ⬛⬛⬛⬛⬛⬛⬛⬛ | H94: 新疆莎车县阿扎提巴格乡央阿克勒克村2组41号 | I94: 653125719001958 | J94: 儿媳 | K94: 2组41号 | S94: 44300 | T94: 6328
A95: 93 | B95: 在册 | C95: ⬛⬛⬛⬛⬛⬛⬛⬛ | D95: 男 | E95: 2015-02-28 | F95: 维吾尔 | G95: ⬛⬛⬛⬛⬛⬛⬛⬛ | H95: 新疆莎车县阿扎提巴格乡央阿克勒克村2组41号 | I95: 653125719001958 | J95: 孙子 | K95: 2组41号 | S95: 44300 | T95: 6328
A96: 94 | B96: 在册 | C96: ⬛⬛⬛⬛⬛⬛⬛⬛ | D96: 女 | E96: 2015-02-28 | F96: 维吾尔 | G96: ⬛⬛⬛⬛⬛⬛⬛⬛ | H96: 新疆莎车县阿扎提巴格乡央阿克勒克村2组41号 | I96: 653125719001958 | J96: 孙女 | K96: 2组41号 | S96: 44300 | T96: 6328
A97: 95 | B97: 在册 | C97: ⬛⬛⬛⬛⬛⬛⬛⬛ | D97: 男 | E97: 1972-06-15 | F97: 维吾尔 | G97: ⬛⬛⬛⬛⬛⬛⬛⬛ | H97: 新疆莎车县阿扎提巴格乡央阿克勒克村2组72号 | I97: 653125719001966 | J97: 户主 | K97: 2组72号 | S97: 21430 | T97: 5357.5
A98: 96 | B98: 在册 | C98: ⬛⬛⬛⬛⬛⬛⬛⬛ | D98: 女 | E98: 1974-07-01 | F98: 维吾尔 | G98: ⬛⬛⬛⬛⬛⬛⬛⬛ | H98: 新疆莎车县阿扎提巴格乡央阿克勒克村2组72号 | I98: 653125719001966 | J98: 妻 | K98: 2组72号 | S98: 21430 | T98: 5357.5
A99: 97 | B99: 在册 | C99: ⬛⬛⬛⬛⬛⬛⬛⬛ | D99: 男 | E99: 1999-07-08 | F99: 维吾尔 | G99: ⬛⬛⬛⬛⬛⬛⬛⬛ | H99: 新疆莎车县阿扎提巴格乡央阿克勒克村2组72号 | I99: 653125719001966 | J99: 子 | K99: 2组72号 | S99: 21430 | T99: 5357.5
A100: 98 | B100: 在册 | C100: ⬛⬛⬛⬛⬛⬛⬛⬛ | D100: 女 | E100: 2002-06-15 | F100: 维吾尔 | G100: ⬛⬛⬛⬛⬛⬛⬛⬛ | H100: 新疆莎车县阿扎提巴格乡央阿克勒克村2组72号 | I100: 653125719001966 | J100: 女 | K100: 2组72号 | S100: 21430 | T100: 5357.5
A101: 99 | B101: 在册 | C101: 斯迪克·孜明 | D101: 男 | E101: 1963-01-29 | F101: 维吾尔 | G101: 653125196301293817 | H101: 新疆莎车县阿扎提巴格乡央阿克勒克村50号 | I101: 653125719001967 | J101: 户主 | K101: 50号 | O101: 收教 | S101: 4320 | T101: 4320
A102: 100 | B102: 在册 | C102: ⬛⬛⬛⬛⬛⬛⬛⬛ | D102: 男 | E102: 1955-07-12 | F102: 维吾尔 | G102: ⬛⬛⬛⬛⬛⬛⬛⬛ | H102: 新疆莎车县阿扎提巴格乡央阿克勒克村2组47号 | I102: 653125719001968 | J102: 户主 | K102: 2组47号 | S102: 20170 | T102: 5042.5
A103: 101 | B103: 在册 | C103: ⬛⬛⬛⬛⬛⬛⬛⬛ | D103: 女 | E103: 1965-07-10 | F103: 维吾尔 | G103: ⬛⬛⬛⬛⬛⬛⬛⬛ | H103: 新疆莎车县阿扎提巴格乡央阿克勒克村2组47号 | I103: 653125719001968 | J103: 妻 | K103: 2组47号 | S103: 20170 | T103: 5042.5
A104: 102 | B104: 在册 | C104: 肉孜尼亚孜·吐尔孙 | D104: 男 | E104: 1982-06-24 | F104: 维吾尔 | G104: 653125198206243810 | H104: 新疆莎车县阿扎提巴格乡央阿克勒克村2组47号 | I104: 653125719001968 | J104: 子 | K104: 2组47号 | O104: 收教 | S104: 20170 | T104: 5042.5
A105: 103 | B105: 在册 | C105: ⬛⬛⬛⬛⬛⬛⬛⬛ | D105: 男 | E105: 1989-12-08 | F105: 维吾尔 | G105: ⬛⬛⬛⬛⬛⬛⬛⬛ | H105: 新疆莎车县阿扎提巴格乡央阿克勒克村2组47号 | I105: 653125719001968 | J105: 子 | K105: 2组47号 | S105: 20170 | T105: 5042.5
A106: 104 | B106: 在册 | C106: ⬛⬛⬛⬛⬛⬛⬛⬛ | D106: 男 | E106: 1974-06-18 | F106: 维吾尔 | G106: ⬛⬛⬛⬛⬛⬛⬛⬛ | H106: 新疆莎车县阿扎提巴格乡央阿克勒克村2组46号 | I106: 653125719001969 | J106: 户主 | K106: 2组46号 | S106: 17670 | T106: 5890
A107: 105 | B107: 在册 | C107: ⬛⬛⬛⬛⬛⬛⬛⬛ | D107: 女 | E107: 1969-05-08 | F107: 维吾尔 | G107: ⬛⬛⬛⬛⬛⬛⬛⬛ | H107: 新疆莎车县阿扎提巴格乡央阿克勒克村2组46号 | I107: 653125719001969 | J107: 妻 | K107: 2组46号 | S107: 17670 | T107: 5890
A108: 106 | B108: 在册 | C108: ⬛⬛⬛⬛⬛⬛⬛⬛ | D108: 女 | E108: 2002-06-19 | F108: 维吾尔 | G108: ⬛⬛⬛⬛⬛⬛⬛⬛ | H108: 新疆莎车县阿扎提巴格乡央阿克勒克村2组46号 | I108: 653125719001969 | J108: 妹妹 | K108: 2组46号 | S108: 17670 | T108: 5890
A109: 107 | B109: 在册 | C109: ⬛⬛⬛⬛⬛⬛⬛⬛ | D109: 男 | E109: 1960-06-06 | F109: 维吾尔 | G109: ⬛⬛⬛⬛⬛⬛⬛⬛ | H109: 新疆莎车县阿扎提巴格乡央阿克勒克村2组74号 | I109: 653125719001970 | J109: 户主 | K109: 2组74号 | S109: 11600 | T109: 5800
A110: 108 | B110: 在册 | C110: ⬛⬛⬛⬛⬛⬛⬛⬛ | D110: 女 | E110: 1965-09-20 | F110: 维吾尔 | G110: ⬛⬛⬛⬛⬛⬛⬛⬛ | H110: 新疆莎车县阿扎提巴格乡央阿克勒克村2组74号 | I110: 653125719001970 | J110: 妻 | K110: 2组74号 | S110: 11600 | T110: 5800
A111: 109 | B111: 在册 | C111: ⬛⬛⬛⬛⬛⬛⬛⬛ | D111: 男 | E111: 1953-03-03 | F111: 维吾尔 | G111: ⬛⬛⬛⬛⬛⬛⬛⬛ | H111: 新疆莎车县阿扎提巴格乡央阿克勒克村2组49号 | I111: 653125719001977 | J111: 户主 | K111: 2组49号 | S111: 16880 | T111: 5626
...

Sheet 贫困
A1: 央阿格勒克（13）村贫困户台账（106户379人）
A2: 序号 | B2: 县(市、区、旗) | C2: 乡(镇) | D2: 行政村 | E2: 自然村 | F2: 户编号 | G2: 人编号 | H2: 姓名 | I2: 证件号码 | J2: 人数 | K2: 与户主关系 | L2: 民族 | M2: 文化程度 | N2: 在校生状况 | O2: 健康状况 | P2: 劳动技能 | Q2: 务工状况 | R2: 务工时间（月） | S2: 参加大病医疗 | T2: 脱贫属性 | U2: 脱贫年度 | V2: 贫困户属性 | W2: 致贫原因1 | X2: 危房户 | Y2: 是否解决安全饮用水 | Z2: 人均纯收入 | AA2: 联系电话 | AB2: 不在户籍 | AC2: 残疾情况 | AD2: 低保金 | AE2: 特困供养金 | AF2: 大病、慢病
A3: 1 | B3: 莎车县 | C3: 阿扎特巴格镇 | D3: 央阿格勒克村 | E3: 1 | F3: 3101378366 | G3: 310003783581 | H3: ⬛⬛⬛⬛⬛⬛⬛⬛ | I3: ⬛⬛⬛⬛⬛⬛⬛⬛ | J3: 4 | K3: 户主 | L3: 维吾尔族 | M3: 初中 | O3: 健康 | P3: 普通劳动力 | R3: 0 | S3: 是 | T3: 已脱贫（享受政策） | U3: 2018年底 | V3: 低保户 | W3: 缺技术 | X3: 否 | Y3: 是 | Z3: 8837.5 | AA3: ⬛⬛⬛⬛⬛⬛⬛⬛
A4: 2 | B4: 莎车县 | C4: 阿扎特巴格镇 | D4: 央阿格勒克村 | E4: 1 | F4: 3101378366 | G4: 310003779251 | H4: ⬛⬛⬛⬛⬛⬛⬛⬛ | I4: ⬛⬛⬛⬛⬛⬛⬛⬛ | J4: 4 | K4: 配偶 | L4: 维吾尔族 | M4: 初中 | O4: 健康 | P4: 普通劳动力 | Q4: 乡（镇）内务工 | R4: 9 | S4: 是 | T4: 已脱贫（享受政策） | U4: 2018年底 | V4: 低保户 | W4: 缺技术 | X4: 否 | Y4: 是 | Z4: 8837.5 | AA4: ⬛⬛⬛⬛⬛⬛⬛⬛
A5: 3 | B5: 莎车县 | C5: 阿扎特巴格镇 | D5: 央阿格勒克村 | E5: 1 | F5: 3101378366 | G5: 5700000148308234 | H5: ⬛⬛⬛⬛⬛⬛⬛⬛ | I5: ⬛⬛⬛⬛⬛⬛⬛⬛ | J5: 4 | K5: 之女 | L5: 维吾尔族 | N5: 学前教育 | O5: 健康 | P5: 无劳动力 | R5: 0 | S5: 是 | T5: 已脱贫（享受政策） | U5: 2018年底 | V5: 低保户 | W5: 缺技术 | X5: 否 | Y5: 是 | Z5: 8837.5 | AA5: ⬛⬛⬛⬛⬛⬛⬛⬛
A6: 4 | B6: 莎车县 | C6: 阿扎特巴格镇 | D6: 央阿格勒克村 | E6: 1 | F6: 3101378366 | G6: 310003779252 | H6: ⬛⬛⬛⬛⬛⬛⬛⬛ | I6: ⬛⬛⬛⬛⬛⬛⬛⬛ | J6: 4 | K6: 之母 | L6: 维吾尔族 | M6: 小学 | O6: 健康 | P6: 无劳动力 | R6: 0 | S6: 是 | T6: 已脱贫（享受政策） | U6: 2018年底 | V6: 低保户 | W6: 缺技术 | X6: 否 | Y6: 是 | Z6: 8837.5 | AA6: ⬛⬛⬛⬛⬛⬛⬛⬛
A7: 5 | B7: 莎车县 | C7: 阿扎特巴格镇 | D7: 央阿格勒克村 | E7: 2 | F7: 3101378770 | G7: 310003802891 | H7: ⬛⬛⬛⬛⬛⬛⬛⬛ | I7: ⬛⬛⬛⬛⬛⬛⬛⬛ | J7: 3 | K7: 户主 | L7: 维吾尔族 | M7: 小学 | O7: 健康 | P7: 普通劳动力 | Q7: 乡（镇）内务工 | R7: 2 | S7: 是 | T7: 已脱贫（享受政策） | U7: 2018年底 | V7: 低保户 | W7: 缺技术 | X7: 否 | Y7: 是 | Z7: 13508 | AA7: ⬛⬛⬛⬛⬛⬛⬛⬛
A8: 6 | B8: 莎车县 | C8: 阿扎特巴格镇 | D8: 央阿格勒克村 | E8: 2 | F8: 3101378770 | G8: 310003802892 | H8: ⬛⬛⬛⬛⬛⬛⬛⬛ | I8: ⬛⬛⬛⬛⬛⬛⬛⬛ | J8: 3 | K8: 配偶 | L8: 维吾尔族 | M8: 小学 | O8: 健康 | P8: 普通劳动力 | Q8: 县外省内务工 | R8: 2 | S8: 是 | T8: 已脱贫（享受政策） | U8: 2018年底 | V8: 低保户 | W8: 缺技术 | X8: 否 | Y8: 是 | Z8: 13508 | AA8: ⬛⬛⬛⬛⬛⬛⬛⬛
A9: 7 | B9: 莎车县 | C9: 阿扎特巴格镇 | D9: 央阿格勒克村 | E9: 2 | F9: 3101378770 | G9: 5700000203600338 | H9: ⬛⬛⬛⬛⬛⬛⬛⬛ | I9: ⬛⬛⬛⬛⬛⬛⬛⬛ | J9: 3 | K9: 之女 | L9: 维吾尔族 | M9: 初中 | O9: 健康 | P9: 普通劳动力 | Q9: 乡（镇）内务工 | R9: 12 | S9: 是 | T9: 已脱贫（享受政策） | U9: 2018年底 | V9: 低保户 | W9: 缺技术 | X9: 否 | Y9: 是 | Z9: 13508 | AA9: ⬛⬛⬛⬛⬛⬛⬛⬛
A10: 8 | B10: 莎车县 | C10: 阿扎特巴格镇 | D10: 央阿格勒克村 | E10: 2 | F10: 3101379135 | G10: 310003802995 | H10: ⬛⬛⬛⬛⬛⬛⬛⬛ | I10: ⬛⬛⬛⬛⬛⬛⬛⬛ | J10: 5 | K10: 户主 | L10: 维吾尔族 | M10: 初中 | O10: 健康 | P10: 普通劳动力 | Q10: 乡（镇）内务工 | R10: 12 | S10: 是 | T10: 已脱贫（享受政策） | U10: 2018年底 | V10: 一般农户 | W10: 缺技术 | X10: 否 | Y10: 是 | Z10: 5236.6 | AA10: ⬛⬛⬛⬛⬛⬛⬛⬛
A11: 9 | B11: 莎车县 | C11: 阿扎特巴格镇 | D11: 央阿格勒克村 | E11: 2 | F11: 3101379135 | G11: 310003802996 | H11: ⬛⬛⬛⬛⬛⬛⬛⬛ | I11: ⬛⬛⬛⬛⬛⬛⬛⬛ | J11: 5 | K11: 配偶 | L11: 维吾尔族 | M11: 初中 | O11: 健康 | P11: 普通劳动力 | S11: 是 | T11: 已脱贫（享受政策） | U11: 2018年底 | V11: 一般农户 | W11: 缺技术 | X11: 否 | Y11: 是 | Z11: 5236.6 | AA11: ⬛⬛⬛⬛⬛⬛⬛⬛
A12: 10 | B12: 莎车县 | C12: 阿扎特巴格镇 | D12: 央阿格勒克村 | E12: 2 | F12: 3101379135 | G12: 310003802997 | H12: ⬛⬛⬛⬛⬛⬛⬛⬛ | I12: ⬛⬛⬛⬛⬛⬛⬛⬛ | J12: 5 | K12: 之子 | L12: 维吾尔族 | N12: 小学 | O12: 健康 | P12: 无劳动力 | R12: 0 | S12: 是 | T12: 已脱贫（享受政策） | U12: 2018年底 | V12: 一般农户 | W12: 缺技术 | X12: 否 | Y12: 是 | Z12: 5236.6 | AA12: ⬛⬛⬛⬛⬛⬛⬛⬛
A13: 11 | B13: 莎车县 | C13: 阿扎特巴格镇 | D13: 央阿格勒克村 | E13: 2 | F13: 3101379135 | G13: 5700000148501897 | H13: ⬛⬛⬛⬛⬛⬛⬛⬛ | I13: ⬛⬛⬛⬛⬛⬛⬛⬛ | J13: 5 | K13: 之子 | L13: 维吾尔族 | N13: 学龄前儿童 | O13: 健康 | P13: 无劳动力 | R13: 0 | S13: 是 | T13: 已脱贫（享受政策） | U13: 2018年底 | V13: 一般农户 | W13: 缺技术 | X13: 否 | Y13: 是 | Z13: 5236.6 | AA13: ⬛⬛⬛⬛⬛⬛⬛⬛
A14: 12 | B14: 莎车县 | C14: 阿扎特巴格镇 | D14: 央阿格勒克村 | E14: 2 | F14: 3101379135 | G14: 5700000389714792 | H14: ⬛⬛⬛⬛⬛⬛⬛⬛ | I14: ⬛⬛⬛⬛⬛⬛⬛⬛ | J14: 5 | K14: 之子 | L14: 维吾尔族 | N14: 学龄前儿童 | O14: 健康 | P14: 无劳动力 | S14: 是 | T14: 已脱贫（享受政策） | U14: 2018年底 | V14: 一般农户 | W14: 缺技术 | X14: 否 | Y14: 是 | Z14: 5236.6 | AA14: ⬛⬛⬛⬛⬛⬛⬛⬛
A15: 13 | B15: 莎车县 | C15: 阿扎特巴格镇 | D15: 央阿格勒克村 | E15: 1 | F15: 3101381438 | G15: 310003805723 | H15: ⬛⬛⬛⬛⬛⬛⬛⬛ | I15: ⬛⬛⬛⬛⬛⬛⬛⬛ | J15: 5 | K15: 户主 | L15: 维吾尔族 | M15: 初中 | O15: 健康 | P15: 普通劳动力 | Q15: 乡（镇）内务工 | R15: 1 | S15: 是 | T15: 已脱贫（享受政策） | U15: 2018年底 | V15: 一般农户 | W15: 缺技术 | X15: 否 | Y15: 是 | Z15: 9463.2 | AA15: ⬛⬛⬛⬛⬛⬛⬛⬛
A16: 14 | B16: 莎车县 | C16: 阿扎特巴格镇 | D16: 央阿格勒克村 | E16: 1 | F16: 3101381438 | G16: 310003805725 | H16: ⬛⬛⬛⬛⬛⬛⬛⬛ | I16: ⬛⬛⬛⬛⬛⬛⬛⬛ | J16: 5 | K16: 配偶 | L16: 维吾尔族 | M16: 初中 | O16: 健康 | P16: 普通劳动力 | R16: 0 | S16: 是 | T16: 已脱贫（享受政策） | U16: 2018年底 | V16: 一般农户 | W16: 缺技术 | X16: 否 | Y16: 是 | Z16: 9463.2 | AA16: ⬛⬛⬛⬛⬛⬛⬛⬛
A17: 15 | B17: 莎车县 | C17: 阿扎特巴格镇 | D17: 央阿格勒克村 | E17: 1 | F17: 3101381438 | G17: 310003805721 | H17: ⬛⬛⬛⬛⬛⬛⬛⬛ | I17: ⬛⬛⬛⬛⬛⬛⬛⬛ | J17: 5 | K17: 之子 | L17: 维吾尔族 | N17: 学龄前儿童 | O17: 健康 | P17: 无劳动力 | R17: 0 | S17: 是 | T17: 已脱贫（享受政策） | U17: 2018年底 | V17: 一般农户 | W17: 缺技术 | X17: 否 | Y17: 是 | Z17: 9463.2 | AA17: ⬛⬛⬛⬛⬛⬛⬛⬛
A18: 16 | B18: 莎车县 | C18: 阿扎特巴格镇 | D18: 央阿格勒克村 | E18: 1 | F18: 3101381438 | G18: 310003805722 | H18: ⬛⬛⬛⬛⬛⬛⬛⬛ | I18: ⬛⬛⬛⬛⬛⬛⬛⬛ | J18: 5 | K18: 之子 | L18: 维吾尔族 | N18: 小学 | O18: 健康 | P18: 无劳动力 | R18: 0 | S18: 是 | T18: 已脱贫（享受政策） | U18: 2018年底 | V18: 一般农户 | W18: 缺技术 | X18: 否 | Y18: 是 | Z18: 9463.2 | AA18: ⬛⬛⬛⬛⬛⬛⬛⬛
A19: 17 | B19: 莎车县 | C19: 阿扎特巴格镇 | D19: 央阿格勒克村 | E19: 1 | F19: 3101381438 | G19: 310003805724 | H19: ⬛⬛⬛⬛⬛⬛⬛⬛ | I19: ⬛⬛⬛⬛⬛⬛⬛⬛ | J19: 5 | K19: 之子 | L19: 维吾尔族 | N19: 学龄前儿童 | O19: 健康 | P19: 无劳动力 | R19: 0 | S19: 是 | T19: 已脱贫（享受政策） | U19: 2018年底 | V19: 一般农户 | W19: 缺技术 | X19: 否 | Y19: 是 | Z19: 9463.2 | AA19: ⬛⬛⬛⬛⬛⬛⬛⬛
A20: 18 | B20: 莎车县 | C20: 阿扎特巴格镇 | D20: 央阿格勒克村 | E20: 1 | F20: 3101382547 | G20: 310003754150 | H20: ⬛⬛⬛⬛⬛⬛⬛⬛ | I20: ⬛⬛⬛⬛⬛⬛⬛⬛ | J20: 4 | K20: 户主 | L20: 维吾尔族 | M20: 初中 | O20: 健康 | P20: 普通劳动力 | Q20: 乡（镇）内务工 | R20: 10 | S20: 是 | T20: 已脱贫（享受政策） | U20: 2018年底 | V20: 低保户 | W20: 缺技术 | X20: 否 | Y20: 是 | Z20: 7921.25 | AA20: ⬛⬛⬛⬛⬛⬛⬛⬛
A21: 19 | B21: 莎车县 | C21: 阿扎特巴格镇 | D21: 央阿格勒克村 | E21: 1 | F21: 3101382547 | G21: 310003754149 | H21: ⬛⬛⬛⬛⬛⬛⬛⬛ | I21: ⬛⬛⬛⬛⬛⬛⬛⬛ | J21: 4 | K21: 配偶 | L21: 维吾尔族 | M21: 初中 | O21: 健康 | P21: 普通劳动力 | S21: 是 | T21: 已脱贫（享受政策） | U21: 2018年底 | V21: 低保户 | W21: 缺技术 | X21: 否 | Y21: 是 | Z21: 7921.25 | AA21: ⬛⬛⬛⬛⬛⬛⬛⬛
A22: 20 | B22: 莎车县 | C22: 阿扎特巴格镇 | D22: 央阿格勒克村 | E22: 1 | F22: 3101382547 | G22: 310003754148 | H22: ⬛⬛⬛⬛⬛⬛⬛⬛ | I22: ⬛⬛⬛⬛⬛⬛⬛⬛ | J22: 4 | K22: 之子 | L22: 维吾尔族 | N22: 小学 | O22: 健康 | P22: 无劳动力 | R22: 0 | S22: 是 | T22: 已脱贫（享受政策） | U22: 2018年底 | V22: 低保户 | W22: 缺技术 | X22: 否 | Y22: 是 | Z22: 7921.25 | AA22: ⬛⬛⬛⬛⬛⬛⬛⬛
A23: 21 | B23: 莎车县 | C23: 阿扎特巴格镇 | D23: 央阿格勒克村 | E23: 1 | F23: 3101382547 | G23: 5700000148320803 | H23: ⬛⬛⬛⬛⬛⬛⬛⬛ | I23: ⬛⬛⬛⬛⬛⬛⬛⬛ | J23: 4 | K23: 之子 | L23: 维吾尔族 | N23: 学龄前儿童 | O23: 健康 | P23: 无劳动力 | R23: 0 | S23: 是 | T23: 已脱贫（享受政策） | U23: 2018年底 | V23: 低保户 | W23: 缺技术 | X23: 否 | Y23: 是 | Z23: 7921.25 | AA23: ⬛⬛⬛⬛⬛⬛⬛⬛
A24: 22 | B24: 莎车县 | C24: 阿扎特巴格镇 | D24: 央阿格勒克村 | E24: 3 | F24: 3101394282 | G24: 310003826841 | H24: ⬛⬛⬛⬛⬛⬛⬛⬛ | I24: ⬛⬛⬛⬛⬛⬛⬛⬛ | J24: 5 | K24: 户主 | L24: 维吾尔族 | M24: 小学 | O24: 健康 | P24: 普通劳动力 | R24: 0 | S24: 是 | T24: 已脱贫（享受政策） | U24: 2018年底 | V24: 低保户 | W24: 缺技术 | X24: 否 | Y24: 是 | Z24: 16004.3 | AA24: ⬛⬛⬛⬛⬛⬛⬛⬛
A25: 23 | B25: 莎车县 | C25: 阿扎特巴格镇 | D25: 央阿格勒克村 | E25: 3 | F25: 3101394282 | G25: 310003827516 | H25: ⬛⬛⬛⬛⬛⬛⬛⬛ | I25: ⬛⬛⬛⬛⬛⬛⬛⬛ | J25: 5 | K25: 之子 | L25: 维吾尔族 | M25: 初中 | O25: 健康 | P25: 普通劳动力 | Q25: 县外省内务工 | R25: 12 | S25: 是 | T25: 已脱贫（享受政策） | U25: 2018年底 | V25: 低保户 | W25: 缺技术 | X25: 否 | Y25: 是 | Z25: 16004.3 | AA25: ⬛⬛⬛⬛⬛⬛⬛⬛
A26: 24 | B26: 莎车县 | C26: 阿扎特巴格镇 | D26: 央阿格勒克村 | E26: 3 | F26: 3101394282 | G26: 310003827515 | H26: ⬛⬛⬛⬛⬛⬛⬛⬛ | I26: ⬛⬛⬛⬛⬛⬛⬛⬛ | J26: 5 | K26: 之儿媳 | L26: 维吾尔族 | M26: 初中 | O26: 健康 | P26: 普通劳动力 | S26: 是 | T26: 已脱贫（享受政策） | U26: 2018年底 | V26: 低保户 | W26: 缺技术 | X26: 否 | Y26: 是 | Z26: 16004.3 | AA26: ⬛⬛⬛⬛⬛⬛⬛⬛
A27: 25 | B27: 莎车县 | C27: 阿扎特巴格镇 | D27: 央阿格勒克村 | E27: 3 | F27: 3101394282 | G27: 310003827517 | H27: ⬛⬛⬛⬛⬛⬛⬛⬛ | I27: ⬛⬛⬛⬛⬛⬛⬛⬛ | J27: 5 | K27: 之孙子 | L27: 维吾尔族 | N27: 普通高中二年级 | O27: 残疾 | P27: 无劳动力 | R27: 0 | S27: 是 | T27: 已脱贫（享受政策） | U27: 2018年底 | V27: 低保户 | W27: 缺技术 | X27: 否 | Y27: 是 | Z27: 16004.3 | AA27: ⬛⬛⬛⬛⬛⬛⬛⬛ | AC27: 残疾
A28: 26 | B28: 莎车县 | C28: 阿扎特巴格镇 | D28: 央阿格勒克村 | E28: 3 | F28: 3101394282 | G28: 310003827518 | H28: ⬛⬛⬛⬛⬛⬛⬛⬛ | I28: ⬛⬛⬛⬛⬛⬛⬛⬛ | J28: 5 | K28: 之孙女 | L28: 维吾尔族 | N28: 小学 | O28: 健康 | P28: 无劳动力 | R28: 0 | S28: 是 | T28: 已脱贫（享受政策） | U28: 2018年底 | V28: 低保户 | W28: 缺技术 | X28: 否 | Y28: 是 | Z28: 16004.3 | AA28: ⬛⬛⬛⬛⬛⬛⬛⬛
A29: 27 | B29: 莎车县 | C29: 阿扎特巴格镇 | D29: 央阿格勒克村 | E29: 1 | F29: 3101397454 | G29: 310003803259 | H29: ⬛⬛⬛⬛⬛⬛⬛⬛ | I29: ⬛⬛⬛⬛⬛⬛⬛⬛ | J29: 1 | K29: 户主 | L29: 维吾尔族 | M29: 初中 | O29: 健康 | P29: 普通劳动力 | Q29: 乡（镇）内务工 | R29: 6 | S29: 是 | T29: 已脱贫（享受政策） | U29: 2018年底 | V29: 一般农户 | W29: 缺技术 | X29: 否 | Y29: 是 | Z29: 19000 | AA29: ⬛⬛⬛⬛⬛⬛⬛⬛
A30: 28 | B30: 莎车县 | C30: 阿扎特巴格镇 | D30: 央阿格勒克村 | E30: 1 | F30: 3101398667 | G30: 310003820457 | H30: ⬛⬛⬛⬛⬛⬛⬛⬛ | I30: ⬛⬛⬛⬛⬛⬛⬛⬛ | J30: 5 | K30: 户主 | L30: 维吾尔族 | M30: 初中 | O30: 健康 | P30: 普通劳动力 | Q30: 乡（镇）内务工 | R30: 12 | S30: 是 | T30: 未脱贫 | V30: 一般贫困户 | W30: 缺技术 | X30: 否 | Y30: 是 | Z30: 5717.6 | AA30: ⬛⬛⬛⬛⬛⬛⬛⬛
A31: 29 | B31: 莎车县 | C31: 阿扎特巴格镇 | D31: 央阿格勒克村 | E31: 1 | F31: 3101398667 | G31: 310003820455 | H31: ⬛⬛⬛⬛⬛⬛⬛⬛ | I31: ⬛⬛⬛⬛⬛⬛⬛⬛ | J31: 5 | K31: 配偶 | L31: 维吾尔族 | M31: 初中 | O31: 健康 | P31: 普通劳动力 | R31: 0 | S31: 是 | T31: 未脱贫 | V31: 一般贫困户 | W31: 缺技术 | X31: 否 | Y31: 是 | Z31: 5717.6 | AA31: ⬛⬛⬛⬛⬛⬛⬛⬛
A32: 30 | B32: 莎车县 | C32: 阿扎特巴格镇 | D32: 央阿格勒克村 | E32: 1 | F32: 3101398667 | G32: 310003820456 | H32: ⬛⬛⬛⬛⬛⬛⬛⬛ | I32: ⬛⬛⬛⬛⬛⬛⬛⬛ | J32: 5 | K32: 之女 | L32: 维吾尔族 | N32: 小学 | O32: 健康 | P32: 无劳动力 | R32: 0 | S32: 是 | T32: 未脱贫 | V32: 一般贫困户 | W32: 缺技术 | X32: 否 | Y32: 是 | Z32: 5717.6 | AA32: ⬛⬛⬛⬛⬛⬛⬛⬛
A33: 31 | B33: 莎车县 | C33: 阿扎特巴格镇 | D33: 央阿格勒克村 | E33: 1 | F33: 3101398667 | G33: 310003820458 | H33: ⬛⬛⬛⬛⬛⬛⬛⬛ | I33: ⬛⬛⬛⬛⬛⬛⬛⬛ | J33: 5 | K33: 之女 | L33: 维吾尔族 | N33: 普通高中二年级 | O33: 健康 | P33: 无劳动力 | R33: 0 | S33: 是 | T33: 未脱贫 | V33: 一般贫困户 | W33: 缺技术 | X33: 否 | Y33: 是 | Z33: 5717.6 | AA33: ⬛⬛⬛⬛⬛⬛⬛⬛
A34: 32 | B34: 莎车县 | C34: 阿扎特巴格镇 | D34: 央阿格勒克村 | E34: 1 | F34: 3101398667 | G34: 5700000203610119 | H34: ⬛⬛⬛⬛⬛⬛⬛⬛ | I34: ⬛⬛⬛⬛⬛⬛⬛⬛ | J34: 5 | K34: 之女 | L34: 维吾尔族 | N34: 学龄前儿童 | O34: 健康 | P34: 无劳动力 | R34: 0 | S34: 是 | T34: 未脱贫 | V34: 一般贫困户 | W34: 缺技术 | X34: 否 | Y34: 是 | Z34: 5717.6 | AA34: ⬛⬛⬛⬛⬛⬛⬛⬛
A35: 33 | B35: 莎车县 | C35: 阿扎特巴格镇 | D35: 央阿格勒克村 | E35: 2 | F35: 3101430227 | G35: 310003789540 | H35: ⬛⬛⬛⬛⬛⬛⬛⬛ | I35: ⬛⬛⬛⬛⬛⬛⬛⬛ | J35: 4 | K35: 户主 | L35: 维吾尔族 | M35: 初中 | O35: 健康 | P35: 普通劳动力 | Q35: 县外省内务工 | R35: 9 | S35: 是 | T35: 已脱贫（享受政策） | U35: 2018年底 | V35: 一般农户 | W35: 缺技术 | X35: 否 | Y35: 是 | Z35: 8946.5 | AA35: ⬛⬛⬛⬛⬛⬛⬛⬛
A36: 34 | B36: 莎车县 | C36: 阿扎特巴格镇 | D36: 央阿格勒克村 | E36: 2 | F36: 3101430227 | G36: 310003789538 | H36: ⬛⬛⬛⬛⬛⬛⬛⬛ | I36: ⬛⬛⬛⬛⬛⬛⬛⬛ | J36: 4 | K36: 配偶 | L36: 维吾尔族 | M36: 初中 | O36: 健康 | P36: 普通劳动力 | Q36: 县外省内务工 | R36: 9 | S36: 是 | T36: 已脱贫（享受政策） | U36: 2018年底 | V36: 一般农户 | W36: 缺技术 | X36: 否 | Y36: 是 | Z36: 8946.5 | AA36: ⬛⬛⬛⬛⬛⬛⬛⬛
A37: 35 | B37: 莎车县 | C37: 阿扎特巴格镇 | D37: 央阿格勒克村 | E37: 2 | F37: 3101430227 | G37: 5700000203613565 | H37: ⬛⬛⬛⬛⬛⬛⬛⬛ | I37: ⬛⬛⬛⬛⬛⬛⬛⬛ | J37: 4 | K37: 之子 | L37: 维吾尔族 | N37: 学龄前儿童 | O37: 健康 | P37: 无劳动力 | R37: 0 | S37: 是 | T37: 已脱贫（享受政策） | U37: 2018年底 | V37: 一般农户 | W37: 缺技术 | X37: 否 | Y37: 是 | Z37: 8946.5 | AA37: ⬛⬛⬛⬛⬛⬛⬛⬛
A38: 36 | B38: 莎车县 | C38: 阿扎特巴格镇 | D38: 央阿格勒克村 | E38: 2 | F38: 3101430227 | G38: 310003789543 | H38: ⬛⬛⬛⬛⬛⬛⬛⬛ | I38: ⬛⬛⬛⬛⬛⬛⬛⬛ | J38: 4 | K38: 之女 | L38: 维吾尔族 | N38: 小学 | O38: 健康 | P38: 无劳动力 | R38: 0 | S38: 是 | T38: 已脱贫（享受政策） | U38: 2018年底 | V38: 一般农户 | W38: 缺技术 | X38: 否 | Y38: 是 | Z38: 8946.5 | AA38: ⬛⬛⬛⬛⬛⬛⬛⬛
A39: 37 | B39: 莎车县 | C39: 阿扎特巴格镇 | D39: 央阿格勒克村 | E39: 2 | F39: 3101430837 | G39: 310003813375 | H39: ⬛⬛⬛⬛⬛⬛⬛⬛ | I39: ⬛⬛⬛⬛⬛⬛⬛⬛ | J39: 3 | K39: 户主 | L39: 维吾尔族 | M39: 初中 | O39: 健康 | P39: 普通劳动力 | Q39: 乡（镇）内务工 | R39: 9 | S39: 是 | T39: 已脱贫（享受政策） | U39: 2018年底 | V39: 一般农户 | W39: 缺技术 | X39: 否 | Y39: 是 | Z39: 11579.33 | AA39: ⬛⬛⬛⬛⬛⬛⬛⬛
A40: 38 | B40: 莎车县 | C40: 阿扎特巴格镇 | D40: 央阿格勒克村 | E40: 2 | F40: 3101430837 | G40: 310003814048 | H40: ⬛⬛⬛⬛⬛⬛⬛⬛ | I40: ⬛⬛⬛⬛⬛⬛⬛⬛ | J40: 3 | K40: 配偶 | L40: 维吾尔族 | M40: 初中 | O40: 健康 | P40: 普通劳动力 | R40: 0 | S40: 是 | T40: 已脱贫（享受政策） | U40: 2018年底 | V40: 一般农户 | W40: 缺技术 | X40: 否 | Y40: 是 | Z40: 11579.33 | AA40: ⬛⬛⬛⬛⬛⬛⬛⬛
A41: 39 | B41: 莎车县 | C41: 阿扎特巴格镇 | D41: 央阿格勒克村 | E41: 2 | F41: 3101430837 | G41: 310003813374 | H41: ⬛⬛⬛⬛⬛⬛⬛⬛ | I41: ⬛⬛⬛⬛⬛⬛⬛⬛ | J41: 3 | K41: 之子 | L41: 维吾尔族 | N41: 学龄前儿童 | O41: 健康 | P41: 无劳动力 | R41: 0 | S41: 是 | T41: 已脱贫（享受政策） | U41: 2018年底 | V41: 一般农户 | W41: 缺技术 | X41: 否 | Y41: 是 | Z41: 11579.33 | AA41: ⬛⬛⬛⬛⬛⬛⬛⬛
A42: 40 | B42: 莎车县 | C42: 阿扎特巴格镇 | D42: 央阿格勒克村 | E42: 4 | F42: 3101520679 | G42: 310004297658 | H42: ⬛⬛⬛⬛⬛⬛⬛⬛ | I42: ⬛⬛⬛⬛⬛⬛⬛⬛ | J42: 5 | K42: 户主 | L42: 维吾尔族 | M42: 初中 | O42: 健康 | P42: 普通劳动力 | Q42: 乡（镇）内务工 | R42: 9 | S42: 是 | T42: 已脱贫（享受政策） | U42: 2018年底 | V42: 一般农户 | W42: 缺技术 | X42: 否 | Y42: 是 | Z42: 6229.6 | AA42: ⬛⬛⬛⬛⬛⬛⬛⬛
A43: 41 | B43: 莎车县 | C43: 阿扎特巴格镇 | D43: 央阿格勒克村 | E43: 4 | F43: 3101520679 | G43: 310004297656 | H43: ⬛⬛⬛⬛⬛⬛⬛⬛ | I43: ⬛⬛⬛⬛⬛⬛⬛⬛ | J43: 5 | K43: 配偶 | L43: 维吾尔族 | M43: 初中 | O43: 健康 | P43: 普通劳动力 | R43: 0 | S43: 是 | T43: 已脱贫（享受政策） | U43: 2018年底 | V43: 一般农户 | W43: 缺技术 | X43: 否 | Y43: 是 | Z43: 6229.6 | AA43: ⬛⬛⬛⬛⬛⬛⬛⬛
A44: 42 | B44: 莎车县 | C44: 阿扎特巴格镇 | D44: 央阿格勒克村 | E44: 4 | F44: 3101520679 | G44: 5700000148513598 | H44: ⬛⬛⬛⬛⬛⬛⬛⬛ | I44: ⬛⬛⬛⬛⬛⬛⬛⬛ | J44: 5 | K44: 之子 | L44: 维吾尔族 | N44: 学龄前儿童 | O44: 健康 | P44: 无劳动力 | R44: 0 | S44: 是 | T44: 已脱贫（享受政策） | U44: 2018年底 | V44: 一般农户 | W44: 缺技术 | X44: 否 | Y44: 是 | Z44: 6229.6 | AA44: ⬛⬛⬛⬛⬛⬛⬛⬛
A45: 43 | B45: 莎车县 | C45: 阿扎特巴格镇 | D45: 央阿格勒克村 | E45: 4 | F45: 3101520679 | G45: 310004297657 | H45: ⬛⬛⬛⬛⬛⬛⬛⬛ | I45: ⬛⬛⬛⬛⬛⬛⬛⬛ | J45: 5 | K45: 之女 | L45: 维吾尔族 | N45: 小学 | O45: 健康 | P45: 无劳动力 | R45: 0 | S45: 是 | T45: 已脱贫（享受政策） | U45: 2018年底 | V45: 一般农户 | W45: 缺技术 | X45: 否 | Y45: 是 | Z45: 6229.6 | AA45: ⬛⬛⬛⬛⬛⬛⬛⬛
A46: 44 | B46: 莎车县 | C46: 阿扎特巴格镇 | D46: 央阿格勒克村 | E46: 4 | F46: 3101520679 | G46: 310004297659 | H46: ⬛⬛⬛⬛⬛⬛⬛⬛ | I46: ⬛⬛⬛⬛⬛⬛⬛⬛ | J46: 5 | K46: 之女 | L46: 维吾尔族 | N46: 小学 | O46: 健康 | P46: 无劳动力 | R46: 0 | S46: 是 | T46: 已脱贫（享受政策） | U46: 2018年底 | V46: 一般农户 | W46: 缺技术 | X46: 否 | Y46: 是 | Z46: 6229.6 | AA46: ⬛⬛⬛⬛⬛⬛⬛⬛
A47: 45 | B47: 莎车县 | C47: 阿扎特巴格镇 | D47: 央阿格勒克村 | E47: 2 | F47: 3101521514 | G47: 310004323171 | H47: ⬛⬛⬛⬛⬛⬛⬛⬛ | I47: ⬛⬛⬛⬛⬛⬛⬛⬛ | J47: 4 | K47: 户主 | L47: 维吾尔族 | M47: 初中 | O47: 健康 | P47: 普通劳动力 | Q47: 乡（镇）内务工 | R47: 12 | S47: 是 | T47: 未脱贫 | V47: 一般贫困户 | W47: 缺技术 | X47: 是 | Y47: 是 | Z47: 10500 | AA47: ⬛⬛⬛⬛⬛⬛⬛⬛
A48: 46 | B48: 莎车县 | C48: 阿扎特巴格镇 | D48: 央阿格勒克村 | E48: 2 | F48: 3101521514 | G48: 310004323168 | H48: ⬛⬛⬛⬛⬛⬛⬛⬛ | I48: ⬛⬛⬛⬛⬛⬛⬛⬛ | J48: 4 | K48: 配偶 | L48: 维吾尔族 | M48: 初中 | O48: 健康 | P48: 普通劳动力 | Q48: 乡（镇）内务工 | R48: 12 | S48: 是 | T48: 未脱贫 | V48: 一般贫困户 | W48: 缺技术 | X48: 是 | Y48: 是 | Z48: 10500 | AA48: ⬛⬛⬛⬛⬛⬛⬛⬛
A49: 47 | B49: 莎车县 | C49: 阿扎特巴格镇 | D49: 央阿格勒克村 | E49: 2 | F49: 3101521514 | G49: 310004323170 | H49: ⬛⬛⬛⬛⬛⬛⬛⬛ | I49: ⬛⬛⬛⬛⬛⬛⬛⬛ | J49: 4 | K49: 之子 | L49: 维吾尔族 | N49: 七年级 | O49: 健康 | P49: 无劳动力 | R49: 0 | S49: 是 | T49: 未脱贫 | V49: 一般贫困户 | W49: 缺技术 | X49: 是 | Y49: 是 | Z49: 10500 | AA49: ⬛⬛⬛⬛⬛⬛⬛⬛
A50: 48 | B50: 莎车县 | C50: 阿扎特巴格镇 | D50: 央阿格勒克村 | E50: 2 | F50: 3101521514 | G50: 310004323167 | H50: ⬛⬛⬛⬛⬛⬛⬛⬛ | I50: ⬛⬛⬛⬛⬛⬛⬛⬛ | J50: 4 | K50: 之女 | L50: 维吾尔族 | N50: 小学 | O50: 健康 | P50: 无劳动力 | R50: 0 | S50: 是 | T50: 未脱贫 | V50: 一般贫困户 | W50: 缺技术 | X50: 是 | Y50: 是 | Z50: 10500 | AA50: ⬛⬛⬛⬛⬛⬛⬛⬛
A51: 49 | B51: 莎车县 | C51: 阿扎特巴格镇 | D51: 央阿格勒克村 | E51: 3 | F51: 3101521912 | G51: 310004314855 | H51: ⬛⬛⬛⬛⬛⬛⬛⬛ | I51: ⬛⬛⬛⬛⬛⬛⬛⬛ | J51: 5 | K51: 户主 | L51: 维吾尔族 | M51: 初中 | O51: 健康 | P51: 普通劳动力 | Q51: 县外省内务工 | R51: 9 | S51: 是 | T51: 已脱贫（享受政策） | U51: 2016年底 | V51: 一般农户 | W51: 缺技术 | X51: 否 | Y51: 是 | Z51: 7367.4 | AA51: ⬛⬛⬛⬛⬛⬛⬛⬛
A52: 50 | B52: 莎车县 | C52: 阿扎特巴格镇 | D52: 央阿格勒克村 | E52: 3 | F52: 3101521912 | G52: 310004314856 | H52: ⬛⬛⬛⬛⬛⬛⬛⬛ | I52: ⬛⬛⬛⬛⬛⬛⬛⬛ | J52: 5 | K52: 配偶 | L52: 维吾尔族 | M52: 初中 | O52: 健康 | P52: 普通劳动力 | Q52: 县外省内务工 | R52: 2 | S52: 是 | T52: 已脱贫（享受政策） | U52: 2016年底 | V52: 一般农户 | W52: 缺技术 | X52: 否 | Y52: 是 | Z52: 7367.4 | AA52: ⬛⬛⬛⬛⬛⬛⬛⬛
A53: 51 | B53: 莎车县 | C53: 阿扎特巴格镇 | D53: 央阿格勒克村 | E53: 3 | F53: 3101521912 | G53: 310004314853 | H53: ⬛⬛⬛⬛⬛⬛⬛⬛ | I53: ⬛⬛⬛⬛⬛⬛⬛⬛ | J53: 5 | K53: 之子 | L53: 维吾尔族 | N53: 小学 | O53: 健康 | P53: 无劳动力 | R53: 0 | S53: 是 | T53: 已脱贫（享受政策） | U53: 2016年底 | V53: 一般农户 | W53: 缺技术 | X53: 否 | Y53: 是 | Z53: 7367.4 | AA53: ⬛⬛⬛⬛⬛⬛⬛⬛
A54: 52 | B54: 莎车县 | C54: 阿扎特巴格镇 | D54: 央阿格勒克村 | E54: 3 | F54: 3101521912 | G54: 5700000148304965 | H54: ⬛⬛⬛⬛⬛⬛⬛⬛ | I54: ⬛⬛⬛⬛⬛⬛⬛⬛ | J54: 5 | K54: 之子 | L54: 维吾尔族 | N54: 学龄前儿童 | O54: 健康 | P54: 无劳动力 | R54: 0 | S54: 是 | T54: 已脱贫（享受政策） | U54: 2016年底 | V54: 一般农户 | W54: 缺技术 | X54: 否 | Y54: 是 | Z54: 7367.4 | AA54: ⬛⬛⬛⬛⬛⬛⬛⬛
A55: 53 | B55: 莎车县 | C55: 阿扎特巴格镇 | D55: 央阿格勒克村 | E55: 3 | F55: 3101521912 | G55: 310004314854 | H55: ⬛⬛⬛⬛⬛⬛⬛⬛ | I55: ⬛⬛⬛⬛⬛⬛⬛⬛ | J55: 5 | K55: 之女 | L55: 维吾尔族 | N55: 小学 | O55: 健康 | P55: 无劳动力 | R55: 0 | S55: 是 | T55: 已脱贫（享受政策） | U55: 2016年底 | V55: 一般农户 | W55: 缺技术 | X55: 否 | Y55: 是 | Z55: 7367.4 | AA55: ⬛⬛⬛⬛⬛⬛⬛⬛
A56: 54 | B56: 莎车县 | C56: 阿扎特巴格镇 | D56: 央阿格勒克村 | E56: 2 | F56: 3101522954 | G56: 310004270691 | H56: ⬛⬛⬛⬛⬛⬛⬛⬛ | I56: ⬛⬛⬛⬛⬛⬛⬛⬛ | J56: 5 | K56: 户主 | L56: 维吾尔族 | M56: 初中 | O56: 健康 | P56: 普通劳动力 | Q56: 县外省内务工 | R56: 8 | S56: 是 | T56: 已脱贫（享受政策） | U56: 2018年底 | V56: 一般农户 | W56: 缺技术 | X56: 否 | Y56: 是 | Z56: 7888.4 | AA56: ⬛⬛⬛⬛⬛⬛⬛⬛
A57: 55 | B57: 莎车县 | C57: 阿扎特巴格镇 | D57: 央阿格勒克村 | E57: 2 | F57: 3101522954 | G57: 310004270687 | H57: ⬛⬛⬛⬛⬛⬛⬛⬛ | I57: ⬛⬛⬛⬛⬛⬛⬛⬛ | J57: 5 | K57: 配偶 | L57: 维吾尔族 | M57: 初中 | O57: 健康 | P57: 普通劳动力 | R57: 0 | S57: 是 | T57: 已脱贫（享受政策） | U57: 2018年底 | V57: 一般农户 | W57: 缺技术 | X57: 否 | Y57: 是 | Z57: 7888.4 | AA57: ⬛⬛⬛⬛⬛⬛⬛⬛
A58: 56 | B58: 莎车县 | C58: 阿扎特巴格镇 | D58: 央阿格勒克村 | E58: 2 | F58: 3101522954 | G58: 310004270688 | H58: ⬛⬛⬛⬛⬛⬛⬛⬛ | I58: ⬛⬛⬛⬛⬛⬛⬛⬛ | J58: 5 | K58: 之子 | L58: 维吾尔族 | N58: 小学 | O58: 健康 | P58: 无劳动力 | R58: 0 | S58: 是 | T58: 已脱贫（享受政策） | U58: 2018年底 | V58: 一般农户 | W58: 缺技术 | X58: 否 | Y58: 是 | Z58: 7888.4 | AA58: ⬛⬛⬛⬛⬛⬛⬛⬛
A59: 57 | B59: 莎车县 | C59: 阿扎特巴格镇 | D59: 央阿格勒克村 | E59: 2 | F59: 3101522954 | G59: 310004270689 | H59: ⬛⬛⬛⬛⬛⬛⬛⬛ | I59: ⬛⬛⬛⬛⬛⬛⬛⬛ | J59: 5 | K59: 之子 | L59: 维吾尔族 | M59: 高中 | O59: 健康 | P59: 普通劳动力 | R59: 0 | S59: 是 | T59: 已脱贫（享受政策） | U59: 2018年底 | V59: 一般农户 | W59: 缺技术 | X59: 否 | Y59: 是 | Z59: 7888.4 | AA59: ⬛⬛⬛⬛⬛⬛⬛⬛
A60: 58 | B60: 莎车县 | C60: 阿扎特巴格镇 | D60: 央阿格勒克村 | E60: 2 | F60: 3101522954 | G60: 310004270690 | H60: ⬛⬛⬛⬛⬛⬛⬛⬛ | I60: ⬛⬛⬛⬛⬛⬛⬛⬛ | J60: 5 | K60: 之女 | L60: 维吾尔族 | N60: 九年级 | O60: 健康 | P60: 无劳动力 | R60: 0 | S60: 是 | T60: 已脱贫（享受政策） | U60: 2018年底 | V60: 一般农户 | W60: 缺技术 | X60: 否 | Y60: 是 | Z60: 7888.4 | AA60: ⬛⬛⬛⬛⬛⬛⬛⬛
A61: 59 | B61: 莎车县 | C61: 阿扎特巴格镇 | D61: 央阿格勒克村 | E61: 3 | F61: 3101523695 | G61: 310004278769 | H61: ⬛⬛⬛⬛⬛⬛⬛⬛ | I61: ⬛⬛⬛⬛⬛⬛⬛⬛ | J61: 2 | K61: 户主 | L61: 维吾尔族 | M61: 小学 | O61: 健康 | P61: 普通劳动力 | R61: 0 | S61: 是 | T61: 已脱贫（享受政策） | U61: 2018年底 | V61: 低保户 | W61: 缺技术 | X61: 否 | Y61: 是 | Z61: 10013 | AA61: ⬛⬛⬛⬛⬛⬛⬛⬛
A62: 60 | B62: 莎车县 | C62: 阿扎特巴格镇 | D62: 央阿格勒克村 | E62: 3 | F62: 3101523695 | G62: 310004278770 | H62: ⬛⬛⬛⬛⬛⬛⬛⬛ | I62: ⬛⬛⬛⬛⬛⬛⬛⬛ | J62: 2 | K62: 配偶 | L62: 维吾尔族 | M62: 小学 | O62: 健康 | P62: 普通劳动力 | R62: 0 | S62: 是 | T62: 已脱贫（享受政策） | U62: 2018年底 | V62: 低保户 | W62: 缺技术 | X62: 否 | Y62: 是 | Z62: 10013 | AA62: ⬛⬛⬛⬛⬛⬛⬛⬛
A63: 61 | B63: 莎车县 | C63: 阿扎特巴格镇 | D63: 央阿格勒克村 | E63: 1 | F63: 3101525488 | G63: 310004246662 | H63: ⬛⬛⬛⬛⬛⬛⬛⬛ | I63: ⬛⬛⬛⬛⬛⬛⬛⬛ | J63: 5 | K63: 户主 | L63: 维吾尔族 | M63: 初中 | O63: 健康 | P63: 普通劳动力 | Q63: 乡（镇）内务工 | R63: 12 | S63: 是 | T63: 已脱贫（享受政策） | U63: 2018年底 | V63: 低保户 | W63: 缺技术 | X63: 否 | Y63: 是 | Z63: 8414.4 | AA63: ⬛⬛⬛⬛⬛⬛⬛⬛
A64: 62 | B64: 莎车县 | C64: 阿扎特巴格镇 | D64: 央阿格勒克村 | E64: 1 | F64: 3101525488 | G64: 310004246663 | H64: ⬛⬛⬛⬛⬛⬛⬛⬛ | I64: ⬛⬛⬛⬛⬛⬛⬛⬛ | J64: 5 | K64: 配偶 | L64: 维吾尔族 | M64: 初中 | O64: 健康 | P64: 普通劳动力 | R64: 0 | S64: 是 | T64: 已脱贫（享受政策） | U64: 2018年底 | V64: 低保户 | W64: 缺技术 | X64: 否 | Y64: 是 | Z64: 8414.4 | AA64: ⬛⬛⬛⬛⬛⬛⬛⬛
A65: 63 | B65: 莎车县 | C65: 阿扎特巴格镇 | D65: 央阿格勒克村 | E65: 1 | F65: 3101525488 | G65: 5700000148291930 | H65: ⬛⬛⬛⬛⬛⬛⬛⬛ | I65: ⬛⬛⬛⬛⬛⬛⬛⬛ | J65: 5 | K65: 之子 | L65: 维吾尔族 | N65: 小学 | O65: 健康 | P65: 无劳动力 | R65: 0 | S65: 是 | T65: 已脱贫（享受政策） | U65: 2018年底 | V65: 低保户 | W65: 缺技术 | X65: 否 | Y65: 是 | Z65: 8414.4 | AA65: ⬛⬛⬛⬛⬛⬛⬛⬛
A66: 64 | B66: 莎车县 | C66: 阿扎特巴格镇 | D66: 央阿格勒克村 | E66: 1 | F66: 3101525488 | G66: 5700000364838419 | H66: ⬛⬛⬛⬛⬛⬛⬛⬛ | I66: ⬛⬛⬛⬛⬛⬛⬛⬛ | J66: 5 | K66: 之子 | L66: 维吾尔族 | N66: 学龄前儿童 | O66: 健康 | P66: 无劳动力 | S66: 是 | T66: 已脱贫（享受政策） | U66: 2018年底 | V66: 低保户 | W66: 缺技术 | X66: 否 | Y66: 是 | Z66: 8414.4 | AA66: ⬛⬛⬛⬛⬛⬛⬛⬛
A67: 65 | B67: 莎车县 | C67: 阿扎特巴格镇 | D67: 央阿格勒克村 | E67: 1 | F67: 3101525488 | G67: 5700000148292730 | H67: ⬛⬛⬛⬛⬛⬛⬛⬛ | I67: ⬛⬛⬛⬛⬛⬛⬛⬛ | J67: 5 | K67: 之母 | L67: 维吾尔族 | M67: 小学 | O67: 健康 | P67: 无劳动力 | R67: 0 | S67: 是 | T67: 已脱贫（享受政策） | U67: 2018年底 | V67: 低保户 | W67: 缺技术 | X67: 否 | Y67: 是 | Z67: 8414.4 | AA67: ⬛⬛⬛⬛⬛⬛⬛⬛
A68: 66 | B68: 莎车县 | C68: 阿扎特巴格镇 | D68: 央阿格勒克村 | E68: 1 | F68: 3101525777 | G68: 310004252948 | H68: ⬛⬛⬛⬛⬛⬛⬛⬛ | I68: ⬛⬛⬛⬛⬛⬛⬛⬛ | J68: 3 | K68: 户主 | L68: 维吾尔族 | M68: 初中 | O68: 健康 | P68: 普通劳动力 | Q68: 乡（镇）内务工 | R68: 8 | S68: 是 | T68: 未脱贫 | V68: 低保贫困户 | W68: 缺技术 | X68: 否 | Y68: 是 | Z68: 10987 | AA68: ⬛⬛⬛⬛⬛⬛⬛⬛
A69: 67 | B69: 莎车县 | C69: 阿扎特巴格镇 | D69: 央阿格勒克村 | E69: 1 | F69: 3101525777 | G69: 100000116884040 | H69: ⬛⬛⬛⬛⬛⬛⬛⬛ | I69: ⬛⬛⬛⬛⬛⬛⬛⬛ | J69: 3 | K69: 配偶 | L69: 维吾尔族 | M69: 初中 | O69: 健康 | P69: 普通劳动力 | Q69: 乡（镇）内务工 | R69: 8 | S69: 是 | T69: 未脱贫 | V69: 低保贫困户 | W69: 缺技术 | X69: 否 | Y69: 是 | Z69: 10987 | AA69: ⬛⬛⬛⬛⬛⬛⬛⬛
A70: 68 | B70: 莎车县 | C70: 阿扎特巴格镇 | D70: 央阿格勒克村 | E70: 1 | F70: 3101525777 | G70: 5700000204091687 | H70: ⬛⬛⬛⬛⬛⬛⬛⬛ | I70: ⬛⬛⬛⬛⬛⬛⬛⬛ | J70: 3 | K70: 其他 | L70: 维吾尔族 | M70: 初中 | O70: 健康 | P70: 普通劳动力 | R70: 0 | S70: 是 | T70: 未脱贫 | V70: 低保贫困户 | W70: 缺技术 | X70: 否 | Y70: 是 | Z70: 10987 | AA70: ⬛⬛⬛⬛⬛⬛⬛⬛
A71: 69 | B71: 莎车县 | C71: 阿扎特巴格镇 | D71: 央阿格勒克村 | E71: 3 | F71: 3101526056 | G71: 310004272471 | H71: ⬛⬛⬛⬛⬛⬛⬛⬛ | I71: ⬛⬛⬛⬛⬛⬛⬛⬛ | J71: 4 | K71: 户主 | L71: 维吾尔族 | M71: 初中 | O71: 健康 | P71: 普通劳动力 | R71: 0 | S71: 是 | T71: 已脱贫（享受政策） | U71: 2018年底 | V71: 一般农户 | W71: 缺技术 | X71: 否 | Y71: 是 | Z71: 6636.5 | AA71: ⬛⬛⬛⬛⬛⬛⬛⬛
A72: 70 | B72: 莎车县 | C72: 阿扎特巴格镇 | D72: 央阿格勒克村 | E72: 3 | F72: 3101526056 | G72: 310004272469 | H72: ⬛⬛⬛⬛⬛⬛⬛⬛ | I72: ⬛⬛⬛⬛⬛⬛⬛⬛ | J72: 4 | K72: 配偶 | L72: 维吾尔族 | M72: 初中 | O72: 健康 | P72: 普通劳动力 | S72: 是 | T72: 已脱贫（享受政策） | U72: 2018年底 | V72: 一般农户 | W72: 缺技术 | X72: 否 | Y72: 是 | Z72: 6636.5 | AA72: ⬛⬛⬛⬛⬛⬛⬛⬛
A73: 71 | B73: 莎车县 | C73: 阿扎特巴格镇 | D73: 央阿格勒克村 | E73: 3 | F73: 3101526056 | G73: 310004272468 | H73: ⬛⬛⬛⬛⬛⬛⬛⬛ | I73: ⬛⬛⬛⬛⬛⬛⬛⬛ | J73: 4 | K73: 之子 | L73: 维吾尔族 | N73: 小学 | O73: 健康 | P73: 无劳动力 | R73: 0 | S73: 是 | T73: 已脱贫（享受政策） | U73: 2018年底 | V73: 一般农户 | W73: 缺技术 | X73: 否 | Y73: 是 | Z73: 6636.5 | AA73: ⬛⬛⬛⬛⬛⬛⬛⬛
A74: 72 | B74: 莎车县 | C74: 阿扎特巴格镇 | D74: 央阿格勒克村 | E74: 3 | F74: 3101526056 | G74: 310004272470 | H74: ⬛⬛⬛⬛⬛⬛⬛⬛ | I74: ⬛⬛⬛⬛⬛⬛⬛⬛ | J74: 4 | K74: 之女 | L74: 维吾尔族 | N74: 小学 | O74: 健康 | P74: 无劳动力 | R74: 0 | S74: 是 | T74: 已脱贫（享受政策） | U74: 2018年底 | V74: 一般农户 | W74: 缺技术 | X74: 否 | Y74: 是 | Z74: 6636.5 | AA74: ⬛⬛⬛⬛⬛⬛⬛⬛
A75: 73 | B75: 莎车县 | C75: 阿扎特巴格镇 | D75: 央阿格勒克村 | E75: 1 | F75: 3101526860 | G75: 310004252470 | H75: ⬛⬛⬛⬛⬛⬛⬛⬛ | I75: ⬛⬛⬛⬛⬛⬛⬛⬛ | J75: 2 | K75: 户主 | L75: 维吾尔族 | M75: 初中 | O75: 健康 | P75: 普通劳动力 | Q75: 乡（镇）内务工 | R75: 12 | S75: 是 | T75: 已脱贫（享受政策） | U75: 2018年底 | V75: 低保户 | W75: 缺技术 | X75: 否 | Y75: 是 | Z75: 10959 | AA75: ⬛⬛⬛⬛⬛⬛⬛⬛
A76: 74 | B76: 莎车县 | C76: 阿扎特巴格镇 | D76: 央阿格勒克村 | E76: 1 | F76: 3101526860 | G76: 310004252471 | H76: ⬛⬛⬛⬛⬛⬛⬛⬛ | I76: ⬛⬛⬛⬛⬛⬛⬛⬛ | J76: 2 | K76: 配偶 | L76: 维吾尔族 | M76: 初中 | O76: 健康 | P76: 普通劳动力 | R76: 0 | S76: 是 | T76: 已脱贫（享受政策） | U76: 2018年底 | V76: 低保户 | W76: 缺技术 | X76: 否 | Y76: 是 | Z76: 10959 | AA76: ⬛⬛⬛⬛⬛⬛⬛⬛
A77: 75 | B77: 莎车县 | C77: 阿扎特巴格镇 | D77: 央阿格勒克村 | E77: 3 | F77: 3101527196 | G77: 310004253891 | H77: ⬛⬛⬛⬛⬛⬛⬛⬛ | I77: ⬛⬛⬛⬛⬛⬛⬛⬛ | J77: 4 | K77: 户主 | L77: 维吾尔族 | M77: 初中 | O77: 健康 | P77: 普通劳动力 | Q77: 乡（镇）内务工 | R77: 12 | S77: 是 | T77: 已脱贫（享受政策） | U77: 2018年底 | V77: 一般农户 | W77: 缺技术 | X77: 否 | Y77: 是 | Z77: 8120.75 | AA77: ⬛⬛⬛⬛⬛⬛⬛⬛
A78: 76 | B78: 莎车县 | C78: 阿扎特巴格镇 | D78: 央阿格勒克村 | E78: 3 | F78: 3101527196 | G78: 310004253892 | H78: ⬛⬛⬛⬛⬛⬛⬛⬛ | I78: ⬛⬛⬛⬛⬛⬛⬛⬛ | J78: 4 | K78: 配偶 | L78: 维吾尔族 | M78: 初中 | O78: 健康 | P78: 普通劳动力 | R78: 0 | S78: 是 | T78: 已脱贫（享受政策） | U78: 2018年底 | V78: 一般农户 | W78: 缺技术 | X78: 否 | Y78: 是 | Z78: 8120.75 | AA78: ⬛⬛⬛⬛⬛⬛⬛⬛
A79: 77 | B79: 莎车县 | C79: 阿扎特巴格镇 | D79: 央阿格勒克村 | E79: 3 | F79: 3101527196 | G79: 310004253893 | H79: ⬛⬛⬛⬛⬛⬛⬛⬛ | I79: ⬛⬛⬛⬛⬛⬛⬛⬛ | J79: 4 | K79: 之子 | L79: 维吾尔族 | N79: 七年级 | O79: 健康 | P79: 无劳动力 | R79: 0 | S79: 是 | T79: 已脱贫（享受政策） | U79: 2018年底 | V79: 一般农户 | W79: 缺技术 | X79: 否 | Y79: 是 | Z79: 8120.75 | AA79: ⬛⬛⬛⬛⬛⬛⬛⬛
A80: 78 | B80: 莎车县 | C80: 阿扎特巴格镇 | D80: 央阿格勒克村 | E80: 3 | F80: 3101527196 | G80: 310004253894 | H80: ⬛⬛⬛⬛⬛⬛⬛⬛ | I80: ⬛⬛⬛⬛⬛⬛⬛⬛ | J80: 4 | K80: 之女 | L80: 维吾尔族 | N80: 小学 | O80: 健康 | P80: 无劳动力 | R80: 0 | S80: 是 | T80: 已脱贫（享受政策） | U80: 2018年底 | V80: 一般农户 | W80: 缺技术 | X80: 否 | Y80: 是 | Z80: 8120.75 | AA80: ⬛⬛⬛⬛⬛⬛⬛⬛
A81: 79 | B81: 莎车县 | C81: 阿扎特巴格镇 | D81: 央阿格勒克村 | E81: 4 | F81: 3101527938 | G81: 310004258454 | H81: ⬛⬛⬛⬛⬛⬛⬛⬛ | I81: ⬛⬛⬛⬛⬛⬛⬛⬛ | J81: 4 | K81: 户主 | L81: 维吾尔族 | M81: 初中 | O81: 健康 | P81: 普通劳动力 | R81: 0 | S81: 是 | T81: 已脱贫（享受政策） | U81: 2018年底 | V81: 一般农户 | W81: 缺技术 | X81: 否 | Y81: 是 | Z81: 6928.25 | AA81: ⬛⬛⬛⬛⬛⬛⬛⬛
A82: 80 | B82: 莎车县 | C82: 阿扎特巴格镇 | D82: 央阿格勒克村 | E82: 4 | F82: 3101527938 | G82: 310004258453 | H82: ⬛⬛⬛⬛⬛⬛⬛⬛ | I82: ⬛⬛⬛⬛⬛⬛⬛⬛ | J82: 4 | K82: 配偶 | L82: 维吾尔族 | M82: 初中 | O82: 健康 | P82: 普通劳动力 | Q82: 乡（镇）内务工 | R82: 12 | S82: 是 | T82: 已脱贫（享受政策） | U82: 2018年底 | V82: 一般农户 | W82: 缺技术 | X82: 否 | Y82: 是 | Z82: 6928.25 | AA82: ⬛⬛⬛⬛⬛⬛⬛⬛
A83: 81 | B83: 莎车县 | C83: 阿扎特巴格镇 | D83: 央阿格勒克村 | E83: 4 | F83: 3101527938 | G83: 5700000148280828 | H83: ⬛⬛⬛⬛⬛⬛⬛⬛ | I83: ⬛⬛⬛⬛⬛⬛⬛⬛ | J83: 4 | K83: 之子 | L83: 维吾尔族 | N83: 学龄前儿童 | O83: 健康 | P83: 无劳动力 | Q83: 乡（镇）内务工 | R83: 0.2 | S83: 是 | T83: 已脱贫（享受政策） | U83: 2018年底 | V83: 一般农户 | W83: 缺技术 | X83: 否 | Y83: 是 | Z83: 6928.25 | AA83: ⬛⬛⬛⬛⬛⬛⬛⬛
A84: 82 | B84: 莎车县 | C84: 阿扎特巴格镇 | D84: 央阿格勒克村 | E84: 4 | F84: 3101527938 | G84: 310004258455 | H84: ⬛⬛⬛⬛⬛⬛⬛⬛ | I84: ⬛⬛⬛⬛⬛⬛⬛⬛ | J84: 4 | K84: 之女 | L84: 维吾尔族 | N84: 小学 | O84: 健康 | P84: 无劳动力 | R84: 0 | S84: 是 | T84: 已脱贫（享受政策） | U84: 2018年底 | V84: 一般农户 | W84: 缺技术 | X84: 否 | Y84: 是 | Z84: 6928.25 | AA84: ⬛⬛⬛⬛⬛⬛⬛⬛
A85: 83 | B85: 莎车县 | C85: 阿扎特巴格镇 | D85: 央阿格勒克村 | E85: 3 | F85: 3101528020 | G85: 310004263036 | H85: ⬛⬛⬛⬛⬛⬛⬛⬛ | I85: ⬛⬛⬛⬛⬛⬛⬛⬛ | J85: 3 | K85: 户主 | L85: 维吾尔族 | M85: 初中 | O85: 健康 | P85: 普通劳动力 | Q85: 乡（镇）内务工 | R85: 12 | S85: 是 | T85: 已脱贫（享受政策） | U85: 2017年底 | V85: 一般农户 | W85: 缺技术 | X85: 否 | Y85: 是 | Z85: 13683.33 | AA85: ⬛⬛⬛⬛⬛⬛⬛⬛
A86: 84 | B86: 莎车县 | C86: 阿扎特巴格镇 | D86: 央阿格勒克村 | E86: 3 | F86: 3101528020 | G86: 310004263037 | H86: ⬛⬛⬛⬛⬛⬛⬛⬛ | I86: ⬛⬛⬛⬛⬛⬛⬛⬛ | J86: 3 | K86: 配偶 | L86: 维吾尔族 | M86: 初中 | O86: 健康 | P86: 普通劳动力 | R86: 0 | S86: 是 | T86: 已脱贫（享受政策） | U86: 2017年底 | V86: 一般农户 | W86: 缺技术 | X86: 否 | Y86: 是 | Z86: 13683.33 | AA86: ⬛⬛⬛⬛⬛⬛⬛⬛
A87: 85 | B87: 莎车县 | C87: 阿扎特巴格镇 | D87: 央阿格勒克村 | E87: 3 | F87: 3101528020 | G87: 310004263038 | H87: ⬛⬛⬛⬛⬛⬛⬛⬛ | I87: ⬛⬛⬛⬛⬛⬛⬛⬛ | J87: 3 | K87: 之女 | L87: 维吾尔族 | N87: 小学 | O87: 健康 | P87: 无劳动力 | R87: 0 | S87: 是 | T87: 已脱贫（享受政策） | U87: 2017年底 | V87: 一般农户 | W87: 缺技术 | X87: 否 | Y87: 是 | Z87: 13683.33 | AA87: ⬛⬛⬛⬛⬛⬛⬛⬛
A88: 86 | B88: 莎车县 | C88: 阿扎特巴格镇 | D88: 央阿格勒克村 | E88: 1 | F88: 3101528070 | G88: 310004287575 | H88: ⬛⬛⬛⬛⬛⬛⬛⬛ | I88: ⬛⬛⬛⬛⬛⬛⬛⬛ | J88: 5 | K88: 户主 | L88: 维吾尔族 | M88: 初中 | O88: 健康 | P88: 普通劳动力 | Q88: 乡（镇）内务工 | R88: 2 | S88: 是 | T88: 已脱贫（享受政策） | U88: 2015年底 | V88: 低保户 | W88: 缺技术 | X88: 否 | Y88: 是 | Z88: 5215.8 | AA88: ⬛⬛⬛⬛⬛⬛⬛⬛
A89: 87 | B89: 莎车县 | C89: 阿扎特巴格镇 | D89: 央阿格勒克村 | E89: 1 | F89: 3101528070 | G89: 310004287577 | H89: ⬛⬛⬛⬛⬛⬛⬛⬛ | I89: ⬛⬛⬛⬛⬛⬛⬛⬛ | J89: 5 | K89: 配偶 | L89: 维吾尔族 | M89: 初中 | O89: 健康 | P89: 普通劳动力 | R89: 0 | S89: 是 | T89: 已脱贫（享受政策） | U89: 2015年底 | V89: 低保户 | W89: 缺技术 | X89: 否 | Y89: 是 | Z89: 5215.8 | AA89: ⬛⬛⬛⬛⬛⬛⬛⬛
A90: 88 | B90: 莎车县 | C90: 阿扎特巴格镇 | D90: 央阿格勒克村 | E90: 1 | F90: 3101528070 | G90: 310004287574 | H90: ⬛⬛⬛⬛⬛⬛⬛⬛ | I90: ⬛⬛⬛⬛⬛⬛⬛⬛ | J90: 5 | K90: 之女 | L90: 维吾尔族 | N90: 小学 | O90: 残疾 | P90: 无劳动力 | R90: 0 | S90: 是 | T90: 已脱贫（享受政策） | U90: 2015年底 | V90: 低保户 | W90: 缺技术 | X90: 否 | Y90: 是 | Z90: 5215.8 | AA90: ⬛⬛⬛⬛⬛⬛⬛⬛ | AC90: 残疾
A91: 89 | B91: 莎车县 | C91: 阿扎特巴格镇 | D91: 央阿格勒克村 | E91: 1 | F91: 3101528070 | G91: 310004287576 | H91: ⬛⬛⬛⬛⬛⬛⬛⬛ | I91: ⬛⬛⬛⬛⬛⬛⬛⬛ | J91: 5 | K91: 之女 | L91: 维吾尔族 | N91: 八年级 | O91: 健康 | P91: 无劳动力 | R91: 0 | S91: 是 | T91: 已脱贫（享受政策） | U91: 2015年底 | V91: 低保户 | W91: 缺技术 | X91: 否 | Y91: 是 | Z91: 5215.8 | AA91: ⬛⬛⬛⬛⬛⬛⬛⬛
A92: 90 | B92: 莎车县 | C92: 阿扎特巴格镇 | D92: 央阿格勒克村 | E92: 1 | F92: 3101528070 | G92: 5700000148289767 | H92: ⬛⬛⬛⬛⬛⬛⬛⬛ | I92: ⬛⬛⬛⬛⬛⬛⬛⬛ | J92: 5 | K92: 之女 | L92: 维吾尔族 | N92: 小学 | O92: 健康 | P92: 无劳动力 | R92: 0 | S92: 是 | T92: 已脱贫（享受政策） | U92: 2015年底 | V92: 低保户 | W92: 缺技术 | X92: 否 | Y92: 是 | Z92: 5215.8 | AA92: ⬛⬛⬛⬛⬛⬛⬛⬛
A93: 91 | B93: 莎车县 | C93: 阿扎特巴格镇 | D93: 央阿格勒克村 | E93: 1 | F93: 3101529401 | G93: 310004284671 | H93: ⬛⬛⬛⬛⬛⬛⬛⬛ | I93: ⬛⬛⬛⬛⬛⬛⬛⬛ | J93: 4 | K93: 户主 | L93: 维吾尔族 | M93: 初中 | O93: 健康 | P93: 普通劳动力 | R93: 0 | S93: 是 | T93: 未脱贫 | V93: 低保贫困户 | W93: 缺技术 | X93: 否 | Y93: 是 | Z93: 4412.5 | AA93: ⬛⬛⬛⬛⬛⬛⬛⬛
A94: 92 | B94: 莎车县 | C94: 阿扎特巴格镇 | D94: 央阿格勒克村 | E94: 1 | F94: 3101529401 | G94: 310004284672 | H94: ⬛⬛⬛⬛⬛⬛⬛⬛ | I94: ⬛⬛⬛⬛⬛⬛⬛⬛ | J94: 4 | K94: 配偶 | L94: 维吾尔族 | M94: 初中 | O94: 健康 | P94: 普通劳动力 | Q94: 乡（镇）内务工 | R94: 2 | S94: 是 | T94: 未脱贫 | V94: 低保贫困户 | W94: 缺技术 | X94: 否 | Y94: 是 | Z94: 4412.5 | AA94: ⬛⬛⬛⬛⬛⬛⬛⬛
A95: 93 | B95: 莎车县 | C95: 阿扎特巴格镇 | D95: 央阿格勒克村 | E95: 1 | F95: 3101529401 | G95: 310004284674 | H95: ⬛⬛⬛⬛⬛⬛⬛⬛ | I95: ⬛⬛⬛⬛⬛⬛⬛⬛ | J95: 4 | K95: 之子 | L95: 维吾尔族 | N95: 七年级 | O95: 健康 | P95: 无劳动力 | R95: 0 | S95: 是 | T95: 未脱贫 | V95: 低保贫困户 | W95: 缺技术 | X95: 否 | Y95: 是 | Z95: 4412.5 | AA95: ⬛⬛⬛⬛⬛⬛⬛⬛
A96: 94 | B96: 莎车县 | C96: 阿扎特巴格镇 | D96: 央阿格勒克村 | E96: 1 | F96: 3101529401 | G96: 5700000148486777 | H96: ⬛⬛⬛⬛⬛⬛⬛⬛ | I96: ⬛⬛⬛⬛⬛⬛⬛⬛ | J96: 4 | K96: 之子 | L96: 维吾尔族 | N96: 学龄前儿童 | O96: 健康 | P96: 无劳动力 | R96: 0 | S96: 是 | T96: 未脱贫 | V96: 低保贫困户 | W96: 缺技术 | X96: 否 | Y96: 是 | Z96: 4412.5 | AA96: ⬛⬛⬛⬛⬛⬛⬛⬛
A97: 95 | B97: 莎车县 | C97: 阿扎特巴格镇 | D97: 央阿格勒克村 | E97: 4 | F97: 3101529480 | G97: 310004286398 | H97: ⬛⬛⬛⬛⬛⬛⬛⬛ | I97: ⬛⬛⬛⬛⬛⬛⬛⬛ | J97: 4 | K97: 户主 | L97: 维吾尔族 | M97: 初中 | O97: 健康 | P97: 普通劳动力 | Q97: 乡（镇）内务工 | R97: 12 | S97: 是 | T97: 已脱贫（享受政策） | U97: 2018年底 | V97: 一般农户 | W97: 缺技术 | X97: 否 | Y97: 是 | Z97: 7024 | AA97: ⬛⬛⬛⬛⬛⬛⬛⬛
A98: 96 | B98: 莎车县 | C98: 阿扎特巴格镇 | D98: 央阿格勒克村 | E98: 4 | F98: 3101529480 | G98: 310004286397 | H98: ⬛⬛⬛⬛⬛⬛⬛⬛ | I98: ⬛⬛⬛⬛⬛⬛⬛⬛ | J98: 4 | K98: 配偶 | L98: 维吾尔族 | M98: 初中 | O98: 健康 | P98: 普通劳动力 | Q98: 乡（镇）内务工 | R98: 12 | S98: 是 | T98: 已脱贫（享受政策） | U98: 2018年底 | V98: 一般农户 | W98: 缺技术 | X98: 否 | Y98: 是 | Z98: 7024 | AA98: ⬛⬛⬛⬛⬛⬛⬛⬛
A99: 97 | B99: 莎车县 | C99: 阿扎特巴格镇 | D99: 央阿格勒克村 | E99: 4 | F99: 3101529480 | G99: 310004286396 | H99: ⬛⬛⬛⬛⬛⬛⬛⬛ | I99: ⬛⬛⬛⬛⬛⬛⬛⬛ | J99: 4 | K99: 之子 | L99: 维吾尔族 | N99: 九年级 | O99: 健康 | P99: 无劳动力 | R99: 0 | S99: 是 | T99: 已脱贫（享受政策） | U99: 2018年底 | V99: 一般农户 | W99: 缺技术 | X99: 否 | Y99: 是 | Z99: 7024 | AA99: ⬛⬛⬛⬛⬛⬛⬛⬛
A100: 98 | B100: 莎车县 | C100: 阿扎特巴格镇 | D100: 央阿格勒克村 | E100: 4 | F100: 3101529480 | G100: 310004286395 | H100: ⬛⬛⬛⬛⬛⬛⬛⬛ | I100: ⬛⬛⬛⬛⬛⬛⬛⬛ | J100: 4 | K100: 之女 | L100: 维吾尔族 | N100: 小学 | O100: 健康 | P100: 无劳动力 | Q100: 乡（镇）内务工 | R100: 12 | S100: 是 | T100: 已脱贫（享受政策） | U100: 2018年底 | V100: 一般农户 | W100: 缺技术 | X100: 否 | Y100: 是 | Z100: 7024 | AA100: ⬛⬛⬛⬛⬛⬛⬛⬛
...

Sheet 总人口
A1: 阿扎特巴格镇央阿格勒克（13）村人口总台账
A2: 序号 | B2: 人员状态 | C2: 姓名 | D2: 性别 | E2: 出生日期 | F2: 民族 | G2: 公民身份号码 | H2: 户籍详址 | I2: 户号 | J2: 与户主关系 | K2: 门楼详址 | L2: 门楼牌号 | M2: 是否为贫困户 | N2: 残疾情况 | O2: 低保金 | P2: slry | Q2: 备注
A3: 1 | B3: 在册 | C3: 麦麦提·玉斯音 | D3: 男 | E3: 1952-04-12 | F3: 维吾尔 | G3: 653125195204123811 | H3: 新疆莎车县阿扎提巴格乡央阿克勒克村3组125号 | I3: 653100000070830 | J3: 户主 | K3: 3组125号 | M3: 否 | P3: 担保
A4: 2 | B4: 在册 | C4: ⬛⬛⬛⬛⬛⬛⬛⬛ | D4: 女 | E4: 1983-01-10 | F4: 维吾尔 | G4: ⬛⬛⬛⬛⬛⬛⬛⬛ | H4: 新疆莎车县阿扎提巴格乡央阿克勒克村2组55号 | I4: 653100000071182 | J4: 户主 | K4: 2组55号 | M4: 是
A5: 3 | B5: 在册 | C5: ⬛⬛⬛⬛⬛⬛⬛⬛ | D5: 男 | E5: 1978-10-04 | F5: 维吾尔 | G5: ⬛⬛⬛⬛⬛⬛⬛⬛ | H5: 新疆莎车县阿扎提巴格乡央阿克勒克村2组55号 | I5: 653100000071182 | J5: 夫 | K5: 2组55号 | M5: 是
A6: 4 | B6: 在册 | C6: ⬛⬛⬛⬛⬛⬛⬛⬛ | D6: 男 | E6: 2007-05-18 | F6: 维吾尔 | G6: ⬛⬛⬛⬛⬛⬛⬛⬛ | H6: 新疆莎车县阿扎提巴格乡央阿克勒克村2组55号 | I6: 653100000071182 | J6: 子 | K6: 2组55号 | M6: 是
A7: 5 | B7: 在册 | C7: ⬛⬛⬛⬛⬛⬛⬛⬛ | D7: 女 | E7: 2017-07-10 | F7: 维吾尔 | G7: ⬛⬛⬛⬛⬛⬛⬛⬛ | H7: 新疆莎车县阿扎提巴格乡央阿克勒克村2组55号 | I7: 653100000071182 | J7: 女 | K7: 2组55号 | M7: 是
A8: 6 | B8: 在册 | C8: ⬛⬛⬛⬛⬛⬛⬛⬛ | D8: 男 | E8: 1980-10-15 | F8: 维吾尔 | G8: ⬛⬛⬛⬛⬛⬛⬛⬛ | H8: 新疆莎车县阿扎提巴格乡央阿克勒克村2组52号 | I8: 653100000079962 | J8: 户主 | K8: 2组52号 | M8: 是
A9: 7 | B9: 在册 | C9: ⬛⬛⬛⬛⬛⬛⬛⬛ | D9: 女 | E9: 1969-08-04 | F9: 维吾尔 | G9: ⬛⬛⬛⬛⬛⬛⬛⬛ | H9: 新疆莎车县阿扎提巴格乡央阿克勒克村2组52号 | I9: 653100000079962 | J9: 妻 | K9: 2组52号 | M9: 是
A10: 8 | B10: 在册 | C10: ⬛⬛⬛⬛⬛⬛⬛⬛ | D10: 女 | E10: 2001-12-23 | F10: 维吾尔 | G10: ⬛⬛⬛⬛⬛⬛⬛⬛ | H10: 新疆莎车县阿扎提巴格乡央阿克勒克村2组52号 | I10: 653100000079962 | J10: 女 | K10: 2组52号 | M10: 是
A11: 9 | B11: 在册 | C11: ⬛⬛⬛⬛⬛⬛⬛⬛ | D11: 男 | E11: 1979-10-25 | F11: 维吾尔 | G11: ⬛⬛⬛⬛⬛⬛⬛⬛ | H11: 新疆莎车县阿扎提巴格乡央阿克勒克村2组99号 | I11: 653100000091331 | J11: 户主 | K11: 2组99号 | M11: 是
A12: 10 | B12: 在册 | C12: ⬛⬛⬛⬛⬛⬛⬛⬛ | D12: 女 | E12: 1980-07-14 | F12: 维吾尔 | G12: ⬛⬛⬛⬛⬛⬛⬛⬛ | H12: 新疆莎车县阿扎提巴格乡央阿克勒克村2组99号 | I12: 653100000091331 | J12: 妻 | K12: 2组99号 | M12: 是
A13: 11 | B13: 在册 | C13: ⬛⬛⬛⬛⬛⬛⬛⬛ | D13: 男 | E13: 2000-06-29 | F13: 维吾尔 | G13: ⬛⬛⬛⬛⬛⬛⬛⬛ | H13: 新疆莎车县阿扎提巴格乡央阿克勒克村2组99号 | I13: 653100000091331 | J13: 子 | K13: 2组99号 | M13: 是
A14: 12 | B14: 在册 | C14: ⬛⬛⬛⬛⬛⬛⬛⬛ | D14: 女 | E14: 2012-02-29 | F14: 维吾尔 | G14: ⬛⬛⬛⬛⬛⬛⬛⬛ | H14: 新疆莎车县阿扎提巴格乡央阿克勒克村2组99号 | I14: 653100000091331 | J14: 女 | K14: 2组99号 | M14: 是
A15: 13 | B15: 在册 | C15: ⬛⬛⬛⬛⬛⬛⬛⬛ | D15: 女 | E15: 2014-11-20 | F15: 维吾尔 | G15: ⬛⬛⬛⬛⬛⬛⬛⬛ | H15: 新疆莎车县阿扎提巴格乡央阿克勒克村2组99号 | I15: 653100000091331 | J15: 二女 | K15: 2组99号 | M15: 是
... A19: 17 | B19: 在册 | C19: ⬛⬛⬛⬛⬛⬛⬛⬛ | D19: 女 | E19: 2009-04-15 | F19: 维吾尔 | G19: ⬛⬛⬛⬛⬛⬛⬛⬛ | H19: 新疆莎车县阿扎提巴格乡央阿克勒克村2组79号 | I19: 653100000093709 | J19: 女 | K19: 2组79号 | M19: 是
A20: 18 | B20: 在册 | C20: 艾麦尔·肉孜 | D20: 男 | E20: 1981-04-12 | F20: 维吾尔 | G20: 653125198104123834 | H20: 新疆莎车县阿扎提巴格乡央阿克勒克村2组76号 | I20: 653100000093710 | J20: 户主 | K20: 2组76号 | M20: 否 | P20: 收教
A21: 19 | B21: 在册 | C21: ⬛⬛⬛⬛⬛⬛⬛⬛ | D21: 女 | E21: 1989-01-13 | F21: 维吾尔 | G21: ⬛⬛⬛⬛⬛⬛⬛⬛ | H21: 新疆莎车县阿扎提巴格乡央阿克勒克村2组76号 | I21: 653100000093710 | J21: 妻 | K21: 2组76号 | M21: 否
A22: 20 | B22: 在册 | C22: ⬛⬛⬛⬛⬛⬛⬛⬛ | D22: 男 | E22: 2007-11-24 | F22: 维吾尔 | G22: ⬛⬛⬛⬛⬛⬛⬛⬛ | H22: 新疆莎车县阿扎提巴格乡央阿克勒克村2组76号 | I22: 653100000093710 | J22: 子 | K22: 2组76号 | M22: 否
A23: 21 | B23: 在册 | C23: ⬛⬛⬛⬛⬛⬛⬛⬛ | D23: 男 | E23: 2014-11-05 | F23: 维吾尔 | G23: ⬛⬛⬛⬛⬛⬛⬛⬛ | H23: 新疆莎车县阿扎提巴格乡央阿克勒克村2组76号 | I23: 653100000093710 | J23: 次子 | K23: 2组76号 | M23: 否
A24: 22 | B24: 在册 | C24: ⬛⬛⬛⬛⬛⬛⬛⬛ | D24: 男 | E24: 1994-04-28 | F24: 维吾尔 | G24: ⬛⬛⬛⬛⬛⬛⬛⬛ | H24: 新疆莎车县阿扎提巴格乡央阿克勒克村2号上100号 | I24: 653100000094581 | J24: 户主 | K24: 2号上100号 | M24: 是
A25: 23 | B25: 在册 | C25: ⬛⬛⬛⬛⬛⬛⬛⬛ | D25: 女 | E25: 1993-10-25 | F25: 维吾尔 | G25: ⬛⬛⬛⬛⬛⬛⬛⬛ | H25: 新疆莎车县阿扎提巴格乡央阿克勒克村2号上100号 | I25: 653100000094581 | J25: 妻 | K25: 2号上100号 | M25: 是
A26: 24 | B26: 在册 | C26: ⬛⬛⬛⬛⬛⬛⬛⬛ | D26: 男 | E26: 2013-07-22 | F26: 维吾尔 | G26: ⬛⬛⬛⬛⬛⬛⬛⬛ | H26: 新疆莎车县阿扎提巴格乡央阿克勒克村2号上100号 | I26: 653100000094581 | J26: 子 | K26: 2号上100号 | M26: 是
A27: 25 | B27: 在册 | C27: ⬛⬛⬛⬛⬛⬛⬛⬛ | D27: 男 | E27: 1979-06-09 | F27: 维吾尔 | G27: ⬛⬛⬛⬛⬛⬛⬛⬛ | H27: 新疆莎车县阿扎提巴格乡央阿克勒克村1组47号 | I27: 653100000094743 | J27: 户主 | K27: 1组47号 | M27: 是
A28: 26 | B28: 在册 | C28: ⬛⬛⬛⬛⬛⬛⬛⬛ | D28: 女 | E28: 1983-10-03 | F28: 维吾尔 | G28: ⬛⬛⬛⬛⬛⬛⬛⬛ | H28: 新疆莎车县阿扎提巴格乡央阿克勒克村1组47号 | I28: 653100000094743 | J28: 妻 | K28: 1组47号 | M28: 是
A29: 27 | B29: 在册 | C29: ⬛⬛⬛⬛⬛⬛⬛⬛ | D29: 男 | E29: 2008-10-14 | F29: 维吾尔 | G29: ⬛⬛⬛⬛⬛⬛⬛⬛ | H29: 新疆莎车县阿扎提巴格乡央阿克勒克村1组47号 | I29: 653100000094743 | J29: 子 | K29: 1组47号 | M29: 是
A30: 28 | B30: 在册 | C30: ⬛⬛⬛⬛⬛⬛⬛⬛ | D30: 男 | E30: 2015-04-19 | F30: 维吾尔 | G30: ⬛⬛⬛⬛⬛⬛⬛⬛ | H30: 新疆莎车县阿扎提巴格乡央阿克勒克村1组47号 | I30: 653100000094743 | J30: 子 | K30: 1组47号 | M30: 是
A31: 29 | B31: 在册 | C31: 阿布力米提·热合曼 | D31: 男 | E31: 1992-02-07 | F31: 维吾尔 | G31: 653125199202073855 | H31: 新疆莎车县阿扎提巴格乡央阿克勒克村4组120号 | I31: 653100000095667 | J31: 户主 | K31: 4组120号 | M31: 否 | P31: 收教
A32: 30 | B32: 在册 | C32: ⬛⬛⬛⬛⬛⬛⬛⬛ | D32: 女 | E32: 1991-05-14 | F32: 维吾尔 | G32: ⬛⬛⬛⬛⬛⬛⬛⬛ | H32: 新疆莎车县阿扎提巴格乡央阿克勒克村4组120号 | I32: 653100000095667 | J32: 妻 | K32: 4组120号 | M32: 否
A33: 31 | B33: 在册 | C33: ⬛⬛⬛⬛⬛⬛⬛⬛ | D33: 男 | E33: 2013-09-04 | F33: 维吾尔 | G33: ⬛⬛⬛⬛⬛⬛⬛⬛ | H33: 新疆莎车县阿扎提巴格乡央阿克勒克村4组120号 | I33: 653100000095667 | J33: 长子 | K33: 4组120号 | M33: 否
A34: 32 | B34: 在册 | C34: ⬛⬛⬛⬛⬛⬛⬛⬛ | D34: 女 | E34: 2011-05-10 | F34: 维吾尔 | G34: ⬛⬛⬛⬛⬛⬛⬛⬛ | H34: 新疆莎车县阿扎提巴格乡央阿克勒克村4组120号 | I34: 653100000095667 | J34: 女 | K34: 4组120号 | M34: 否
A35: 33 | B35: 在册 | C35: 麦麦提尼亚孜·克热木 | D35: 男 | E35: 1992-04-10 | F35: 维吾尔 | G35: 653125199204103851 | H35: 新疆莎车县阿扎提巴格乡央阿克勒克村4组42号 | I35: 653100000095771 | J35: 户主 | K35: 4组42号 | M35: 否 | P35: 收教
A36: 34 | B36: 在册 | C36: ⬛⬛⬛⬛⬛⬛⬛⬛ | D36: 女 | E36: 1990-11-14 | F36: 维吾尔 | G36: ⬛⬛⬛⬛⬛⬛⬛⬛ | H36: 新疆莎车县阿扎提巴格乡央阿克勒克村4组42号 | I36: 653100000095771 | J36: 妻 | K36: 4组42号 | M36: 否
A37: 35 | B37: 在册 | C37: ⬛⬛⬛⬛⬛⬛⬛⬛ | D37: 女 | E37: 2012-10-10 | F37: 维吾尔 | G37: ⬛⬛⬛⬛⬛⬛⬛⬛ | H37: 新疆莎车县阿扎提巴格乡央阿克勒克村4组42号 | I37: 653100000095771 | J37: 长女 | K37: 4组42号 | M37: 否
A38: 36 | B38: 在册 | C38: ⬛⬛⬛⬛⬛⬛⬛⬛ | D38: 女 | E38: 2012-10-10 | F38: 维吾尔 | G38: ⬛⬛⬛⬛⬛⬛⬛⬛ | H38: 新疆莎车县阿扎提巴格乡央阿克勒克村4组42号 | I38: 653100000095771 | J38: 二女 | K38: 4组42号 | M38: 否
A39: 37 | B39: 在册 | C39: ⬛⬛⬛⬛⬛⬛⬛⬛ | D39: 男 | E39: 1990-05-23 | F39: 维吾尔 | G39: ⬛⬛⬛⬛⬛⬛⬛⬛ | H39: 新疆莎车县阿扎提巴格乡央阿克勒克村1组48号 | I39: 653100000095774 | J39: 户主 | K39: 1组48号 | M39: 否
A40: 38 | B40: 在册 | C40: ⬛⬛⬛⬛⬛⬛⬛⬛ | D40: 女 | E40: 1991-06-07 | F40: 维吾尔 | G40: ⬛⬛⬛⬛⬛⬛⬛⬛ | H40: 新疆莎车县阿扎提巴格乡央阿克勒克村1组48号 | I40: 653100000095774 | J40: 妻 | K40: 1组48号 | M40: 否
A41: 39 | B41: 在册 | C41: ⬛⬛⬛⬛⬛⬛⬛⬛ | D41: 男 | E41: 2011-04-01 | F41: 维吾尔 | G41: ⬛⬛⬛⬛⬛⬛⬛⬛ | H41: 新疆莎车县阿扎提巴格乡央阿克勒克村1组48号 | I41: 653100000095774 | J41: 子 | K41: 1组48号 | M41: 否
A42: 40 | B42: 在册 | C42: ⬛⬛⬛⬛⬛⬛⬛⬛ | D42: 男 | E42: 1969-12-28 | F42: 维吾尔 | G42: ⬛⬛⬛⬛⬛⬛⬛⬛ | H42: 新疆莎车县阿扎提巴格乡央阿克勒克村1组98号 | I42: 653100000095781 | J42: 户主 | K42: 1组98号 | M42: 否
A43: 41 | B43: 在册 | C43: ⬛⬛⬛⬛⬛⬛⬛⬛ | D43: 女 | E43: 1987-03-18 | F43: 维吾尔 | G43: ⬛⬛⬛⬛⬛⬛⬛⬛ | H43: 新疆莎车县阿扎提巴格乡央阿克勒克村1组98号 | I43: 653100000095781 | J43: 妻 | K43: 1组98号 | M43: 否
A44: 42 | B44: 在册 | C44: ⬛⬛⬛⬛⬛⬛⬛⬛ | D44: 女 | E44: 2012-03-19 | F44: 维吾尔 | G44: ⬛⬛⬛⬛⬛⬛⬛⬛ | H44: 新疆莎车县阿扎提巴格乡央阿克勒克村1组98号 | I44: 653100000095781 | J44: 女 | K44: 1组98号 | M44: 否
A45: 43 | B45: 在册 | C45: ⬛⬛⬛⬛⬛⬛⬛⬛ | D45: 女 | E45: 2008-06-30 | F45: 维吾尔 | G45: ⬛⬛⬛⬛⬛⬛⬛⬛ | H45: 新疆莎车县阿扎提巴格乡央阿克勒克村1组98号 | I45: 653100000095781 | J45: 女 | K45: 1组98号 | M45: 否
A46: 44 | B46: 在册 | C46: ⬛⬛⬛⬛⬛⬛⬛⬛ | D46: 男 | E46: 1984-02-18 | F46: 维吾尔 | G46: ⬛⬛⬛⬛⬛⬛⬛⬛ | H46: 新疆莎车县阿扎提巴格乡央阿克勒克村3组42号 | I46: 653100000095801 | J46: 户主 | K46: 3组42号 | M46: 是
A47: 45 | B47: 在册 | C47: ⬛⬛⬛⬛⬛⬛⬛⬛ | D47: 女 | E47: 1982-02-07 | F47: 维吾尔 | G47: ⬛⬛⬛⬛⬛⬛⬛⬛ | H47: 新疆莎车县阿扎提巴格乡央阿克勒克村3组42号 | I47: 653100000095801 | J47: 妻 | K47: 3组42号 | M47: 是
... A64: 62 | B64: 在册 | C64: ⬛⬛⬛⬛⬛⬛⬛⬛ | D64: 男 | E64: 1985-12-07 | F64: 维吾尔 | G64: ⬛⬛⬛⬛⬛⬛⬛⬛ | H64: 新疆莎车县阿扎提巴格乡央阿克勒克村2组59号 | I64: 653100000095937 | J64: 户主 | K64: 2组59号 | M64: 否
A65: 63 | B65: 在册 | C65: 合丽其·艾麦提 | D65: 女 | E65: 1989-02-19 | F65: 维吾尔 | G65: 653125198902193829 | H65: 新疆莎车县阿扎提巴格乡央阿克勒克村2组59号 | I65: 653100000095937 | J65: 妻 | K65: 2组59号 | M65: 否 | P65: 收教
A66: 64 | B66: 在册 | C66: 努尔艾合麦提·萨迪尔 | D66: 男 | E66: 1990-03-04 | F66: 维吾尔 | G66: 653125199003043856 | H66: 新疆莎车县阿扎提巴格乡央阿克勒克村4组37号 | I66: 653100000095942 | J66: 户主 | K66: 4组37号 | M66: 否 | P66: 收教
A67: 65 | B67: 在册 | C67: ⬛⬛⬛⬛⬛⬛⬛⬛ | D67: 女 | E67: 1991-11-02 | F67: 维吾尔 | G67: ⬛⬛⬛⬛⬛⬛⬛⬛ | H67: 新疆莎车县阿扎提巴格乡央阿克勒克村4组37号 | I67: 653100000095942 | J67: 妻 | K67: 4组37号 | M67: 否
A68: 66 | B68: 在册 | C68: ⬛⬛⬛⬛⬛⬛⬛⬛ | D68: 男 | E68: 2009-11-18 | F68: 维吾尔 | G68: ⬛⬛⬛⬛⬛⬛⬛⬛ | H68: 新疆莎车县阿扎提巴格乡央阿克勒克村4组37号 | I68: 653100000095942 | J68: 子 | K68: 4组37号 | M68: 否
A69: 67 | B69: 在册 | C69: ⬛⬛⬛⬛⬛⬛⬛⬛ | D69: 女 | E69: 2014-12-08 | F69: 维吾尔 | G69: ⬛⬛⬛⬛⬛⬛⬛⬛ | H69: 新疆莎车县阿扎提巴格乡央阿克勒克村4组37号 | I69: 653100000095942 | J69: 女 | K69: 4组37号 | M69: 否
A70: 68 | B70: 在册 | C70: ⬛⬛⬛⬛⬛⬛⬛⬛ | D70: 男 | E70: 1983-01-08 | F70: 维吾尔 | G70: ⬛⬛⬛⬛⬛⬛⬛⬛ | H70: 新疆莎车县阿扎提巴格乡央阿克勒克村3组43号 | I70: 653100000095944 | J70: 户主 | K70: 3组43号 | M70: 否
A71: 69 | B71: 在册 | C71: ⬛⬛⬛⬛⬛⬛⬛⬛ | D71: 女 | E71: 1980-08-22 | F71: 维吾尔 | G71: ⬛⬛⬛⬛⬛⬛⬛⬛ | H71: 新疆莎车县阿扎提巴格乡央阿克勒克村3组43号 | I71: 653100000095944 | J71: 妻 | K71: 3组43号 | M71: 否
A72: 70 | B72: 在册 | C72: ⬛⬛⬛⬛⬛⬛⬛⬛ | D72: 男 | E72: 2011-12-10 | F72: 维吾尔 | G72: ⬛⬛⬛⬛⬛⬛⬛⬛ | H72: 新疆莎车县阿扎提巴格乡央阿克勒克村3组43号 | I72: 653100000095944 | J72: 长子 | K72: 3组43号 | M72: 否
A73: 71 | B73: 在册 | C73: ⬛⬛⬛⬛⬛⬛⬛⬛ | D73: 女 | E73: 2004-09-15 | F73: 维吾尔 | G73: ⬛⬛⬛⬛⬛⬛⬛⬛ | H73: 新疆莎车县阿扎提巴格乡央阿克勒克村3组43号 | I73: 653100000095944 | J73: 女 | K73: 3组43号 | M73: 否
A74: 72 | B74: 在册 | C74: ⬛⬛⬛⬛⬛⬛⬛⬛ | D74: 女 | E74: 2011-12-10 | F74: 维吾尔 | G74: ⬛⬛⬛⬛⬛⬛⬛⬛ | H74: 新疆莎车县阿扎提巴格乡央阿克勒克村3组43号 | I74: 653100000095944 | J74: 二女 | K74: 3组43号 | M74: 否
A75: 73 | B75: 在册 | C75: ⬛⬛⬛⬛⬛⬛⬛⬛ | D75: 男 | E75: 1980-01-17 | F75: 维吾尔 | G75: ⬛⬛⬛⬛⬛⬛⬛⬛ | H75: 新疆莎车县阿扎提巴格乡央阿克勒克村4组39号 | I75: 653100000095946 | J75: 户主 | K75: 4组39号 | M75: 否
A76: 74 | B76: 在册 | C76: ⬛⬛⬛⬛⬛⬛⬛⬛ | D76: 女 | E76: 1981-06-10 | F76: 维吾尔 | G76: ⬛⬛⬛⬛⬛⬛⬛⬛ | H76: 新疆莎车县阿扎提巴格乡央阿克勒克村4组39号 | I76: 653100000095946 | J76: 妻 | K76: 4组39号 | M76: 否
A77: 75 | B77: 在册 | C77: ⬛⬛⬛⬛⬛⬛⬛⬛ | D77: 男 | E77: 2008-12-04 | F77: 维吾尔 | G77: ⬛⬛⬛⬛⬛⬛⬛⬛ | H77: 新疆莎车县阿扎提巴格乡央阿克勒克村4组39号 | I77: 653100000095946 | J77: 子 | K77: 4组39号 | M77: 否
A78: 76 | B78: 在册 | C78: ⬛⬛⬛⬛⬛⬛⬛⬛ | D78: 女 | E78: 2013-11-12 | F78: 维吾尔 | G78: ⬛⬛⬛⬛⬛⬛⬛⬛ | H78: 新疆莎车县阿扎提巴格乡央阿克勒克村4组39号 | I78: 653100000095946 | J78: 长女 | K78: 4组39号 | M78: 否
A79: 77 | B79: 在册 | C79: 依明尼亚孜·克热木 | D79: 男 | E79: 1980-05-10 | F79: 维吾尔 | G79: 653125198005103870 | H79: 新疆莎车县阿扎提巴格乡央阿克勒克村4组41号 | I79: 653100000095947 | J79: 户主 | K79: 4组41号 | M79: 是 | P79: 判刑
A80: 78 | B80: 在册 | C80: ⬛⬛⬛⬛⬛⬛⬛⬛ | D80: 女 | E80: 1981-05-03 | F80: 维吾尔 | G80: ⬛⬛⬛⬛⬛⬛⬛⬛ | H80: 新疆莎车县阿扎提巴格乡央阿克勒克村4组41号 | I80: 653100000095947 | J80: 妻 | K80: 4组41号 | M80: 是
A81: 79 | B81: 在册 | C81: ⬛⬛⬛⬛⬛⬛⬛⬛ | D81: 男 | E81: 2007-09-20 | F81: 维吾尔 | G81: ⬛⬛⬛⬛⬛⬛⬛⬛ | H81: 新疆莎车县阿扎提巴格乡央阿克勒克村4组41号 | I81: 653100000095947 | J81: 子 | K81: 4组41号 | M81: 是
A82: 80 | B82: 在册 | C82: ⬛⬛⬛⬛⬛⬛⬛⬛ | D82: 女 | E82: 2002-02-08 | F82: 维吾尔 | G82: ⬛⬛⬛⬛⬛⬛⬛⬛ | H82: 新疆莎车县阿扎提巴格乡央阿克勒克村4组41号 | I82: 653100000095947 | J82: 女 | K82: 4组41号 | M82: 是
A83: 81 | B83: 在册 | C83: ⬛⬛⬛⬛⬛⬛⬛⬛ | D83: 女 | E83: 2005-12-17 | F83: 维吾尔 | G83: ⬛⬛⬛⬛⬛⬛⬛⬛ | H83: 新疆莎车县阿扎提巴格乡央阿克勒克村4组41号 | I83: 653100000095947 | J83: 女 | K83: 4组41号 | M83: 是
A84: 82 | B84: 在册 | C84: ⬛⬛⬛⬛⬛⬛⬛⬛ | D84: 男 | E84: 1988-01-07 | F84: 维吾尔 | G84: ⬛⬛⬛⬛⬛⬛⬛⬛ | H84: 新疆莎车县阿扎提巴格乡央阿克勒克村3组41号 | I84: 653100000095949 | J84: 户主 | K84: 3组41号 | M84: 否
A85: 83 | B85: 在册 | C85: ⬛⬛⬛⬛⬛⬛⬛⬛ | D85: 女 | E85: 1992-12-01 | F85: 维吾尔 | G85: ⬛⬛⬛⬛⬛⬛⬛⬛ | H85: 新疆莎车县阿扎提巴格乡央阿克勒克村3组41号 | I85: 653100000095949 | J85: 妻 | K85: 3组41号 | M85: 否
A86: 84 | B86: 在册 | C86: ⬛⬛⬛⬛⬛⬛⬛⬛ | D86: 男 | E86: 2011-04-26 | F86: 维吾尔 | G86: ⬛⬛⬛⬛⬛⬛⬛⬛ | H86: 新疆莎车县阿扎提巴格乡央阿克勒克村3组41号 | I86: 653100000095949 | J86: 子 | K86: 3组41号 | M86: 否
A87: 85 | B87: 在册 | C87: ⬛⬛⬛⬛⬛⬛⬛⬛ | D87: 女 | E87: 2015-10-29 | F87: 维吾尔 | G87: ⬛⬛⬛⬛⬛⬛⬛⬛ | H87: 新疆莎车县阿扎提巴格乡央阿克勒克村3组41号 | I87: 653100000095949 | J87: 女 | K87: 3组41号 | M87: 否
A88: 86 | B88: 在册 | C88: ⬛⬛⬛⬛⬛⬛⬛⬛ | D88: 男 | E88: 1983-04-13 | F88: 维吾尔 | G88: ⬛⬛⬛⬛⬛⬛⬛⬛ | H88: 新疆莎车县阿扎提巴格乡央阿克勒克村1组47号 | I88: 653100000095973 | J88: 户主 | K88: 1组47号 | M88: 否 | Q88: 七类户（大型农业机械）
A89: 87 | B89: 在册 | C89: ⬛⬛⬛⬛⬛⬛⬛⬛ | D89: 女 | E89: 1985-12-01 | F89: 维吾尔 | G89: ⬛⬛⬛⬛⬛⬛⬛⬛ | H89: 新疆莎车县阿扎提巴格乡央阿克勒克村1组47号 | I89: 653100000095973 | J89: 妻 | K89: 1组47号 | M89: 否 | Q89: 七类户（大型农业机械）
A90: 88 | B90: 在册 | C90: ⬛⬛⬛⬛⬛⬛⬛⬛ | D90: 男 | E90: 2006-05-16 | F90: 维吾尔 | G90: ⬛⬛⬛⬛⬛⬛⬛⬛ | H90: 新疆莎车县阿扎提巴格乡央阿克勒克村1组47号 | I90: 653100000095973 | J90: 子 | K90: 1组47号 | M90: 否 | Q90: 七类户（大型农业机械）
A91: 89 | B91: 在册 | C91: ⬛⬛⬛⬛⬛⬛⬛⬛ | D91: 女 | E91: 2008-08-05 | F91: 维吾尔 | G91: ⬛⬛⬛⬛⬛⬛⬛⬛ | H91: 新疆莎车县阿扎提巴格乡央阿克勒克村1组47号 | I91: 653100000095973 | J91: 女 | K91: 1组47号 | M91: 否 | Q91: 七类户（大型农业机械）
A92: 90 | B92: 在册 | C92: ⬛⬛⬛⬛⬛⬛⬛⬛ | D92: 女 | E92: 2012-10-20 | F92: 维吾尔 | G92: ⬛⬛⬛⬛⬛⬛⬛⬛ | H92: 新疆莎车县阿扎提巴格乡央阿克勒克村1组47号 | I92: 653100000095973 | J92: 女 | K92: 1组47号 | M92: 否 | Q92: 七类户（大型农业机械）
A93: 91 | B93: 在册 | C93: ⬛⬛⬛⬛⬛⬛⬛⬛ | D93: 女 | E93: 1971-09-27 | F93: 维吾尔 | G93: ⬛⬛⬛⬛⬛⬛⬛⬛ | H93: 新疆莎车县阿扎提巴格乡央阿克勒克村4组43号 | I93: 653100000095975 | J93: 户主 | K93: 4组43号 | M93: 是
A94: 92 | B94: 在册 | C94: ⬛⬛⬛⬛⬛⬛⬛⬛ | D94: 女 | E94: 2006-09-10 | F94: 维吾尔 | G94: ⬛⬛⬛⬛⬛⬛⬛⬛ | H94: 新疆莎车县阿扎提巴格乡央阿克勒克村4组43号 | I94: 653100000095975 | J94: 女 | K94: 4组43号 | M94: 是
A95: 93 | B95: 在册 | C95: ⬛⬛⬛⬛⬛⬛⬛⬛ | D95: 男 | E95: 1988-10-05 | F95: 维吾尔 | G95: ⬛⬛⬛⬛⬛⬛⬛⬛ | H95: 新疆莎车县阿扎提巴格乡央阿克勒克村2组65号 | I95: 653100000099094 | J95: 户主 | K95: 2组65号 | M95: 否
A96: 94 | B96: 在册 | C96: ⬛⬛⬛⬛⬛⬛⬛⬛ | D96: 女 | E96: 1985-09-17 | F96: 维吾尔 | G96: ⬛⬛⬛⬛⬛⬛⬛⬛ | H96: 新疆莎车县阿扎提巴格乡央阿克勒克村2组65号 | I96: 653100000099094 | J96: 妻 | K96: 2组65号 | M96: 否
A97: 95 | B97: 在册 | C97: ⬛⬛⬛⬛⬛⬛⬛⬛ | D97: 男 | E97: 2010-11-21 | F97: 维吾尔 | G97: ⬛⬛⬛⬛⬛⬛⬛⬛ | H97: 新疆莎车县阿扎提巴格乡央阿克勒克村2组65号 | I97: 653100000099094 | J97: 子 | K97: 2组65号 | M97: 否
A98: 96 | B98: 在册 | C98: ⬛⬛⬛⬛⬛⬛⬛⬛ | D98: 女 | E98: 2016-03-17 | F98: 维吾尔 | G98: ⬛⬛⬛⬛⬛⬛⬛⬛ | H98: 新疆莎车县阿扎提巴格乡央阿克勒克村2组65号 | I98: 653100000099094 | J98: 女 | K98: 2组65号 | M98: 否
A99: 97 | B99: 在册 | C99: ⬛⬛⬛⬛⬛⬛⬛⬛ | D99: 男 | E99: 1989-05-17 | F99: 维吾尔 | G99: ⬛⬛⬛⬛⬛⬛⬛⬛ | H99: 新疆莎车县阿扎提巴格乡央阿克勒克村4组42号 | I99: 653100000101415 | J99: 户主 | K99: 4组42号 | M99: 否
A100: 98 | B100: 在册 | C100: ⬛⬛⬛⬛⬛⬛⬛⬛ | D100: 女 | E100: 1994-11-15 | F100: 维吾尔 | G100: ⬛⬛⬛⬛⬛⬛⬛⬛ | H100: 新疆莎车县阿扎提巴格乡央阿克勒克村4组42号 | I100: 653100000101415 | J100: 妻 | K100: 4组42号 | M100: 否
A101: 99 | B101: 在册 | C101: ⬛⬛⬛⬛⬛⬛⬛⬛ | D101: 男 | E101: 2010-04-09 | F101: 维吾尔 | G101: ⬛⬛⬛⬛⬛⬛⬛⬛ | H101: 新疆莎车县阿扎提巴格乡央阿克勒克村4组42号 | I101: 653100000101415 | J101: 子 | K101: 4组42号 | M101: 否
A102: 100 | B102: 在册 | C102: ⬛⬛⬛⬛⬛⬛⬛⬛ | D102: 男 | E102: 2014-11-27 | F102: 维吾尔 | G102: ⬛⬛⬛⬛⬛⬛⬛⬛ | H102: 新疆莎车县阿扎提巴格乡央阿克勒克村4组42号 | I102: 653100000101415 | J102: 次子 | K102: 4组42号 | M102: 否
A103: 101 | B103: 在册 | C103: ⬛⬛⬛⬛⬛⬛⬛⬛ | D103: 男 | E103: 1990-03-10 | F103: 维吾尔 | G103: ⬛⬛⬛⬛⬛⬛⬛⬛ | H103: 新疆莎车县阿扎提巴格乡央阿克勒克村4组43号 | I103: 653100000102378 | J103: 户主 | K103: 4组43号 | M103: 是
A104: 102 | B104: 在册 | C104: ⬛⬛⬛⬛⬛⬛⬛⬛ | D104: 女 | E104: 1994-01-01 | F104: 维吾尔 | G104: ⬛⬛⬛⬛⬛⬛⬛⬛ | H104: 新疆莎车县阿扎提巴格乡央阿克勒克村4组43号 | I104: 653100000102378 | J104: 妻 | K104: 4组43号 | M104: 是
... A107: 105 | B107: 在册 | C107: ⬛⬛⬛⬛⬛⬛⬛⬛ | D107: 男 | E107: 1992-02-27 | F107: 维吾尔 | G107: ⬛⬛⬛⬛⬛⬛⬛⬛ | H107: 新疆莎车县阿扎提巴格乡央阿克勒克村4组44号 | I107: 653100000107356 | J107: 户主 | K107: 4组44号 | M107: 否
A108: 106 | B108: 在册 | C108: 麦麦提·玉素普 | D108: 男 | E108: 1981-12-03 | F108: 维吾尔 | G108: 653125198112033812 | H108: 新疆莎车县阿扎提巴格乡央阿克勒克村4组39号 | I108: 653100000135787 | J108: 户主 | K108: 4组39号 | M108: 是 | P108: 收教
A109: 107 | B109: 在册 | C109: ⬛⬛⬛⬛⬛⬛⬛⬛ | D109: 女 | E109: 1982-03-12 | F109: 维吾尔 | G109: ⬛⬛⬛⬛⬛⬛⬛⬛ | H109: 新疆莎车县阿扎提巴格乡央阿克勒克村4组39号 | I109: 653100000135787 | J109: 妻 | K109: 4组39号 | M109: 是
A110: 108 | B110: 在册 | C110: ⬛⬛⬛⬛⬛⬛⬛⬛ | D110: 男 | E110: 2017-09-28 | F110: 维吾尔 | G110: ⬛⬛⬛⬛⬛⬛⬛⬛ | H110: 新疆莎车县阿扎提巴格乡央阿克勒克村4组39号 | I110: 653100000135787 | J110: 子 | K110: 4组39号 | M110: 是
A111: 109 | B111: 在册 | C111: ⬛⬛⬛⬛⬛⬛⬛⬛ | D111: 男 | E111: 2004-03-09 | F111: 维吾尔 | G111: ⬛⬛⬛⬛⬛⬛⬛⬛ | H111: 新疆莎车县阿扎提巴格乡央阿克勒克村4组39号 | I111: 653100000135787 | J111: 子 | K111: 4组39号 | M111: 是
A112: 110 | B112: 在册 | C112: ⬛⬛⬛⬛⬛⬛⬛⬛ | D112: 女 | E112: 2008-06-28 | F112: 维吾尔 | G112: ⬛⬛⬛⬛⬛⬛⬛⬛ | H112: 新疆莎车县阿扎提巴格乡央阿克勒克村4组39号 | I112: 653100000135787 | J112: 女 | K112: 4组39号 | M112: 是
A113: 111 | B113: 在册 | C113: ⬛⬛⬛⬛⬛⬛⬛⬛ | D113: 男 | E113: 1984-02-28 | F113: 维吾尔 | G113: ⬛⬛⬛⬛⬛⬛⬛⬛ | H113: 新疆莎车县阿扎提巴格乡央阿克勒克村3组44号 | I113: 653100000722251 | J113: 户主 | K113: 3组44号 | M113: 是
A114: 112 | B114: 在册 | C114: ⬛⬛⬛⬛⬛⬛⬛⬛ | D114: 女 | E114: 1985-02-01 | F114: 维吾尔 | G114: ⬛⬛⬛⬛⬛⬛⬛⬛ | H114: 新疆莎车县阿扎提巴格乡央阿克勒克村3组44号 | I114: 653100000722251 | J114: 妻 | K114: 3组44号 | M114: 是
A115: 113 | B115: 在册 | C115: ⬛⬛⬛⬛⬛⬛⬛⬛ | D115: 男 | E115: 2009-01-06 | F115: 维吾尔 | G115: ⬛⬛⬛⬛⬛⬛⬛⬛ | H115: 新疆莎车县阿扎提巴格乡央阿克勒克村3组44号 | I115: 653100000722251 | J115: 长子 | K115: 3组44号 | M115: 是
A116: 114 | B116: 在册 | C116: ⬛⬛⬛⬛⬛⬛⬛⬛ | D116: 男 | E116: 2014-01-02 | F116: 维吾尔 | G116: ⬛⬛⬛⬛⬛⬛⬛⬛ | H116: 新疆莎车县阿扎提巴格乡央阿克勒克村3组44号 | I116: 653100000722251 | J116: 次子 | K116: 3组44号 | M116: 是
A117: 115 | B117: 在册 | C117: ⬛⬛⬛⬛⬛⬛⬛⬛ | D117: 男 | E117: 1989-06-15 | F117: 维吾尔 | G117: ⬛⬛⬛⬛⬛⬛⬛⬛ | H117: 新疆莎车县阿扎提巴格乡央阿克勒克村4组30号 | I117: 653100000770791 | J117: 户主 | K117: 4组30号 | M117: 是
A118: 116 | B118: 在册 | C118: ⬛⬛⬛⬛⬛⬛⬛⬛ | D118: 女 | E118: 1989-01-24 | F118: 维吾尔 | G118: ⬛⬛⬛⬛⬛⬛⬛⬛ | H118: 新疆莎车县阿扎提巴格乡央阿克勒克村4组30号 | I118: 653100000770791 | J118: 妻 | K118: 4组30号 | M118: 是
A119: 117 | B119: 在册 | C119: ⬛⬛⬛⬛⬛⬛⬛⬛ | D119: 男 | E119: 2010-08-11 | F119: 维吾尔 | G119: ⬛⬛⬛⬛⬛⬛⬛⬛ | H119: 新疆莎车县阿扎提巴格乡央阿克勒克村4组30号 | I119: 653100000770791 | J119: 长子 | K119: 4组30号 | M119: 是
A120: 118 | B120: 在册 | C120: ⬛⬛⬛⬛⬛⬛⬛⬛ | D120: 男 | E120: 2014-02-03 | F120: 维吾尔 | G120: ⬛⬛⬛⬛⬛⬛⬛⬛ | H120: 新疆莎车县阿扎提巴格乡央阿克勒克村4组30号 | I120: 653100000770791 | J120: 子 | K120: 4组30号 | M120: 是
A121: 119 | B121: 在册 | C121: ⬛⬛⬛⬛⬛⬛⬛⬛ | D121: 男 | E121: 43312 | F121: 维吾尔 | G121: ⬛⬛⬛⬛⬛⬛⬛⬛ | H121: 新疆莎车县阿扎提巴格乡央阿克勒克村4组30号 | I121: 653100000770791 | J121: 次子 | M121: 是
...

Sheet Sheet3
A1: 阿扎特巴格镇央阿格勒克（13）村一般户台账
A2: 人编号 | B2: 人员状态 | C2: 姓名 | D2: 性别 | E2: 出生日期 | F2: 民族 | G2: 公民身份号码 | H2: 户籍详址 | I2: 户号 | J2: 与户主关系 | K2: 门楼详址 | L2: 门楼牌号 | M2: 残疾情况 | N2: 低保金 | O2: slry | P2: 大病、慢病、地方病 | Q2: 村组 | R2: 备注 | S2: 家庭年总纯收入 | T2: 家庭年人均纯收入
A3: 1 | B3: 在册 | C3: ⬛⬛⬛⬛⬛⬛⬛⬛ | D3: 男 | E3: 1990-05-23 | F3: 维吾尔 | G3: ⬛⬛⬛⬛⬛⬛⬛⬛ | H3: 新疆莎车县阿扎提巴格乡央阿克勒克村1组48号 | I3: 653100000095774 | J3: 户主 | K3: 1组48号 | L3: 1组48号 | M3: 否 | N3: 否 | P3: 否 | Q3: 13村1组 | R3: 担保 | S3: 31225 | T3: 10408
A4: 2 | B4: 在册 | C4: ⬛⬛⬛⬛⬛⬛⬛⬛ | D4: 女 | E4: 1991-06-07 | F4: 维吾尔 | G4: ⬛⬛⬛⬛⬛⬛⬛⬛ | H4: 新疆莎车县阿扎提巴格乡央阿克勒克村1组48号 | I4: 653100000095774 | J4: 妻 | K4: 1组48号 | L4: 1组48号 | M4: 否 | N4: 否 | P4: 否 | Q4: 13村1组 | S4: 31225 | T4: 10408
A5: 3 | B5: 在册 | C5: ⬛⬛⬛⬛⬛⬛⬛⬛ | D5: 男 | E5: 2011-04-01 | F5: 维吾尔 | G5: ⬛⬛⬛⬛⬛⬛⬛⬛ | H5: 新疆莎车县阿扎提巴格乡央阿克勒克村1组48号 | I5: 653100000095774 | J5: 子 | K5: 1组48号 | L5: 1组48号 | M5: 否 | N5: 否 | P5: 否 | Q5: 13村1组 | S5: 31225 | T5: 10408
A6: 4 | B6: 在册 | C6: ⬛⬛⬛⬛⬛⬛⬛⬛ | D6: 男 | E6: 1969-12-28 | F6: 维吾尔 | G6: ⬛⬛⬛⬛⬛⬛⬛⬛ | H6: 新疆莎车县阿扎提巴格乡央阿克勒克村1组98号 | I6: 653100000095781 | J6: 户主 | K6: 1组98号 | L6: 1组98号 | M6: 否 | N6: 否 | P6: 否 | Q6: 13村1组 | S6: 10570 | T6: 2642
A7: 5 | B7: 在册 | C7: ⬛⬛⬛⬛⬛⬛⬛⬛ | D7: 女 | E7: 1987-03-18 | F7: 维吾尔 | G7: ⬛⬛⬛⬛⬛⬛⬛⬛ | H7: 新疆莎车县阿扎提巴格乡央阿克勒克村1组98号 | I7: 653100000095781 | J7: 妻 | K7: 1组98号 | L7: 1组98号 | M7: 否 | N7: 否 | P7: 否 | Q7: 13村1组 | S7: 10570 | T7: 2642
A8: 6 | B8: 在册 | C8: ⬛⬛⬛⬛⬛⬛⬛⬛ | D8: 女 | E8: 2012-03-19 | F8: 维吾尔 | G8: ⬛⬛⬛⬛⬛⬛⬛⬛ | H8: 新疆莎车县阿扎提巴格乡央阿克勒克村1组98号 | I8: 653100000095781 | J8: 女 | K8: 1组98号 | L8: 1组98号 | M8: 否 | N8: 否 | P8: 否 | Q8: 13村1组 | S8: 10570 | T8: 2642
A9: 7 | B9: 在册 | C9: ⬛⬛⬛⬛⬛⬛⬛⬛ | D9: 女 | E9: 2008-06-30 | F9: 维吾尔 | G9: ⬛⬛⬛⬛⬛⬛⬛⬛ | H9: 新疆莎车县阿扎提巴格乡央阿克勒克村1组98号 | I9: 653100000095781 | J9: 女 | K9: 1组98号 | L9: 1组98号 | M9: 否 | N9: 否 | P9: 否 | Q9: 13村1组 | S9: 10570 | T9: 2642
A10: 8 | B10: 在册 | C10: ⬛⬛⬛⬛⬛⬛⬛⬛ | D10: 男 | E10: 1983-04-13 | F10: 维吾尔 | G10: ⬛⬛⬛⬛⬛⬛⬛⬛ | H10: 新疆莎车县阿扎提巴格乡央阿克勒克村1组47号 | I10: 653100000095973 | J10: 户主 | K10: 1组47号 | L10: 1组47号 | M10: 否 | N10: 否 | P10: 否 | Q10: 13村1组 | S10: 20955 | T10: 4191
A11: 9 | B11: 在册 | C11: ⬛⬛⬛⬛⬛⬛⬛⬛ | D11: 女 | E11: 1985-12-01 | F11: 维吾尔 | G11: ⬛⬛⬛⬛⬛⬛⬛⬛ | H11: 新疆莎车县阿扎提巴格乡央阿克勒克村1组47号 | I11: 653100000095973 | J11: 妻 | K11: 1组47号 | L11: 1组47号 | M11: 否 | N11: 否 | P11: 否 | Q11: 13村1组 | S11: 20955 | T11: 4191
A12: 10 | B12: 在册 | C12: ⬛⬛⬛⬛⬛⬛⬛⬛ | D12: 男 | E12: 2006-05-16 | F12: 维吾尔 | G12: ⬛⬛⬛⬛⬛⬛⬛⬛ | H12: 新疆莎车县阿扎提巴格乡央阿克勒克村1组47号 | I12: 653100000095973 | J12: 子 | K12: 1组47号 | L12: 1组47号 | M12: 否 | N12: 否 | P12: 否 | Q12: 13村1组 | S12: 20955 | T12: 4191
A13: 11 | B13: 在册 | C13: ⬛⬛⬛⬛⬛⬛⬛⬛ | D13: 女 | E13: 2008-08-05 | F13: 维吾尔 | G13: ⬛⬛⬛⬛⬛⬛⬛⬛ | H13: 新疆莎车县阿扎提巴格乡央阿克勒克村1组47号 | I13: 653100000095973 | J13: 女 | K13: 1组47号 | L13: 1组47号 | M13: 否 | N13: 否 | P13: 否 | Q13: 13村1组 | S13: 20955 | T13: 4191
A14: 12 | B14: 在册 | C14: ⬛⬛⬛⬛⬛⬛⬛⬛ | D14: 女 | E14: 2012-10-20 | F14: 维吾尔 | G14: ⬛⬛⬛⬛⬛⬛⬛⬛ | H14: 新疆莎车县阿扎提巴格乡央阿克勒克村1组47号 | I14: 653100000095973 | J14: 女 | K14: 1组47号 | L14: 1组47号 | M14: 否 | N14: 否 | P14: 否 | Q14: 13村1组 | S14: 20955 | T14: 4191
A15: 13 | B15: 在册 | C15: ⬛⬛⬛⬛⬛⬛⬛⬛ | D15: 女 | E15: 1991-05-10 | F15: 维吾尔 | G15: ⬛⬛⬛⬛⬛⬛⬛⬛ | H15: 新疆莎车县阿扎提巴格乡央阿克勒克村1组11号 | I15: 653100000919951 | J15: 户主 | K15: 1组11号 | L15: 1组11号 | M15: 否 | N15: 1800 | P15: 否 | Q15: 13村1组 | S15: 21600 | T15: 10800
A16: 14 | B16: 在册 | C16: ⬛⬛⬛⬛⬛⬛⬛⬛ | D16: 女 | E16: 2011-08-10 | F16: 维吾尔 | G16: ⬛⬛⬛⬛⬛⬛⬛⬛ | H16: 新疆莎车县阿扎提巴格乡央阿克勒克村1组11号 | I16: 653100000919951 | J16: 长女 | K16: 1组11号 | L16: 1组11号 | M16: 否 | N16: 1800 | P16: 否 | Q16: 13村1组 | S16: 21600 | T16: 10800
A17: 15 | B17: 在册 | C17: ⬛⬛⬛⬛⬛⬛⬛⬛ | D17: 男 | E17: 1991-02-10 | F17: 维吾尔 | G17: ⬛⬛⬛⬛⬛⬛⬛⬛ | H17: 新疆莎车县阿扎提巴格乡央阿克勒克村1组22号 | I17: 653100001094831 | J17: 户主 | K17: 1组22号 | L17: 1组22号 | M17: 否 | N17: 否 | P17: 否 | Q17: 13村1组 | S17: 36000
A18: 16 | B18: 在册 | C18: ⬛⬛⬛⬛⬛⬛⬛⬛ | D18: 女 | E18: 1995-06-15 | F18: 维吾尔 | G18: ⬛⬛⬛⬛⬛⬛⬛⬛ | H18: 新疆莎车县阿扎提巴格乡央阿克勒克村1组22号 | I18: 653100001094831 | J18: 妻 | K18: 1组22号 | L18: 1组22号 | M18: 否 | N18: 否 | P18: 否 | Q18: 13村1组 | S18: 36000
A19: 17 | B19: 在册 | C19: ⬛⬛⬛⬛⬛⬛⬛⬛ | D19: 女 | E19: 2017-04-30 | F19: 维吾尔 | G19: ⬛⬛⬛⬛⬛⬛⬛⬛ | H19: 新疆莎车县阿扎提巴格乡央阿克勒克村1组22号 | I19: 653100001094831 | J19: 女 | K19: 1组22号 | L19: 1组22号 | M19: 否 | N19: 否 | P19: 否 | Q19: 13村1组 | S19: 13130 | T19: 6550
A20: 18 | B20: 在册 | C20: 阿米娜木·阿布杜喀迪尔 | D20: 女 | E20: 1989-05-16 | F20: 维吾尔 | G20: 653125198905163828 | H20: 新疆莎车县阿扎提巴格乡央阿克勒克村1组22号 | I20: 653100001094831 | J20: 姐姐 | K20: 1组22号 | L20: 1组22号 | M20: 否 | N20: 否 | P20: 否 | Q20: 13村1组 | R20: 收教 | S20: 13130 | T20: 6550
A21: 19 | B21: 在册 | C21: 娜扎开提·艾山 | D21: 女 | E21: 2012-09-29 | F21: 维吾尔 | G21: 653125201209293826 | H21: 新疆莎车县阿扎提巴格乡央阿克勒克村1组22号 | I21: 653100001094831 | J21: 侄女 | K21: 1组22号 | L21: 1组22号 | M21: 否 | N21: 否 | P21: 否 | Q21: 13村1组 | R21: 收教
A22: 20 | B22: 在册 | C22: ⬛⬛⬛⬛⬛⬛⬛⬛ | D22: 男 | E22: 1950-01-09 | F22: 维吾尔 | G22: ⬛⬛⬛⬛⬛⬛⬛⬛ | H22: 新疆莎车县阿扎提巴格乡央阿克勒克村1组90号 | I22: 653100001121471 | J22: 户主 | K22: 1组90号 | L22: 1组90号 | M22: 否 | N22: 2124 | P22: 否 | Q22: 13村1组 | S22: 9895 | T22: =S22/2 -> 4947.5
A23: 21 | B23: 在册 | C23: ⬛⬛⬛⬛⬛⬛⬛⬛ | D23: 女 | E23: 1954-03-07 | F23: 维吾尔 | G23: ⬛⬛⬛⬛⬛⬛⬛⬛ | H23: 新疆莎车县阿扎提巴格乡央阿克勒克村1组90号 | I23: 653100001121471 | J23: 妻 | K23: 1组90号 | L23: 1组90号 | M23: 否 | N23: 2124 | P23: 慢性病 | Q23: 13村1组 | S23: 9895 | T23: =S23/2 -> 4947.5
A24: 22 | B24: 在册 | C24: ⬛⬛⬛⬛⬛⬛⬛⬛ | D24: 女 | E24: 1987-06-03 | F24: 维吾尔 | G24: ⬛⬛⬛⬛⬛⬛⬛⬛ | H24: 新疆莎车县阿扎提巴格乡央阿克勒克村1组58号 | I24: 653100001371391 | J24: 户主 | K24: 1组58号 | L24: 1组58号 | M24: 否 | N24: 否 | P24: 否 | Q24: 13村1组 | S24: 24000 | T24: 24000
A25: 23 | B25: 在册 | C25: ⬛⬛⬛⬛⬛⬛⬛⬛ | D25: 男 | E25: 1980-11-07 | F25: 维吾尔 | G25: ⬛⬛⬛⬛⬛⬛⬛⬛ | H25: 新疆莎车县阿扎提巴格乡央阿克勒克村1组47号 | I25: 653100002055051 | J25: 户主 | K25: 1组47号 | L25: 1组47号 | M25: 否 | N25: 否 | P25: 否 | Q25: 13村1组 | S25: 14389 | T25: 2398
A26: 24 | B26: 在册 | C26: ⬛⬛⬛⬛⬛⬛⬛⬛ | D26: 女 | E26: 1984-01-29 | F26: 维吾尔 | G26: ⬛⬛⬛⬛⬛⬛⬛⬛ | H26: 新疆莎车县阿扎提巴格乡央阿克勒克村1组47号 | I26: 653100002055051 | J26: 妻 | K26: 1组47号 | L26: 1组47号 | M26: 否 | N26: 否 | P26: 否 | Q26: 13村1组 | S26: 14389 | T26: 2398
A27: 25 | B27: 在册 | C27: ⬛⬛⬛⬛⬛⬛⬛⬛ | D27: 男 | E27: 2012-02-14 | F27: 维吾尔 | G27: ⬛⬛⬛⬛⬛⬛⬛⬛ | H27: 新疆莎车县阿扎提巴格乡央阿克勒克村1组47号 | I27: 653100002055051 | J27: 长子 | K27: 1组47号 | L27: 1组47号 | M27: 否 | N27: 否 | P27: 否 | Q27: 13村1组 | S27: 14389 | T27: 2398
A28: 26 | B28: 在册 | C28: ⬛⬛⬛⬛⬛⬛⬛⬛ | D28: 女 | E28: 2005-05-13 | F28: 维吾尔 | G28: ⬛⬛⬛⬛⬛⬛⬛⬛ | H28: 新疆莎车县阿扎提巴格乡央阿克勒克村1组47号 | I28: 653100002055051 | J28: 长女 | K28: 1组47号 | L28: 1组47号 | M28: 否 | N28: 否 | P28: 否 | Q28: 13村1组 | S28: 14389 | T28: 2398
A29: 27 | B29: 在册 | C29: ⬛⬛⬛⬛⬛⬛⬛⬛ | D29: 女 | E29: 2007-07-27 | F29: 维吾尔 | G29: ⬛⬛⬛⬛⬛⬛⬛⬛ | H29: 新疆莎车县阿扎提巴格乡央阿克勒克村1组47号 | I29: 653100002055051 | J29: 二女 | K29: 1组47号 | L29: 1组47号 | M29: 否 | N29: 否 | P29: 否 | Q29: 13村1组 | S29: 14389 | T29: 2398
A30: 28 | B30: 在册 | C30: ⬛⬛⬛⬛⬛⬛⬛⬛ | D30: 女 | E30: 2010-06-12 | F30: 维吾尔 | G30: ⬛⬛⬛⬛⬛⬛⬛⬛ | H30: 新疆莎车县阿扎提巴格乡央阿克勒克村1组47号 | I30: 653100002055051 | J30: 三女 | K30: 1组47号 | L30: 1组47号 | M30: 否 | N30: 否 | P30: 否 | Q30: 13村1组 | S30: 14389 | T30: 2398
A31: 29 | B31: 在册 | C31: ⬛⬛⬛⬛⬛⬛⬛⬛ | D31: 男 | E31: 1971-05-09 | F31: 维吾尔 | G31: ⬛⬛⬛⬛⬛⬛⬛⬛ | H31: 新疆莎车县阿扎提巴格乡央阿克勒克村1组11号 | I31: 653125719002411 | J31: 户主 | K31: 1组11号 | L31: 1组11号 | M31: 否 | N31: 否 | P31: 否 | Q31: 13村1组 | S31: 16220 | T31: 3244
A32: 30 | B32: 在册 | C32: ⬛⬛⬛⬛⬛⬛⬛⬛ | D32: 女 | E32: 1979-06-05 | F32: 维吾尔 | G32: ⬛⬛⬛⬛⬛⬛⬛⬛ | H32: 新疆莎车县阿扎提巴格乡央阿克勒克村1组11号 | I32: 653125719002411 | J32: 妻 | K32: 1组11号 | L32: 1组11号 | M32: 否 | N32: 否 | P32: 否 | Q32: 13村1组 | S32: 16220 | T32: 3244
A33: 31 | B33: 在册 | C33: ⬛⬛⬛⬛⬛⬛⬛⬛ | D33: 女 | E33: 2011-02-02 | F33: 维吾尔 | G33: ⬛⬛⬛⬛⬛⬛⬛⬛ | H33: 新疆莎车县阿扎提巴格乡央阿克勒克村1组11号 | I33: 653125719002411 | J33: 女 | K33: 1组11号 | L33: 1组11号 | M33: 否 | N33: 否 | P33: 否 | Q33: 13村1组 | S33: 16220 | T33: 3244
A34: 32 | B34: 在册 | C34: ⬛⬛⬛⬛⬛⬛⬛⬛ | D34: 女 | E34: 2002-03-10 | F34: 维吾尔 | G34: ⬛⬛⬛⬛⬛⬛⬛⬛ | H34: 新疆莎车县阿扎提巴格乡央阿克勒克村1组11号 | I34: 653125719002411 | J34: 女 | K34: 1组11号 | L34: 1组11号 | M34: 否 | N34: 否 | P34: 否 | Q34: 13村1组 | S34: 16220 | T34: 3244
A35: 33 | B35: 在册 | C35: ⬛⬛⬛⬛⬛⬛⬛⬛ | D35: 女 | E35: 1997-11-03 | F35: 维吾尔 | G35: ⬛⬛⬛⬛⬛⬛⬛⬛ | H35: 新疆莎车县阿扎提巴格乡央阿克勒克村1组11号 | I35: 653125719002411 | J35: 女 | K35: 1组11号 | L35: 1组11号 | M35: 否 | N35: 否 | P35: 否 | Q35: 13村1组 | S35: 16220 | T35: 3244
... A39: 37 | B39: 在册 | C39: ⬛⬛⬛⬛⬛⬛⬛⬛ | D39: 女 | E39: 1999-01-11 | F39: 维吾尔 | G39: ⬛⬛⬛⬛⬛⬛⬛⬛ | H39: 新疆莎车县阿扎提巴格乡央阿克勒克村1组3号 | I39: 653125719002414 | J39: 女 | K39: 1组3号 | L39: 1组3号 | M39: 否 | N39: 否 | P39: 否 | Q39: 13村1组 | S39: 15540 | T39: 3385
A40: 38 | B40: 在册 | C40: ⬛⬛⬛⬛⬛⬛⬛⬛ | D40: 男 | E40: 1960-01-10 | F40: 维吾尔 | G40: ⬛⬛⬛⬛⬛⬛⬛⬛ | H40: 新疆莎车县阿扎提巴格乡央阿克勒克村1组31号 | I40: 653125719002416 | J40: 户主 | K40: 1组31号 | L40: 1组31号 | M40: 否 | N40: 720 | P40: 否 | Q40: 13村1组 | S40: 11470 | T40: 5735
A41: 39 | B41: 在册 | C41: ⬛⬛⬛⬛⬛⬛⬛⬛ | D41: 女 | E41: 1964-05-15 | F41: 维吾尔 | G41: ⬛⬛⬛⬛⬛⬛⬛⬛ | H41: 新疆莎车县阿扎提巴格乡央阿克勒克村1组31号 | I41: 653125719002416 | J41: 妻 | K41: 1组31号 | L41: 1组31号 | M41: 否 | N41: 720 | P41: 慢性病 | Q41: 13村1组 | S41: 11470 | T41: 5735
A42: 40 | B42: 在册 | C42: ⬛⬛⬛⬛⬛⬛⬛⬛ | D42: 男 | E42: 1965-03-29 | F42: 维吾尔 | G42: ⬛⬛⬛⬛⬛⬛⬛⬛ | H42: 新疆莎车县阿扎提巴格乡央阿克勒克村1组25号 | I42: 653125719002418 | J42: 户主 | K42: 1组25号 | L42: 1组25号 | M42: 否 | N42: 否 | P42: 否 | Q42: 13村1组 | S42: 15086 | T42: 3017
A43: 41 | B43: 在册 | C43: ⬛⬛⬛⬛⬛⬛⬛⬛ | D43: 女 | E43: 1973-05-01 | F43: 维吾尔 | G43: ⬛⬛⬛⬛⬛⬛⬛⬛ | H43: 新疆莎车县阿扎提巴格乡央阿克勒克村1组25号 | I43: 653125719002418 | J43: 妻 | K43: 1组25号 | L43: 1组25号 | M43: 否 | N43: 否 | P43: 否 | Q43: 13村1组 | S43: 15086 | T43: 3017
A44: 42 | B44: 在册 | C44: ⬛⬛⬛⬛⬛⬛⬛⬛ | D44: 女 | E44: 1993-01-11 | F44: 维吾尔 | G44: ⬛⬛⬛⬛⬛⬛⬛⬛ | H44: 新疆莎车县阿扎提巴格乡央阿克勒克村1组25号 | I44: 653125719002418 | J44: 女 | K44: 1组25号 | L44: 1组25号 | M44: 残疾 | N44: 1580 | P44: 否 | Q44: 13村1组 | S44: 15086 | T44: 3017
A45: 43 | B45: 在册 | C45: ⬛⬛⬛⬛⬛⬛⬛⬛ | D45: 女 | E45: 1996-12-29 | F45: 维吾尔 | G45: ⬛⬛⬛⬛⬛⬛⬛⬛ | H45: 新疆莎车县阿扎提巴格乡央阿克勒克村1组25号 | I45: 653125719002418 | J45: 女 | K45: 1组25号 | L45: 1组25号 | M45: 否 | N45: 否 | P45: 否 | Q45: 13村1组 | S45: 15086 | T45: 3017
A46: 44 | B46: 在册 | C46: ⬛⬛⬛⬛⬛⬛⬛⬛ | D46: 女 | E46: 1997-11-05 | F46: 维吾尔 | G46: ⬛⬛⬛⬛⬛⬛⬛⬛ | H46: 新疆莎车县阿扎提巴格乡央阿克勒克村1组25号 | I46: 653125719002418 | J46: 女 | K46: 1组25号 | L46: 1组25号 | M46: 否 | N46: 否 | P46: 否 | Q46: 13村1组 | S46: 15086 | T46: 3017
A47: 45 | B47: 在册 | C47: ⬛⬛⬛⬛⬛⬛⬛⬛ | D47: 男 | E47: 1975-04-15 | F47: 维吾尔 | G47: ⬛⬛⬛⬛⬛⬛⬛⬛ | H47: 新疆莎车县阿扎提巴格乡央阿克勒克村1组24号 | I47: 653125719002420 | J47: 户主 | K47: 1组24号 | L47: 1组24号 | M47: 否 | N47: 否 | P47: 否 | Q47: 13村1组 | S47: 24500 | T47: 6125
A48: 46 | B48: 在册 | C48: ⬛⬛⬛⬛⬛⬛⬛⬛ | D48: 女 | E48: 1968-05-10 | F48: 维吾尔 | G48: ⬛⬛⬛⬛⬛⬛⬛⬛ | H48: 新疆莎车县阿扎提巴格乡央阿克勒克村1组24号 | I48: 653125719002420 | J48: 妻 | K48: 1组24号 | L48: 1组24号 | M48: 否 | N48: 否 | P48: 否 | Q48: 13村1组 | S48: 24500 | T48: 6125
A49: 47 | B49: 在册 | C49: ⬛⬛⬛⬛⬛⬛⬛⬛ | D49: 女 | E49: 2002-10-05 | F49: 维吾尔 | G49: ⬛⬛⬛⬛⬛⬛⬛⬛ | H49: 新疆莎车县阿扎提巴格乡央阿克勒克村1组24号 | I49: 653125719002420 | J49: 女 | K49: 1组24号 | L49: 1组24号 | M49: 否 | N49: 否 | P49: 否 | Q49: 13村1组 | S49: 24500 | T49: 6125
A50: 48 | B50: 在册 | C50: ⬛⬛⬛⬛⬛⬛⬛⬛ | D50: 女 | E50: 2012-07-28 | F50: 维吾尔 | G50: ⬛⬛⬛⬛⬛⬛⬛⬛ | H50: 新疆莎车县阿扎提巴格乡央阿克勒克村1组24号 | I50: 653125719002420 | J50: 孙女 | K50: 1组24号 | L50: 1组24号 | M50: 否 | N50: 否 | P50: 否 | Q50: 13村1组 | S50: 24500 | T50: 6125
A51: 49 | B51: 在册 | C51: ⬛⬛⬛⬛⬛⬛⬛⬛ | D51: 女 | E51: 1943-04-05 | F51: 维吾尔 | G51: ⬛⬛⬛⬛⬛⬛⬛⬛ | H51: 新疆莎车县阿扎提巴格乡央阿克勒克村1组37号 | I51: 653125719002422 | J51: 户主 | K51: 1组37号 | L51: 1组37号 | M51: 否 | N51: 1800 | P51: 眼睛不好 | Q51: 13村1组 | S51: 21600 | T51: 4320
A52: 50 | B52: 在册 | C52: ⬛⬛⬛⬛⬛⬛⬛⬛ | D52: 男 | E52: 1991-05-20 | F52: 维吾尔 | G52: ⬛⬛⬛⬛⬛⬛⬛⬛ | H52: 新疆莎车县阿扎提巴格乡央阿克勒克村1组37号 | I52: 653125719002422 | J52: 子 | K52: 1组37号 | L52: 1组37号 | M52: 否 | N52: 否 | P52: 否 | Q52: 13村1组 | S52: 21600 | T52: 4320
A53: 51 | B53: 在册 | C53: ⬛⬛⬛⬛⬛⬛⬛⬛ | D53: 女 | E53: 1992-03-16 | F53: 维吾尔 | G53: ⬛⬛⬛⬛⬛⬛⬛⬛ | H53: 新疆莎车县阿扎提巴格乡央阿克勒克村1组37号 | I53: 653125719002422 | J53: 儿媳 | K53: 1组37号 | L53: 1组37号 | M53: 否 | N53: 否 | P53: 否 | Q53: 13村1组 | S53: 21600 | T53: 4320
A54: 52 | B54: 在册 | C54: ⬛⬛⬛⬛⬛⬛⬛⬛ | D54: 男 | E54: 2015-11-24 | F54: 维吾尔 | G54: ⬛⬛⬛⬛⬛⬛⬛⬛ | H54: 新疆莎车县阿扎提巴格乡央阿克勒克村1组37号 | I54: 653125719002422 | J54: 孙子 | K54: 1组37号 | L54: 1组37号 | M54: 否 | N54: 否 | P54: 否 | Q54: 13村1组 | S54: 21600 | T54: 4320
A55: 53 | B55: 在册 | C55: ⬛⬛⬛⬛⬛⬛⬛⬛ | D55: 女 | E55: 2011-12-28 | F55: 维吾尔 | G55: ⬛⬛⬛⬛⬛⬛⬛⬛ | H55: 新疆莎车县阿扎提巴格乡央阿克勒克村1组37号 | I55: 653125719002422 | J55: 孙女 | K55: 1组37号 | L55: 1组37号 | M55: 否 | N55: 否 | P55: 否 | Q55: 13村1组 | S55: 21600 | T55: 4320
A56: 54 | B56: 在册 | C56: ⬛⬛⬛⬛⬛⬛⬛⬛ | D56: 女 | E56: 1974-02-07 | F56: 维吾尔 | G56: ⬛⬛⬛⬛⬛⬛⬛⬛ | H56: 新疆莎车县阿扎提巴格乡央阿克勒克村1组22号 | I56: 653125719002424 | J56: 户主 | K56: 1组22号 | L56: 1组22号 | M56: 否 | N56: 否 | P56: 慢性病 | Q56: 13村1组 | S56: 2650 | T56: 2650
A57: 55 | B57: 在册 | C57: ⬛⬛⬛⬛⬛⬛⬛⬛ | D57: 女 | E57: 1944-04-03 | F57: 维吾尔 | G57: ⬛⬛⬛⬛⬛⬛⬛⬛ | H57: 新疆莎车县阿扎提巴格乡央阿克勒克村1组15号 | I57: 653125719002426 | J57: 户主 | K57: 1组15号 | L57: 1组15号 | M57: 否 | N57: 2680 | P57: 慢性病 | Q57: 13村1组 | S57: 6640 | T57: 3320
A58: 56 | B58: 在册 | C58: ⬛⬛⬛⬛⬛⬛⬛⬛ | D58: 男 | E58: 1969-11-19 | F58: 维吾尔 | G58: ⬛⬛⬛⬛⬛⬛⬛⬛ | H58: 新疆莎车县阿扎提巴格乡央阿克勒克村1组15号 | I58: 653125719002426 | J58: 子 | K58: 1组15号 | L58: 1组15号 | M58: 否 | N58: 2160 | P58: 否 | Q58: 13村1组 | S58: 6640 | T58: 3320
A59: 57 | B59: 在册 | C59: 阿布杜喀迪尔·塔力普 | D59: 男 | E59: 1978-06-21 | F59: 维吾尔 | G59: 65312519780621383X | H59: 新疆莎车县阿扎提巴格乡央阿克勒克村1组13号 | I59: 653125719002427 | J59: 户主 | K59: 1组13号 | L59: 1组13号 | M59: 否 | N59: 否 | P59: 否 | Q59: 13村1组 | R59: 收教 | S59: 18695 | T59: 3739
A60: 58 | B60: 在册 | C60: ⬛⬛⬛⬛⬛⬛⬛⬛ | D60: 女 | E60: 1977-05-10 | F60: 维吾尔 | G60: ⬛⬛⬛⬛⬛⬛⬛⬛ | H60: 新疆莎车县阿扎提巴格乡央阿克勒克村1组13号 | I60: 653125719002427 | J60: 妻 | K60: 1组13号 | L60: 1组13号 | M60: 否 | N60: 否 | P60: 否 | Q60: 13村1组 | S60: 18695 | T60: 3739
A61: 59 | B61: 在册 | C61: ⬛⬛⬛⬛⬛⬛⬛⬛ | D61: 男 | E61: 2007-12-22 | F61: 维吾尔 | G61: ⬛⬛⬛⬛⬛⬛⬛⬛ | H61: 新疆莎车县阿扎提巴格乡央阿克勒克村1组13号 | I61: 653125719002427 | J61: 子 | K61: 1组13号 | L61: 1组13号 | M61: 否 | N61: 否 | P61: 否 | Q61: 13村1组 | S61: 18695 | T61: 3739
A62: 60 | B62: 在册 | C62: ⬛⬛⬛⬛⬛⬛⬛⬛ | D62: 女 | E62: 2001-01-15 | F62: 维吾尔 | G62: ⬛⬛⬛⬛⬛⬛⬛⬛ | H62: 新疆莎车县阿扎提巴格乡央阿克勒克村1组13号 | I62: 653125719002427 | J62: 女 | K62: 1组13号 | L62: 1组13号 | M62: 否 | N62: 否 | P62: 否 | Q62: 13村1组 | S62: 18695 | T62: 3739
A63: 61 | B63: 在册 | C63: ⬛⬛⬛⬛⬛⬛⬛⬛ | D63: 女 | E63: 2005-04-18 | F63: 维吾尔 | G63: ⬛⬛⬛⬛⬛⬛⬛⬛ | H63: 新疆莎车县阿扎提巴格乡央阿克勒克村1组13号 | I63: 653125719002427 | J63: 女 | K63: 1组13号 | L63: 1组13号 | M63: 否 | N63: 否 | P63: 否 | Q63: 13村1组 | S63: 18695 | T63: 3739
A64: 62 | B64: 在册 | C64: ⬛⬛⬛⬛⬛⬛⬛⬛ | D64: 男 | E64: 1965-05-06 | F64: 维吾尔 | G64: ⬛⬛⬛⬛⬛⬛⬛⬛ | H64: 新疆莎车县阿扎提巴格乡央阿克勒克村1组7号 | I64: 653125719002430 | J64: 户主 | K64: 1组7号 | L64: 1组7号 | M64: 否 | N64: 否 | P64: 否 | Q64: 13村1组 | S64: 25420 | T64: 6355
A65: 63 | B65: 在册 | C65: ⬛⬛⬛⬛⬛⬛⬛⬛ | D65: 女 | E65: 1969-02-10 | F65: 维吾尔 | G65: ⬛⬛⬛⬛⬛⬛⬛⬛ | H65: 新疆莎车县阿扎提巴格乡央阿克勒克村1组7号 | I65: 653125719002430 | J65: 妻 | K65: 1组7号 | L65: 1组7号 | M65: 否 | N65: 否 | P65: 否 | Q65: 13村1组 | S65: 25420 | T65: 6355
A66: 64 | B66: 在册 | C66: ⬛⬛⬛⬛⬛⬛⬛⬛ | D66: 男 | E66: 1995-03-07 | F66: 维吾尔 | G66: ⬛⬛⬛⬛⬛⬛⬛⬛ | H66: 新疆莎车县阿扎提巴格乡央阿克勒克村1组7号 | I66: 653125719002430 | J66: 子 | K66: 1组7号 | L66: 1组7号 | M66: 否 | N66: 否 | P66: 否 | Q66: 13村1组 | S66: 25420 | T66: 6355
A67: 65 | B67: 在册 | C67: ⬛⬛⬛⬛⬛⬛⬛⬛ | D67: 男 | E67: 2013-01-28 | F67: 维吾尔 | G67: ⬛⬛⬛⬛⬛⬛⬛⬛ | H67: 新疆莎车县阿扎提巴格乡央阿克勒克村1组7号 | I67: 653125719002430 | J67: 孙子 | K67: 1组7号 | L67: 1组7号 | M67: 否 | N67: 否 | P67: 否 | Q67: 13村1组 | S67: 25420 | T67: 6355
A68: 66 | B68: 在册 | C68: 图尔荪·居马 | D68: 男 | E68: 1949-04-12 | F68: 维吾尔 | G68: 653125194904123834 | H68: 新疆莎车县阿扎提巴格乡央阿克勒克村1组23号 | I68: 653125719002432 | J68: 户主 | K68: 1组23号 | L68: 1组23号 | M68: 否 | N68: 否 | P68: 否 | Q68: 13村1组 | R68: 收教 | S68: 24404 | T68: 12202
A69: 67 | B69: 在册 | C69: ⬛⬛⬛⬛⬛⬛⬛⬛ | D69: 男 | E69: 1986-06-19 | F69: 维吾尔 | G69: ⬛⬛⬛⬛⬛⬛⬛⬛ | H69: 新疆莎车县阿扎提巴格乡央阿克勒克村1组23号 | I69: 653125719002432 | J69: 子 | K69: 1组23号 | L69: 1组23号 | M69: 否 | N69: 否 | P69: 否 | Q69: 13村1组 | S69: 24404 | T69: 12202
A70: 68 | B70: 在册 | C70: ⬛⬛⬛⬛⬛⬛⬛⬛ | D70: 女 | E70: 1943-02-18 | F70: 维吾尔 | G70: ⬛⬛⬛⬛⬛⬛⬛⬛ | H70: 新疆莎车县阿扎提巴格乡央阿克勒克村1组1号 | I70: 653125719002434 | J70: 户主 | K70: 1组1号 | L70: 1组1号 | M70: 否 | N70: 3300 | P70: 慢性病 | Q70: 13村1组 | S70: 4900 | T70: 4900
A71: 69 | B71: 在册 | C71: ⬛⬛⬛⬛⬛⬛⬛⬛ | D71: 男 | E71: 1956-07-01 | F71: 维吾尔 | G71: ⬛⬛⬛⬛⬛⬛⬛⬛ | H71: 新疆莎车县阿扎提巴格乡央阿克勒克村1组35号 | I71: 653125719002436 | J71: 户主 | K71: 1组35号 | L71: 1组35号 | M71: 否 | N71: 1500 | P71: 否 | Q71: 13村1组 | S71: 22560 | T71: 4712
A72: 70 | B72: 在册 | C72: ⬛⬛⬛⬛⬛⬛⬛⬛ | D72: 女 | E72: 1961-06-02 | F72: 维吾尔 | G72: ⬛⬛⬛⬛⬛⬛⬛⬛ | H72: 新疆莎车县阿扎提巴格乡央阿克勒克村1组35号 | I72: 653125719002436 | J72: 妻 | K72: 1组35号 | L72: 1组35号 | M72: 否 | N72: 1500 | P72: 否 | Q72: 13村1组 | S72: 22560 | T72: 4712
A73: 71 | B73: 在册 | C73: ⬛⬛⬛⬛⬛⬛⬛⬛ | D73: 男 | E73: 2016-04-08 | F73: 维吾尔 | G73: ⬛⬛⬛⬛⬛⬛⬛⬛ | H73: 新疆莎车县阿扎提巴格乡央阿克勒克村1组35号 | I73: 653125719002436 | J73: 子 | K73: 1组35号 | L73: 1组35号 | M73: 否 | N73: 否 | P73: 否 | Q73: 13村1组 | S73: 22560 | T73: 4712
A74: 72 | B74: 在册 | C74: ⬛⬛⬛⬛⬛⬛⬛⬛ | D74: 男 | E74: 1989-07-09 | F74: 维吾尔 | G74: ⬛⬛⬛⬛⬛⬛⬛⬛ | H74: 新疆莎车县阿扎提巴格乡央阿克勒克村1组35号 | I74: 653125719002436 | J74: 子 | K74: 1组35号 | L74: 1组35号 | M74: 否 | N74: 否 | P74: 否 | Q74: 13村1组 | S74: 22560 | T74: 4712
A75: 73 | B75: 在册 | C75: ⬛⬛⬛⬛⬛⬛⬛⬛ | D75: 女 | E75: 1993-04-27 | F75: 维吾尔 | G75: ⬛⬛⬛⬛⬛⬛⬛⬛ | H75: 新疆莎车县阿扎提巴格乡央阿克勒克村1组35号 | I75: 653125719002436 | J75: 儿媳 | K75: 1组35号 | L75: 1组35号 | M75: 否 | N75: 否 | P75: 否 | Q75: 13村1组 | S75: 22560 | T75: 4712
A76: 74 | B76: 在册 | C76: ⬛⬛⬛⬛⬛⬛⬛⬛ | D76: 男 | E76: 1989-10-10 | F76: 维吾尔 | G76: ⬛⬛⬛⬛⬛⬛⬛⬛ | H76: 新疆莎车县阿扎提巴格乡央阿克勒克村1组16号 | I76: 653125719002438 | J76: 户主 | K76: 1组16号 | L76: 1组16号 | M76: 否 | N76: 否 | P76: 否 | Q76: 13村1组 | S76: 20000 | T76: 10000
A77: 75 | B77: 在册 | C77: ⬛⬛⬛⬛⬛⬛⬛⬛ | D77: 女 | F77: 维吾尔 | G77: ⬛⬛⬛⬛⬛⬛⬛⬛ | H77: =#N/A -> #N/A | I77: =#N/A -> #N/A | J77: 妻子 | K77: =#N/A -> #N/A | L77: =#N/A -> #N/A | M77: 否 | N77: 否 | P77: 否 | Q77: 13村1组 | S77: 20000 | T77: 10000
A78: 76 | B78: 在册 | C78: ⬛⬛⬛⬛⬛⬛⬛⬛ | D78: 男 | E78: 1940-02-20 | F78: 维吾尔 | G78: ⬛⬛⬛⬛⬛⬛⬛⬛ | H78: 新疆莎车县阿扎提巴格乡央阿克勒克村1组17号 | I78: 653125719002545 | J78: 户主 | K78: 1组17号 | L78: 1组17号 | M78: 否 | N78: 否 | P78: 否 | Q78: 13村1组 | R78: 搬城里 | S78: 84000 | T78: 28000
A79: 77 | B79: 在册 | C79: ⬛⬛⬛⬛⬛⬛⬛⬛ | D79: 女 | G79: ⬛⬛⬛⬛⬛⬛⬛⬛ | H79: 新疆莎车县阿扎提巴格乡央阿克勒克村1组17号 | J79: 女子 | K79: 1组17号 | L79: 1组17号 | M79: 否 | N79: 否 | P79: 否 | Q79: 13村1组 | R79: 搬城里 | S79: 84000 | T79: 28000
A80: 78 | B80: 在册 | C80: ⬛⬛⬛⬛⬛⬛⬛⬛ | D80: 男 | E80: 1983-03-17 | F80: 维吾尔 | G80: ⬛⬛⬛⬛⬛⬛⬛⬛ | H80: 新疆莎车县阿扎提巴格乡央阿克勒克村1组19号 | I80: 670000000635798 | J80: 子 | K80: 1组19号 | L80: 1组19号 | M80: 否 | N80: 否 | P80: 否 | Q80: 13村1组 | R80: 搬城里 | S80: 84000 | T80: 28000
A81: 79 | B81: 在册 | C81: ⬛⬛⬛⬛⬛⬛⬛⬛ | D81: 男 | E81: 1980-06-20 | F81: 维吾尔 | G81: ⬛⬛⬛⬛⬛⬛⬛⬛ | H81: 新疆莎车县阿扎提巴格乡央阿克勒克村1组222号 | I81: 653125719002864 | J81: 户主 | K81: 1组222号 | L81: 1组222号 | M81: 否 | N81: 否 | P81: 否 | Q81: 13村1组 | S81: 27340 | T81: 5468
A82: 80 | B82: 在册 | C82: ⬛⬛⬛⬛⬛⬛⬛⬛ | D82: 女 | E82: 1981-10-20 | F82: 维吾尔 | G82: ⬛⬛⬛⬛⬛⬛⬛⬛ | H82: 新疆莎车县阿扎提巴格乡央阿克勒克村1组222号 | I82: 653125719002864 | J82: 妻 | K82: 1组222号 | L82: 1组222号 | M82: 否 | N82: 否 | P82: 否 | Q82: 13村1组 | S82: 27340 | T82: 5468
A83: 81 | B83: 在册 | C83: ⬛⬛⬛⬛⬛⬛⬛⬛ | D83: 男 | E83: 2011-03-25 | F83: 维吾尔 | G83: ⬛⬛⬛⬛⬛⬛⬛⬛ | H83: 新疆莎车县阿扎提巴格乡央阿克勒克村1组222号 | I83: 653125719002864 | J83: 子 | K83: 1组222号 | L83: 1组222号 | M83: 否 | N83: 否 | P83: 否 | Q83: 13村1组 | S83: 27340 | T83: 5468
A84: 82 | B84: 在册 | C84: ⬛⬛⬛⬛⬛⬛⬛⬛ | D84: 男 | E84: 2008-05-31 | F84: 维吾尔 | G84: ⬛⬛⬛⬛⬛⬛⬛⬛ | H84: 新疆莎车县阿扎提巴格乡央阿克勒克村1组222号 | I84: 653125719002864 | J84: 子 | K84: 1组222号 | L84: 1组222号 | M84: 否 | N84: 否 | P84: 否 | Q84: 13村1组 | S84: 27340 | T84: 5468
A85: 83 | B85: 在册 | C85: ⬛⬛⬛⬛⬛⬛⬛⬛ | D85: 女 | E85: 2006-02-01 | F85: 维吾尔 | G85: ⬛⬛⬛⬛⬛⬛⬛⬛ | H85: 新疆莎车县阿扎提巴格乡央阿克勒克村1组222号 | I85: 653125719002864 | J85: 女 | K85: 1组222号 | L85: 1组222号 | M85: 否 | N85: 否 | P85: 否 | Q85: 13村1组 | S85: 27340 | T85: 5468
A86: 84 | B86: 在册 | C86: 肉孜尼亚孜·瓦斯力 | D86: 男 | E86: 1984-07-01 | F86: 维吾尔 | G86: 653125198407013819 | H86: 新疆莎车县阿扎提巴格乡央阿克勒克村1组023号 | I86: 653125719003846 | J86: 户主 | K86: 1组023号 | L86: 1组023号 | M86: 否 | N86: 否 | P86: 否 | Q86: 13村1组 | R86: 收教 | S86: 17552 | T86: 4388
A87: 85 | B87: 在册 | C87: ⬛⬛⬛⬛⬛⬛⬛⬛ | D87: 女 | E87: 1988-04-04 | F87: 维吾尔 | G87: ⬛⬛⬛⬛⬛⬛⬛⬛ | H87: 新疆莎车县阿扎提巴格乡央阿克勒克村1组023号 | I87: 653125719003846 | J87: 妻 | K87: 1组023号 | L87: 1组023号 | M87: 否 | N87: 否 | P87: 否 | Q87: 13村1组 | S87: 17552 | T87: 4388
A88: 86 | B88: 在册 | C88: 阿布杜海比尔·肉孜尼亚孜 | D88: 男 | E88: 2016-04-21 | F88: 维吾尔 | G88: 653125201604213814 | H88: 新疆莎车县阿扎提巴格乡央阿克勒克村1组023号 | I88: 653125719003846 | J88: 长子 | K88: 1组023号 | L88: 1组023号 | M88: 否 | N88: 否 | P88: 否 | Q88: 13村1组 | R88: 收教 | S88: 17552 | T88: 4388
A89: 87 | B89: 在册 | C89: ⬛⬛⬛⬛⬛⬛⬛⬛ | D89: 女 | E89: 2010-05-02 | F89: 维吾尔 | G89: ⬛⬛⬛⬛⬛⬛⬛⬛ | H89: 新疆莎车县阿扎提巴格乡央阿克勒克村1组023号 | I89: 653125719003846 | J89: 女 | K89: 1组023号 | L89: 1组023号 | M89: 否 | N89: 否 | P89: 否 | Q89: 13村1组 | S89: 17552 | T89: 4388
A90: 88 | B90: 在册 | C90: ⬛⬛⬛⬛⬛⬛⬛⬛ | D90: 男 | E90: 1984-01-12 | F90: 维吾尔 | G90: ⬛⬛⬛⬛⬛⬛⬛⬛ | H90: 新疆莎车县阿扎提巴格乡央阿克勒克村1组017号 | I90: 653125719004160 | J90: 户主 | K90: 1组017号 | L90: 1组017号 | M90: 否 | N90: 否 | P90: 否 | Q90: 13村1组 | R90: 非农业 | S90: 46576 | T90: 11644
A91: 89 | B91: 在册 | C91: ⬛⬛⬛⬛⬛⬛⬛⬛ | D91: 男 | E91: 2006-01-01 | F91: 维吾尔 | G91: ⬛⬛⬛⬛⬛⬛⬛⬛ | H91: 新疆莎车县阿扎提巴格乡央阿克勒克村1组017号 | I91: 653125719004160 | J91: 子 | K91: 1组017号 | L91: 1组017号 | M91: 否 | N91: 否 | P91: 否 | Q91: 13村1组 | R91: 非农业 | S91: 46576 | T91: 11644
A92: 90 | B92: 在册 | C92: ⬛⬛⬛⬛⬛⬛⬛⬛ | D92: 男 | E92: 2012-01-01 | F92: 维吾尔 | G92: ⬛⬛⬛⬛⬛⬛⬛⬛ | H92: 新疆莎车县阿扎提巴格乡央阿克勒克村1组017号 | I92: 653125719004160 | J92: 子 | K92: 1组017号 | L92: 1组017号 | M92: 否 | N92: 否 | P92: 否 | Q92: 13村1组 | R92: 非农业 | S92: 46576 | T92: 11644
A93: 91 | B93: 在册 | C93: ⬛⬛⬛⬛⬛⬛⬛⬛ | D93: 男 | E93: 1981-11-05 | F93: 维吾尔 | G93: ⬛⬛⬛⬛⬛⬛⬛⬛ | H93: 新疆莎车县阿扎提巴格乡央阿克勒克村1组050号 | I93: 653125719004192 | J93: 户主 | K93: 1组050号 | L93: 1组050号 | M93: 否 | N93: 否 | P93: 否 | Q93: 13村1组 | R93: 非农业 | S93: 12000 | T93: 6000
A94: 92 | B94: 在册 | C94: ⬛⬛⬛⬛⬛⬛⬛⬛ | D94: 男 | E94: 2004-04-03 | F94: 维吾尔 | G94: ⬛⬛⬛⬛⬛⬛⬛⬛ | H94: 新疆莎车县阿扎提巴格乡央阿克勒克村1组050号 | I94: 653125719004192 | J94: 子 | K94: 1组050号 | L94: 1组050号 | M94: 否 | N94: 否 | P94: 否 | Q94: 13村1组 | R94: 非农业 | S94: 12000 | T94: 6000
A95: 93 | B95: 在册 | C95: ⬛⬛⬛⬛⬛⬛⬛⬛ | D95: 男 | E95: 1991-12-01 | F95: 维吾尔 | G95: ⬛⬛⬛⬛⬛⬛⬛⬛ | H95: 新疆莎车县阿扎提巴格乡央阿克勒克村3组32号 | I95: 670000000433154 | J95: 户主 | K95: 3组32号 | L95: 3组32号 | M95: 否 | N95: 否 | P95: 否 | Q95: 13村1组 | S95: 13620 | T95: 4540
A96: 94 | B96: 在册 | C96: ⬛⬛⬛⬛⬛⬛⬛⬛ | D96: 女 | E96: 1990-05-08 | F96: 维吾尔 | G96: ⬛⬛⬛⬛⬛⬛⬛⬛ | H96: 新疆莎车县阿扎提巴格乡央阿克勒克村3组32号 | I96: 670000000433154 | J96: 妻 | K96: 3组32号 | L96: 3组32号 | M96: 否 | N96: 否 | P96: 否 | Q96: 13村1组 | S96: 13620 | T96: 4540
A97: 95 | B97: 在册 | C97: ⬛⬛⬛⬛⬛⬛⬛⬛ | D97: 男 | E97: 2017-05-24 | F97: 维吾尔 | G97: ⬛⬛⬛⬛⬛⬛⬛⬛ | H97: 新疆莎车县阿扎提巴格乡央阿克勒克村3组32号 | I97: 670000000433154 | J97: 子 | K97: 3组32号 | L97: 3组32号 | M97: 否 | N97: 否 | P97: 否 | Q97: 13村1组 | S97: 13620 | T97: 4540
A98: 96 | B98: 在册 | C98: 图尔贡·努尔敦 | D98: 男 | E98: 1992-06-15 | F98: 维吾尔 | G98: 653125199206153852 | H98: 新疆莎车县阿扎提巴格乡央阿克勒克村1组2号 | I98: 670000000433340 | J98: 户主 | K98: 1组2号 | L98: 1组2号 | M98: 否 | N98: 否 | P98: 否 | Q98: 13村1组 | R98: 收教 | S98: 14000 | T98: 3500
A99: 97 | B99: 在册 | C99: ⬛⬛⬛⬛⬛⬛⬛⬛ | D99: 女 | E99: 1997-12-09 | F99: 维吾尔 | G99: ⬛⬛⬛⬛⬛⬛⬛⬛ | H99: 新疆莎车县阿扎提巴格乡央阿克勒克村1组2号 | I99: 670000000433340 | J99: 妻 | K99: 1组2号 | L99: 1组2号 | M99: 否 | N99: 否 | P99: 否 | Q99: 13村1组 | S99: 14000 | T99: 3500
A100: 98 | B100: 在册 | C100: ⬛⬛⬛⬛⬛⬛⬛⬛ | D100: 男 | E100: 2013-07-05 | F100: 维吾尔 | G100: ⬛⬛⬛⬛⬛⬛⬛⬛ | H100: 新疆莎车县阿扎提巴格乡央阿克勒克村1组2号 | I100: 670000000433340 | J100: 子 | K100: 1组2号 | L100: 1组2号 | M100: 否 | N100: 否 | P100: 否 | Q100: 13村1组 | S100: 14000 | T100: 3500
A101: 99 | B101: 在册 | C101: ⬛⬛⬛⬛⬛⬛⬛⬛ | D101: 女 | E101: 2014-10-09 | F101: 维吾尔 | G101: ⬛⬛⬛⬛⬛⬛⬛⬛ | H101: 新疆莎车县阿扎提巴格乡央阿克勒克村1组2号 | I101: 670000000433340 | J101: 女 | K101: 1组2号 | L101: 1组2号 | M101: 否 | N101: 否 | P101: 否 | Q101: 13村1组 | S101: 14000 | T101: 3500
A102: 100 | B102: 在册 | C102: ⬛⬛⬛⬛⬛⬛⬛⬛ | D102: 女 | E102: 1982-04-15 | F102: 维吾尔 | G102: ⬛⬛⬛⬛⬛⬛⬛⬛ | H102: 新疆莎车县阿扎提巴格乡央阿克勒克村1组24号 | I102: 670000000433395 | J102: 户主 | K102: 1组24号 | L102: 1组24号 | M102: 否 | N102: 否 | P102: 否 | Q102: 13村1组 | S102: 10800 | T102: 5400
A103: 101 | B103: 在册 | C103: ⬛⬛⬛⬛⬛⬛⬛⬛ | D103: 男 | E103: 2010-03-21 | F103: 维吾尔 | G103: ⬛⬛⬛⬛⬛⬛⬛⬛ | H103: 新疆莎车县阿扎提巴格乡央阿克勒克村1组24号 | I103: 670000000433395 | J103: 子 | K103: 1组24号 | L103: 1组24号 | M103: 否 | N103: 否 | P103: 否 | Q103: 13村1组 | S103: 10800 | T103: 5400
...
