Workbook

Sheet 一般户台账
A1: 莎车县阿扎提巴格镇兰干村一般户台账（284户1127人）
A2: 户序号 | B2: 序号 | C2: 户号 | D2: 姓名 | E2: 民族 | F2: 公民身份号码 | G2: 与户主关系 | H2: 户籍地址 | I2: 村组 | K2: 年龄超85岁 | L2: 低保 | M2: 特困供养 | N2: 残疾人 | O2: 大病 | P2: slry | Q2: 就业情况 | R2: 人均收入 | S2: 备注
A3: =MAX($A$2:A2)+1 -> 1 | B3: 1 | C3: 670000001067974 | D3: 阿布力米提·塔力普 | E3: 维吾尔 | F3: 653125198204053837 | G3: 夫 | H3: 新疆莎车县阿扎提巴格乡兰干村6组4号 | I3: 6组4号 | J3: =YEAR(TODAY())-MID(F3,7,4) -> 40 | P3: 教育转化 | R3: 4767
B4: 2 | C4: 670000001067974 | D4: ⬛⬛⬛⬛⬛⬛⬛⬛ | E4: 维吾尔 | F4: ⬛⬛⬛⬛⬛⬛⬛⬛ | G4: 子 | H4: 新疆莎车县阿扎提巴格乡兰干村6组4号 | I4: 6组4号 | J4: =YEAR(TODAY())-MID(F4,7,4) -> #VALUE! | L4: 是 | R4: 4767
B5: 3 | C5: 670000001067974 | D5: ⬛⬛⬛⬛⬛⬛⬛⬛ | E5: 维吾尔 | F5: ⬛⬛⬛⬛⬛⬛⬛⬛ | G5: 户主 | H5: 新疆莎车县阿扎提巴格乡兰干村6组4号 | I5: 6组4号 | J5: =YEAR(TODAY())-MID(F5,7,4) -> #VALUE! | L5: 是 | Q5: =VLOOKUP(F:F,[1]Sheet2!$E:$M,9,0) -> #N/A | R5: 4767
B6: 4 | C6: 670000001067974 | D6: ⬛⬛⬛⬛⬛⬛⬛⬛ | E6: 维吾尔 | F6: ⬛⬛⬛⬛⬛⬛⬛⬛ | G6: 女 | H6: 新疆莎车县阿扎提巴格乡兰干村6组4号 | I6: 6组4号 | J6: =YEAR(TODAY())-MID(F6,7,4) -> #VALUE! | R6: 4767
B7: 5 | C7: 670000001067974 | D7: ⬛⬛⬛⬛⬛⬛⬛⬛ | E7: 维吾尔 | F7: ⬛⬛⬛⬛⬛⬛⬛⬛ | G7: 子 | H7: 新疆莎车县阿扎提巴格乡兰干村6组4号 | I7: 6组4号 | J7: =YEAR(TODAY())-MID(F7,7,4) -> #VALUE! | R7: 4767
A8: =MAX($A$1:A6)+1 -> 2 | B8: 6 | C8: 670000001067972 | D8: ⬛⬛⬛⬛⬛⬛⬛⬛ | E8: 维吾尔 | F8: ⬛⬛⬛⬛⬛⬛⬛⬛ | G8: 户主 | H8: 新疆莎车县阿扎提巴格乡兰干村3组155号 | I8: 3组155号 | J8: =YEAR(TODAY())-MID(F8,7,4) -> #VALUE! | Q8: =VLOOKUP(F:F,[1]Sheet2!$E:$M,9,0) -> #N/A | R8: 8632
B9: 7 | C9: 670000001067972 | D9: ⬛⬛⬛⬛⬛⬛⬛⬛ | E9: 维吾尔 | F9: ⬛⬛⬛⬛⬛⬛⬛⬛ | G9: 长女 | H9: 新疆莎车县阿扎提巴格乡兰干村3组155号 | I9: 3组155号 | J9: =YEAR(TODAY())-MID(F9,7,4) -> #VALUE! | R9: 8632
B10: 8 | C10: 670000001067972 | D10: ⬛⬛⬛⬛⬛⬛⬛⬛ | E10: 维吾尔 | F10: ⬛⬛⬛⬛⬛⬛⬛⬛ | G10: 妻 | H10: 新疆莎车县阿扎提巴格乡兰干村3组155号 | I10: 3组155号 | J10: =YEAR(TODAY())-MID(F10,7,4) -> #VALUE! | R10: 8632
A11: =MAX($A$1:A9)+1 -> 3 | B11: 9 | C11: 670000001067970 | D11: ⬛⬛⬛⬛⬛⬛⬛⬛ | E11: 维吾尔 | F11: ⬛⬛⬛⬛⬛⬛⬛⬛ | G11: 长女 | H11: 新疆莎车县阿扎提巴格乡兰干村4组162号 | I11: 4组162号 | J11: =YEAR(TODAY())-MID(F11,7,4) -> #VALUE! | R11: 5632
B12: 10 | C12: 670000001067970 | D12: ⬛⬛⬛⬛⬛⬛⬛⬛ | E12: 维吾尔 | F12: ⬛⬛⬛⬛⬛⬛⬛⬛ | G12: 妻 | H12: 新疆莎车县阿扎提巴格乡兰干村4组162号 | I12: 4组162号 | J12: =YEAR(TODAY())-MID(F12,7,4) -> #VALUE! | R12: 5632
B13: 11 | C13: 670000001067970 | D13: ⬛⬛⬛⬛⬛⬛⬛⬛ | E13: 维吾尔 | F13: ⬛⬛⬛⬛⬛⬛⬛⬛ | G13: 户主 | H13: 新疆莎车县阿扎提巴格乡兰干村4组162号 | I13: 4组162号 | J13: =YEAR(TODAY())-MID(F13,7,4) -> #VALUE! | Q13: =VLOOKUP(F:F,[1]Sheet2!$E:$M,9,0) -> #N/A | R13: 5632
A14: =MAX($A$1:A12)+1 -> 4 | B14: 12 | C14: 670000001066076 | D14: 斯迪克·麦麦提 | E14: 维吾尔 | F14: 653125198911023813 | G14: 夫 | H14: 新疆莎车县阿扎提巴格乡兰干村3组118号 | I14: 3组118号 | J14: =YEAR(TODAY())-MID(F14,7,4) -> 33 | P14: 判刑 | R14: 5545
B15: 13 | C15: 670000001066076 | D15: ⬛⬛⬛⬛⬛⬛⬛⬛ | E15: 维吾尔 | F15: ⬛⬛⬛⬛⬛⬛⬛⬛ | G15: 次子 | H15: 新疆莎车县阿扎提巴格乡兰干村3组118号 | I15: 3组118号 | J15: =YEAR(TODAY())-MID(F15,7,4) -> #VALUE! | R15: =R14 -> 5545
B16: 14 | C16: 670000001066076 | D16: ⬛⬛⬛⬛⬛⬛⬛⬛ | E16: 维吾尔 | F16: ⬛⬛⬛⬛⬛⬛⬛⬛ | G16: 长女 | H16: 新疆莎车县阿扎提巴格乡兰干村3组118号 | I16: 3组118号 | J16: =YEAR(TODAY())-MID(F16,7,4) -> #VALUE! | R16: =R15 -> 5545
B17: 15 | C17: 670000001066076 | D17: ⬛⬛⬛⬛⬛⬛⬛⬛ | E17: 维吾尔 | F17: ⬛⬛⬛⬛⬛⬛⬛⬛ | G17: 长子 | H17: 新疆莎车县阿扎提巴格乡兰干村3组118号 | I17: 3组118号 | J17: =YEAR(TODAY())-MID(F17,7,4) -> #VALUE! | R17: =R16 -> 5545
B18: 16 | C18: 670000001066076 | D18: ⬛⬛⬛⬛⬛⬛⬛⬛ | E18: 维吾尔 | F18: ⬛⬛⬛⬛⬛⬛⬛⬛ | G18: 户主 | H18: 新疆莎车县阿扎提巴格乡兰干村3组118号 | I18: 3组118号 | J18: =YEAR(TODAY())-MID(F18,7,4) -> #VALUE! | R18: =R17 -> 5545
A19: =MAX($A$1:A17)+1 -> 5 | B19: 17 | C19: 670000001066075 | D19: ⬛⬛⬛⬛⬛⬛⬛⬛ | E19: 维吾尔 | F19: ⬛⬛⬛⬛⬛⬛⬛⬛ | G19: 户主 | H19: 新疆莎车县阿扎提巴格乡兰干村1组55号 | I19: 1组55号 | J19: =YEAR(TODAY())-MID(F19,7,4) -> #VALUE! | R19: 6396
B20: 18 | C20: 670000001066075 | D20: ⬛⬛⬛⬛⬛⬛⬛⬛ | E20: 维吾尔 | F20: ⬛⬛⬛⬛⬛⬛⬛⬛ | G20: 长女 | H20: 新疆莎车县阿扎提巴格乡兰干村1组55号 | I20: 1组55号 | J20: =YEAR(TODAY())-MID(F20,7,4) -> #VALUE! | R20: =R19 -> 6396
B21: 19 | C21: 670000001066075 | D21: ⬛⬛⬛⬛⬛⬛⬛⬛ | E21: 维吾尔 | F21: ⬛⬛⬛⬛⬛⬛⬛⬛ | G21: 长子 | H21: 新疆莎车县阿扎提巴格乡兰干村1组55号 | I21: 1组55号 | J21: =YEAR(TODAY())-MID(F21,7,4) -> #VALUE! | R21: =R20 -> 6396
B22: 20 | C22: 670000001066075 | D22: ⬛⬛⬛⬛⬛⬛⬛⬛ | E22: 维吾尔 | F22: ⬛⬛⬛⬛⬛⬛⬛⬛ | G22: 妻 | H22: 新疆莎车县阿扎提巴格乡兰干村1组55号 | I22: 1组55号 | J22: =YEAR(TODAY())-MID(F22,7,4) -> #VALUE! | R22: =R21 -> 6396
A23: =MAX($A$1:A21)+1 -> 6 | B23: 21 | C23: 670000000793456 | D23: ⬛⬛⬛⬛⬛⬛⬛⬛ | E23: 维吾尔 | F23: ⬛⬛⬛⬛⬛⬛⬛⬛ | G23: 女 | H23: 新疆莎车县阿扎提巴格乡兰干村3组26号 | I23: 3组26号 | J23: =YEAR(TODAY())-MID(F23,7,4) -> #VALUE! | R23: =R22 -> 6396
B24: 22 | C24: 670000000793456 | D24: ⬛⬛⬛⬛⬛⬛⬛⬛ | E24: 维吾尔 | F24: ⬛⬛⬛⬛⬛⬛⬛⬛ | G24: 子 | H24: 新疆莎车县阿扎提巴格乡兰干村3组26号 | I24: 3组26号 | J24: =YEAR(TODAY())-MID(F24,7,4) -> #VALUE! | R24: =R23 -> 6396
B25: 23 | C25: 670000000793456 | D25: ⬛⬛⬛⬛⬛⬛⬛⬛ | E25: 维吾尔 | F25: ⬛⬛⬛⬛⬛⬛⬛⬛ | G25: 妻 | H25: 新疆莎车县阿扎提巴格乡兰干村3组26号 | I25: 3组26号 | J25: =YEAR(TODAY())-MID(F25,7,4) -> #VALUE! | O25: =VLOOKUP(F:F,[2]高血压!$F$1:$K$65536,6,0) -> #N/A | R25: =R24 -> 6396
B26: 24 | C26: 670000000793456 | D26: ⬛⬛⬛⬛⬛⬛⬛⬛ | E26: 维吾尔 | F26: ⬛⬛⬛⬛⬛⬛⬛⬛ | G26: 户主 | H26: 新疆莎车县阿扎提巴格乡兰干村3组26号 | I26: 3组26号 | J26: =YEAR(TODAY())-MID(F26,7,4) -> #VALUE! | R26: 7269
A27: =MAX($A$1:A25)+1 -> 7 | B27: 25 | C27: 670000000756232 | D27: ⬛⬛⬛⬛⬛⬛⬛⬛ | E27: 维吾尔 | F27: ⬛⬛⬛⬛⬛⬛⬛⬛ | G27: 妻 | H27: 新疆莎车县阿扎提巴格乡兰干村4组82号 | I27: 4组82号 | J27: =YEAR(TODAY())-MID(F27,7,4) -> #VALUE! | R27: =R26 -> 7269
B28: 26 | C28: 670000000756232 | D28: ⬛⬛⬛⬛⬛⬛⬛⬛ | E28: 维吾尔 | F28: ⬛⬛⬛⬛⬛⬛⬛⬛ | G28: 女 | H28: 新疆莎车县阿扎提巴格乡兰干村4组82号 | I28: 4组82号 | J28: =YEAR(TODAY())-MID(F28,7,4) -> #VALUE! | R28: =R27 -> 7269
B29: 27 | C29: 670000000756232 | D29: ⬛⬛⬛⬛⬛⬛⬛⬛ | E29: 维吾尔 | F29: ⬛⬛⬛⬛⬛⬛⬛⬛ | G29: 户主 | H29: 新疆莎车县阿扎提巴格乡兰干村4组82号 | I29: 4组82号 | J29: =YEAR(TODAY())-MID(F29,7,4) -> #VALUE! | Q29: =VLOOKUP(F:F,[1]Sheet2!$E:$M,9,0) -> #N/A | R29: 7269
A30: =MAX($A$1:A28)+1 -> 8 | B30: 28 | C30: 670000000756208 | D30: ⬛⬛⬛⬛⬛⬛⬛⬛ | E30: 维吾尔 | F30: ⬛⬛⬛⬛⬛⬛⬛⬛ | G30: 妻 | H30: 新疆莎车县阿扎提巴格乡兰干村4组81号 | I30: 4组81号 | J30: =YEAR(TODAY())-MID(F30,7,4) -> #VALUE! | Q30: =VLOOKUP(F:F,[1]Sheet2!$E:$M,9,0) -> #N/A | R30: 7593
B31: 29 | C31: 670000000756208 | D31: ⬛⬛⬛⬛⬛⬛⬛⬛ | E31: 维吾尔 | F31: ⬛⬛⬛⬛⬛⬛⬛⬛ | G31: 子 | H31: 新疆莎车县阿扎提巴格乡兰干村4组81号 | I31: 4组81号 | J31: =YEAR(TODAY())-MID(F31,7,4) -> #VALUE! | R31: 7593
B32: 30 | C32: 670000000756208 | D32: ⬛⬛⬛⬛⬛⬛⬛⬛ | E32: 维吾尔 | F32: ⬛⬛⬛⬛⬛⬛⬛⬛ | G32: 户主 | H32: 新疆莎车县阿扎提巴格乡兰干村4组81号 | I32: 4组81号 | J32: =YEAR(TODAY())-MID(F32,7,4) -> #VALUE! | Q32: =VLOOKUP(F:F,[1]Sheet2!$E:$M,9,0) -> #N/A | R32: 7593
B33: 31 | C33: 670000000756208 | D33: ⬛⬛⬛⬛⬛⬛⬛⬛ | E33: 维吾尔 | F33: ⬛⬛⬛⬛⬛⬛⬛⬛ | G33: 子 | H33: 新疆莎车县阿扎提巴格乡兰干村4组81号 | I33: 4组81号 | J33: =YEAR(TODAY())-MID(F33,7,4) -> #VALUE! | R33: =R32 -> 7593
A34: =MAX($A$1:A32)+1 -> 9 | B34: 32 | C34: 670000000756189 | D34: ⬛⬛⬛⬛⬛⬛⬛⬛ | E34: 维吾尔 | F34: ⬛⬛⬛⬛⬛⬛⬛⬛ | G34: 次子 | H34: 新疆莎车县阿扎提巴格乡兰干村4组80号 | I34: 4组80号 | J34: =YEAR(TODAY())-MID(F34,7,4) -> #VALUE! | L34: 是 | R34: =R33 -> 7593
B35: 33 | C35: 670000000756189 | D35: 阿布莱提·麦麦提 | E35: 维吾尔 | F35: 653125198601123819 | G35: 夫 | H35: 新疆莎车县阿扎提巴格乡兰干村4组80号 | I35: 4组80号 | J35: =YEAR(TODAY())-MID(F35,7,4) -> 36 | P35: 判刑 | R35: 10274
B36: 34 | C36: 670000000756189 | D36: ⬛⬛⬛⬛⬛⬛⬛⬛ | E36: 维吾尔 | F36: ⬛⬛⬛⬛⬛⬛⬛⬛ | G36: 户主 | H36: 新疆莎车县阿扎提巴格乡兰干村4组80号 | I36: 4组80号 | J36: =YEAR(TODAY())-MID(F36,7,4) -> #VALUE! | L36: 是 | R36: 5848
B37: 35 | C37: 670000000756189 | D37: ⬛⬛⬛⬛⬛⬛⬛⬛ | E37: 维吾尔 | F37: ⬛⬛⬛⬛⬛⬛⬛⬛ | G37: 子 | H37: 新疆莎车县阿扎提巴格乡兰干村4组80号 | I37: 4组80号 | J37: =YEAR(TODAY())-MID(F37,7,4) -> #VALUE! | L37: 是 | R37: =R36 -> 5848
A38: =MAX($A$1:A36)+1 -> 10 | B38: 36 | C38: 670000000710072 | D38: ⬛⬛⬛⬛⬛⬛⬛⬛ | E38: 维吾尔 | F38: ⬛⬛⬛⬛⬛⬛⬛⬛ | G38: 妻 | H38: 新疆莎车县阿扎提巴格乡兰干村3组92号 | I38: 3组92号 | J38: =YEAR(TODAY())-MID(F38,7,4) -> #VALUE! | Q38: =VLOOKUP(F:F,[1]Sheet2!$E:$M,9,0) -> #N/A | R38: =R37 -> 5848
B39: 37 | C39: 670000000710072 | D39: ⬛⬛⬛⬛⬛⬛⬛⬛ | E39: 维吾尔 | F39: ⬛⬛⬛⬛⬛⬛⬛⬛ | G39: 子 | H39: 新疆莎车县阿扎提巴格乡兰干村3组92号 | I39: 3组92号 | J39: =YEAR(TODAY())-MID(F39,7,4) -> #VALUE! | R39: =R38 -> 5848
B40: 38 | C40: 670000000710072 | D40: 图尔贡·图热普 | E40: 维吾尔 | F40: 653125199206203813 | G40: 户主 | H40: 新疆莎车县阿扎提巴格乡兰干村3组92号 | I40: 3组92号 | J40: =YEAR(TODAY())-MID(F40,7,4) -> 30 | P40: 教育转化 | R40: 7085
A41: =MAX($A$1:A39)+1 -> 11 | B41: 39 | C41: 670000000701260 | D41: ⬛⬛⬛⬛⬛⬛⬛⬛ | E41: 维吾尔 | F41: ⬛⬛⬛⬛⬛⬛⬛⬛ | G41: 妻 | H41: 新疆莎车县阿扎提巴格乡兰干村4组76号 | I41: 4组76号 | J41: =YEAR(TODAY())-MID(F41,7,4) -> #VALUE! | L41: 是 | O41: =VLOOKUP(F:F,[2]高血压!$F$1:$K$65536,6,0) -> #N/A | R41: =R40 -> 7085
B42: 40 | C42: 670000000701260 | D42: 艾海提·图尔迪 | E42: 维吾尔 | F42: 653125194607053817 | G42: 户主 | H42: 新疆莎车县阿扎提巴格乡兰干村4组76号 | I42: 4组76号 | J42: =YEAR(TODAY())-MID(F42,7,4) -> 76 | L42: 是 | P42: 教育转化 (担保回) | R42: 9762
A43: =MAX($A$1:A41)+1 -> 12 | B43: 41 | C43: 670000000689156 | D43: ⬛⬛⬛⬛⬛⬛⬛⬛ | E43: 维吾尔 | F43: ⬛⬛⬛⬛⬛⬛⬛⬛ | G43: 子 | H43: 新疆莎车县阿扎提巴格乡兰干村4组28号 | I43: 4组28号 | J43: =YEAR(TODAY())-MID(F43,7,4) -> #VALUE! | L43: 是 | R43: =R42 -> 9762
B44: 42 | C44: 670000000689156 | D44: ⬛⬛⬛⬛⬛⬛⬛⬛ | E44: 维吾尔 | F44: ⬛⬛⬛⬛⬛⬛⬛⬛ | G44: 女 | H44: 新疆莎车县阿扎提巴格乡兰干村4组28号 | I44: 4组28号 | J44: =YEAR(TODAY())-MID(F44,7,4) -> #VALUE! | L44: 是 | R44: =R43 -> 9762
B45: 43 | C45: 670000000689156 | D45: ⬛⬛⬛⬛⬛⬛⬛⬛ | E45: 维吾尔 | F45: ⬛⬛⬛⬛⬛⬛⬛⬛ | G45: 妻 | H45: 新疆莎车县阿扎提巴格乡兰干村4组28号 | I45: 4组28号 | J45: =YEAR(TODAY())-MID(F45,7,4) -> #VALUE! | L45: 是 | R45: =R44 -> 9762
B46: 44 | C46: 670000000689156 | D46: 阿布杜如素力·阿布杜热合曼 | E46: 维吾尔 | F46: 653125198603263815 | G46: 户主 | H46: 新疆莎车县阿扎提巴格乡兰干村4组28号 | I46: 4组28号 | J46: =YEAR(TODAY())-MID(F46,7,4) -> 36 | P46: 教育转化 | R46: 5488
B47: 45 | C47: 670000000689156 | D47: ⬛⬛⬛⬛⬛⬛⬛⬛ | E47: 维吾尔 | F47: ⬛⬛⬛⬛⬛⬛⬛⬛ | G47: 女 | H47: 新疆莎车县阿扎提巴格乡兰干村4组28号 | I47: 4组28号 | J47: =YEAR(TODAY())-MID(F47,7,4) -> #VALUE! | L47: 是 | R47: =R46 -> 5488
B48: 46 | C48: 670000000689156 | D48: ⬛⬛⬛⬛⬛⬛⬛⬛ | E48: 维吾尔 | F48: ⬛⬛⬛⬛⬛⬛⬛⬛ | G48: 女 | H48: 新疆莎车县阿扎提巴格乡兰干村4组28号 | I48: 4组28号 | J48: =YEAR(TODAY())-MID(F48,7,4) -> #VALUE! | L48: 是 | R48: =R47 -> 5488
A49: =MAX($A$1:A47)+1 -> 13 | B49: 47 | C49: 670000000682924 | D49: ⬛⬛⬛⬛⬛⬛⬛⬛ | E49: 维吾尔 | F49: ⬛⬛⬛⬛⬛⬛⬛⬛ | G49: 子 | H49: 新疆莎车县阿扎提巴格乡兰干村4组61号 | I49: 4组61号 | J49: =YEAR(TODAY())-MID(F49,7,4) -> #VALUE! | R49: =R48 -> 5488
B50: 48 | C50: 670000000682924 | D50: ⬛⬛⬛⬛⬛⬛⬛⬛ | E50: 维吾尔 | F50: ⬛⬛⬛⬛⬛⬛⬛⬛ | G50: 户主 | H50: 新疆莎车县阿扎提巴格乡兰干村4组61号 | I50: 4组61号 | J50: =YEAR(TODAY())-MID(F50,7,4) -> #VALUE! | R50: 6014
B51: 49 | C51: 670000000682924 | D51: ⬛⬛⬛⬛⬛⬛⬛⬛ | E51: 维吾尔 | F51: ⬛⬛⬛⬛⬛⬛⬛⬛ | G51: 子 | H51: 新疆莎车县阿扎提巴格乡兰干村4组61号 | I51: 4组61号 | J51: =YEAR(TODAY())-MID(F51,7,4) -> #VALUE! | R51: =R50 -> 6014
B52: 50 | C52: 670000000682924 | D52: ⬛⬛⬛⬛⬛⬛⬛⬛ | E52: 维吾尔 | F52: ⬛⬛⬛⬛⬛⬛⬛⬛ | G52: 妻 | H52: 新疆莎车县阿扎提巴格乡兰干村4组61号 | I52: 4组61号 | J52: =YEAR(TODAY())-MID(F52,7,4) -> #VALUE! | R52: =R51 -> 6014
A53: =MAX($A$1:A51)+1 -> 14 | B53: 51 | C53: 670000000680850 | D53: ⬛⬛⬛⬛⬛⬛⬛⬛ | E53: 维吾尔 | F53: ⬛⬛⬛⬛⬛⬛⬛⬛ | G53: 女 | H53: 新疆莎车县阿扎提巴格乡兰干村5组95号 | I53: 5组95号 | J53: =YEAR(TODAY())-MID(F53,7,4) -> #VALUE! | R53: =R52 -> 6014
B54: 52 | C54: 670000000680850 | D54: ⬛⬛⬛⬛⬛⬛⬛⬛ | E54: 维吾尔 | F54: ⬛⬛⬛⬛⬛⬛⬛⬛ | G54: 女 | H54: 新疆莎车县阿扎提巴格乡兰干村5组95号 | I54: 5组95号 | J54: =YEAR(TODAY())-MID(F54,7,4) -> #VALUE! | R54: =R53 -> 6014
B55: 53 | C55: 670000000680850 | D55: ⬛⬛⬛⬛⬛⬛⬛⬛ | E55: 维吾尔 | F55: ⬛⬛⬛⬛⬛⬛⬛⬛ | G55: 妻 | H55: 新疆莎车县阿扎提巴格乡兰干村5组95号 | I55: 5组95号 | J55: =YEAR(TODAY())-MID(F55,7,4) -> #VALUE! | R55: =R54 -> 6014
B56: 54 | C56: 670000000680850 | D56: ⬛⬛⬛⬛⬛⬛⬛⬛ | E56: 维吾尔 | F56: ⬛⬛⬛⬛⬛⬛⬛⬛ | G56: 户主 | H56: 新疆莎车县阿扎提巴格乡兰干村5组95号 | I56: 5组95号 | J56: =YEAR(TODAY())-MID(F56,7,4) -> #VALUE! | R56: 15147
A57: =MAX($A$1:A55)+1 -> 15 | B57: 55 | C57: 670000000680648 | D57: 阿布杜合力力·萨迪克 | E57: 维吾尔 | F57: 653125199301073818 | G57: 夫 | H57: 新疆莎车县阿扎提巴格乡兰干村2组2号 | I57: 2组2号 | J57: =YEAR(TODAY())-MID(F57,7,4) -> 29 | P57: 判刑 | R57: =R56 -> 15147
B58: 56 | C58: 670000000680648 | D58: ⬛⬛⬛⬛⬛⬛⬛⬛ | E58: 维吾尔 | F58: ⬛⬛⬛⬛⬛⬛⬛⬛ | G58: 户主 | H58: 新疆莎车县阿扎提巴格乡兰干村2组2号 | I58: 2组2号 | J58: =YEAR(TODAY())-MID(F58,7,4) -> #VALUE! | R58: 9653
B59: 57 | C59: 670000000680648 | D59: ⬛⬛⬛⬛⬛⬛⬛⬛ | E59: 维吾尔 | F59: ⬛⬛⬛⬛⬛⬛⬛⬛ | G59: 子 | H59: 新疆莎车县阿扎提巴格乡兰干村2组2号 | I59: 2组2号 | J59: =YEAR(TODAY())-MID(F59,7,4) -> #VALUE! | R59: =R58 -> 9653
A60: =MAX($A$1:A58)+1 -> 16 | B60: 58 | C60: 670000000680643 | D60: ⬛⬛⬛⬛⬛⬛⬛⬛ | E60: 维吾尔 | F60: ⬛⬛⬛⬛⬛⬛⬛⬛ | G60: 女 | H60: 新疆莎车县阿扎提巴格乡兰干村4组25号 | I60: 4组25号 | J60: =YEAR(TODAY())-MID(F60,7,4) -> #VALUE! | R60: =R59 -> 9653
B61: 59 | C61: 670000000680643 | D61: ⬛⬛⬛⬛⬛⬛⬛⬛ | E61: 维吾尔 | F61: ⬛⬛⬛⬛⬛⬛⬛⬛ | G61: 女 | H61: 新疆莎车县阿扎提巴格乡兰干村4组25号 | I61: 4组25号 | J61: =YEAR(TODAY())-MID(F61,7,4) -> #VALUE! | R61: =R60 -> 9653
B62: 60 | C62: 670000000680643 | D62: ⬛⬛⬛⬛⬛⬛⬛⬛ | E62: 维吾尔 | F62: ⬛⬛⬛⬛⬛⬛⬛⬛ | G62: 妻 | H62: 新疆莎车县阿扎提巴格乡兰干村4组25号 | I62: 4组25号 | J62: =YEAR(TODAY())-MID(F62,7,4) -> #VALUE! | Q62: =VLOOKUP(F:F,[1]Sheet2!$E:$M,9,0) -> #N/A | R62: =R61 -> 9653
B63: 61 | C63: 670000000680643 | D63: ⬛⬛⬛⬛⬛⬛⬛⬛ | E63: 维吾尔 | F63: ⬛⬛⬛⬛⬛⬛⬛⬛ | G63: 户主 | H63: 新疆莎车县阿扎提巴格乡兰干村4组25号 | I63: 4组25号 | J63: =YEAR(TODAY())-MID(F63,7,4) -> #VALUE! | Q63: =VLOOKUP(F:F,[1]Sheet2!$E:$M,9,0) -> #N/A | R63: 8521
A64: =MAX($A$1:A62)+1 -> 17 | B64: 62 | C64: 670000000680639 | D64: ⬛⬛⬛⬛⬛⬛⬛⬛ | E64: 维吾尔 | F64: ⬛⬛⬛⬛⬛⬛⬛⬛ | G64: 女 | H64: 新疆莎车县阿扎提巴格乡兰干村3组13号 | I64: 3组13号 | J64: =YEAR(TODAY())-MID(F64,7,4) -> #VALUE! | R64: =R63 -> 8521
B65: 63 | C65: 670000000680639 | D65: ⬛⬛⬛⬛⬛⬛⬛⬛ | E65: 维吾尔 | F65: ⬛⬛⬛⬛⬛⬛⬛⬛ | G65: 户主 | H65: 新疆莎车县阿扎提巴格乡兰干村3组13号 | I65: 3组13号 | J65: =YEAR(TODAY())-MID(F65,7,4) -> #VALUE! | R65: 5626
B66: 64 | C66: 670000000680639 | D66: ⬛⬛⬛⬛⬛⬛⬛⬛ | E66: 维吾尔 | F66: ⬛⬛⬛⬛⬛⬛⬛⬛ | G66: 女 | H66: 新疆莎车县阿扎提巴格乡兰干村3组13号 | I66: 3组13号 | J66: =YEAR(TODAY())-MID(F66,7,4) -> #VALUE! | R66: =R65 -> 5626
B67: 65 | C67: 670000000680639 | D67: ⬛⬛⬛⬛⬛⬛⬛⬛ | E67: 维吾尔 | F67: ⬛⬛⬛⬛⬛⬛⬛⬛ | G67: 妻 | H67: 新疆莎车县阿扎提巴格乡兰干村3组13号 | I67: 3组13号 | J67: =YEAR(TODAY())-MID(F67,7,4) -> #VALUE! | R67: =R66 -> 5626
A68: =MAX($A$1:A66)+1 -> 18 | B68: 66 | C68: 670000000680635 | D68: ⬛⬛⬛⬛⬛⬛⬛⬛ | E68: 维吾尔 | F68: ⬛⬛⬛⬛⬛⬛⬛⬛ | G68: 妻 | H68: 新疆莎车县阿扎提巴格乡兰干村3组77号 | I68: 3组77号 | J68: =YEAR(TODAY())-MID(F68,7,4) -> #VALUE! | R68: =R67 -> 5626
B69: 67 | C69: 670000000680635 | D69: ⬛⬛⬛⬛⬛⬛⬛⬛ | E69: 维吾尔 | F69: ⬛⬛⬛⬛⬛⬛⬛⬛ | G69: 户主 | H69: 新疆莎车县阿扎提巴格乡兰干村3组77号 | I69: 3组77号 | J69: =YEAR(TODAY())-MID(F69,7,4) -> #VALUE! | R69: 8214
B70: 68 | C70: 670000000680635 | D70: ⬛⬛⬛⬛⬛⬛⬛⬛ | E70: 维吾尔 | F70: ⬛⬛⬛⬛⬛⬛⬛⬛ | G70: 女 | H70: 新疆莎车县阿扎提巴格乡兰干村3组77号 | I70: 3组77号 | J70: =YEAR(TODAY())-MID(F70,7,4) -> #VALUE! | R70: =R69 -> 8214
B71: 69 | C71: 670000000680635 | D71: ⬛⬛⬛⬛⬛⬛⬛⬛ | E71: 维吾尔 | F71: ⬛⬛⬛⬛⬛⬛⬛⬛ | G71: 女 | H71: 新疆莎车县阿扎提巴格乡兰干村3组77号 | I71: 3组77号 | J71: =YEAR(TODAY())-MID(F71,7,4) -> #VALUE! | R71: =R70 -> 8214
A72: 19 | B72: 70 | C72: 670000000654293 | D72: ⬛⬛⬛⬛⬛⬛⬛⬛ | E72: 维吾尔 | F72: ⬛⬛⬛⬛⬛⬛⬛⬛ | G72: 户主 | H72: 新疆莎车县阿扎提巴格乡兰干村4组89号 | I72: 4组89号 | J72: =YEAR(TODAY())-MID(F72,7,4) -> #VALUE! | O72: =VLOOKUP(F:F,[2]高血压!$F$1:$K$65536,6,0) -> #N/A | R72: 8702
A73: 20 | B73: 71 | C73: 670000000424976 | D73: ⬛⬛⬛⬛⬛⬛⬛⬛ | E73: 维吾尔 | F73: ⬛⬛⬛⬛⬛⬛⬛⬛ | G73: 户主 | H73: 新疆莎车县阿扎提巴格乡兰干村6组38号 | I73: 6组38号 | J73: =YEAR(TODAY())-MID(F73,7,4) -> #VALUE! | N73: =VLOOKUP(F:F,[3]Sheet3!$E$1:$H$65536,4,0) -> #N/A | R73: 8612
B74: 72 | C74: 670000000424976 | D74: ⬛⬛⬛⬛⬛⬛⬛⬛ | E74: 维吾尔 | F74: ⬛⬛⬛⬛⬛⬛⬛⬛ | G74: 长女 | H74: 新疆莎车县阿扎提巴格乡兰干村6组38号 | I74: 6组38号 | J74: =YEAR(TODAY())-MID(F74,7,4) -> #VALUE! | R74: =R73 -> 8612
B75: 73 | C75: 670000000424976 | D75: ⬛⬛⬛⬛⬛⬛⬛⬛ | E75: 维吾尔 | F75: ⬛⬛⬛⬛⬛⬛⬛⬛ | G75: 妻 | H75: 新疆莎车县阿扎提巴格乡兰干村6组38号 | I75: 6组38号 | J75: =YEAR(TODAY())-MID(F75,7,4) -> #VALUE! | Q75: =VLOOKUP(F:F,[1]Sheet2!$E:$M,9,0) -> #N/A | R75: =R74 -> 8612
A76: =MAX($A$1:A74)+1 -> 21 | B76: 74 | C76: 670000000408170 | D76: ⬛⬛⬛⬛⬛⬛⬛⬛ | E76: 维吾尔 | F76: ⬛⬛⬛⬛⬛⬛⬛⬛ | G76: 长女 | H76: 新疆莎车县阿扎提巴格乡兰干村2组005号 | I76: 2组005号 | J76: =YEAR(TODAY())-MID(F76,7,4) -> #VALUE! | R76: =R75 -> 8612
B77: 75 | C77: 670000000408170 | D77: ⬛⬛⬛⬛⬛⬛⬛⬛ | E77: 维吾尔 | F77: ⬛⬛⬛⬛⬛⬛⬛⬛ | G77: 妻 | H77: 新疆莎车县阿扎提巴格乡兰干村2组005号 | I77: 2组005号 | J77: =YEAR(TODAY())-MID(F77,7,4) -> #VALUE! | R77: =R76 -> 8612
B78: 76 | C78: 670000000408170 | D78: ⬛⬛⬛⬛⬛⬛⬛⬛ | E78: 维吾尔 | F78: ⬛⬛⬛⬛⬛⬛⬛⬛ | G78: 长子 | H78: 新疆莎车县阿扎提巴格乡兰干村2组005号 | I78: 2组005号 | J78: =YEAR(TODAY())-MID(F78,7,4) -> #VALUE! | R78: =R77 -> 8612
B79: 77 | C79: 670000000408170 | D79: ⬛⬛⬛⬛⬛⬛⬛⬛ | E79: 维吾尔 | F79: ⬛⬛⬛⬛⬛⬛⬛⬛ | G79: 户主 | H79: 新疆莎车县阿扎提巴格乡兰干村2组005号 | I79: 2组005号 | J79: =YEAR(TODAY())-MID(F79,7,4) -> #VALUE! | Q79: =VLOOKUP(F:F,[1]Sheet2!$E:$M,9,0) -> #N/A | R79: 4860
A80: =MAX($A$1:A78)+1 -> 22 | B80: 78 | C80: 670000000408129 | D80: ⬛⬛⬛⬛⬛⬛⬛⬛ | E80: 维吾尔 | F80: ⬛⬛⬛⬛⬛⬛⬛⬛ | G80: 长子 | H80: 新疆莎车县阿扎提巴格乡兰干村2组064号 | I80: 2组064号 | J80: =YEAR(TODAY())-MID(F80,7,4) -> #VALUE! | L80: 是 | R80: =R79 -> 4860
B81: 79 | C81: 670000000408129 | D81: ⬛⬛⬛⬛⬛⬛⬛⬛ | E81: 维吾尔 | F81: ⬛⬛⬛⬛⬛⬛⬛⬛ | G81: 二女 | H81: 新疆莎车县阿扎提巴格乡兰干村2组064号 | I81: 2组064号 | J81: =YEAR(TODAY())-MID(F81,7,4) -> #VALUE! | L81: 是 | R81: =R80 -> 4860
B82: 80 | C82: 670000000408129 | D82: ⬛⬛⬛⬛⬛⬛⬛⬛ | E82: 维吾尔 | F82: ⬛⬛⬛⬛⬛⬛⬛⬛ | G82: 妻 | H82: 新疆莎车县阿扎提巴格乡兰干村2组064号 | I82: 2组064号 | J82: =YEAR(TODAY())-MID(F82,7,4) -> #VALUE! | L82: 是 | R82: =R81 -> 4860
B83: 81 | C83: 670000000408129 | D83: 艾萨·萨迪尔 | E83: 维吾尔 | F83: 653125198206123819 | G83: 户主 | H83: 新疆莎车县阿扎提巴格乡兰干村2组064号 | I83: 2组064号 | J83: =YEAR(TODAY())-MID(F83,7,4) -> 40 | P83: 教育转化 | R83: 5236
B84: 82 | C84: 670000000408129 | D84: ⬛⬛⬛⬛⬛⬛⬛⬛ | E84: 维吾尔 | F84: ⬛⬛⬛⬛⬛⬛⬛⬛ | G84: 长女 | H84: 新疆莎车县阿扎提巴格乡兰干村2组064号 | I84: 2组064号 | J84: =YEAR(TODAY())-MID(F84,7,4) -> #VALUE! | L84: 是 | R84: =R83 -> 5236
A85: =MAX($A$1:A83)+1 -> 23 | B85: 83 | C85: 670000000408107 | D85: ⬛⬛⬛⬛⬛⬛⬛⬛ | E85: 维吾尔 | F85: ⬛⬛⬛⬛⬛⬛⬛⬛ | G85: 长子 | H85: 新疆莎车县阿扎提巴格乡兰干村2组063号 | I85: 2组063号 | J85: =YEAR(TODAY())-MID(F85,7,4) -> #VALUE! | R85: =R84 -> 5236
B86: 84 | C86: 670000000408107 | D86: ⬛⬛⬛⬛⬛⬛⬛⬛ | E86: 维吾尔 | F86: ⬛⬛⬛⬛⬛⬛⬛⬛ | G86: 妻 | H86: 新疆莎车县阿扎提巴格乡兰干村2组063号 | I86: 2组063号 | J86: =YEAR(TODAY())-MID(F86,7,4) -> #VALUE! | R86: =R85 -> 5236
B87: 85 | C87: 670000000408107 | D87: ⬛⬛⬛⬛⬛⬛⬛⬛ | E87: 维吾尔 | F87: ⬛⬛⬛⬛⬛⬛⬛⬛ | G87: 户主 | H87: 新疆莎车县阿扎提巴格乡兰干村2组063号 | I87: 2组063号 | J87: =YEAR(TODAY())-MID(F87,7,4) -> #VALUE! | R87: 6262
A88: =MAX($A$1:A86)+1 -> 24 | B88: 86 | C88: 670000000408083 | D88: ⬛⬛⬛⬛⬛⬛⬛⬛ | E88: 维吾尔 | F88: ⬛⬛⬛⬛⬛⬛⬛⬛ | G88: 户主 | H88: 新疆莎车县阿扎提巴格乡兰干村3组072号 | I88: 3组072号 | J88: =YEAR(TODAY())-MID(F88,7,4) -> #VALUE! | Q88: =VLOOKUP(F:F,[1]Sheet2!$E:$M,9,0) -> #N/A | R88: 6743
B89: 87 | C89: 670000000408083 | D89: ⬛⬛⬛⬛⬛⬛⬛⬛ | E89: 维吾尔 | F89: ⬛⬛⬛⬛⬛⬛⬛⬛ | G89: 长子 | H89: 新疆莎车县阿扎提巴格乡兰干村3组072号 | I89: 3组072号 | J89: =YEAR(TODAY())-MID(F89,7,4) -> #VALUE! | R89: =R88 -> 6743
B90: 88 | C90: 670000000408083 | D90: ⬛⬛⬛⬛⬛⬛⬛⬛ | E90: 维吾尔 | F90: ⬛⬛⬛⬛⬛⬛⬛⬛ | G90: 妻 | H90: 新疆莎车县阿扎提巴格乡兰干村3组072号 | I90: 3组072号 | J90: =YEAR(TODAY())-MID(F90,7,4) -> #VALUE! | R90: =R89 -> 6743
A91: =MAX($A$1:A89)+1 -> 25 | B91: 89 | C91: 670000000408061 | D91: ⬛⬛⬛⬛⬛⬛⬛⬛ | E91: 维吾尔 | F91: ⬛⬛⬛⬛⬛⬛⬛⬛ | G91: 户主 | H91: 新疆莎车县阿扎提巴格乡兰干村3组071号 | I91: 3组071号 | J91: =YEAR(TODAY())-MID(F91,7,4) -> #VALUE! | Q91: =VLOOKUP(F:F,[1]Sheet2!$E:$M,9,0) -> #N/A | R91: 6446
B92: 90 | C92: 670000000408061 | D92: ⬛⬛⬛⬛⬛⬛⬛⬛ | E92: 维吾尔 | F92: ⬛⬛⬛⬛⬛⬛⬛⬛ | G92: 长子 | H92: 新疆莎车县阿扎提巴格乡兰干村3组071号 | I92: 3组071号 | J92: =YEAR(TODAY())-MID(F92,7,4) -> #VALUE! | R92: =R91 -> 6446
B93: 91 | C93: 670000000408061 | D93: ⬛⬛⬛⬛⬛⬛⬛⬛ | E93: 维吾尔 | F93: ⬛⬛⬛⬛⬛⬛⬛⬛ | G93: 妻 | H93: 新疆莎车县阿扎提巴格乡兰干村3组071号 | I93: 3组071号 | J93: =YEAR(TODAY())-MID(F93,7,4) -> #VALUE! | R93: =R92 -> 6446
A94: =MAX($A$1:A92)+1 -> 26 | B94: 92 | C94: 670000000408021 | D94: ⬛⬛⬛⬛⬛⬛⬛⬛ | E94: 维吾尔 | F94: ⬛⬛⬛⬛⬛⬛⬛⬛ | G94: 妻 | H94: 新疆莎车县阿扎提巴格乡兰干村4组071号 | I94: 4组071号 | J94: =YEAR(TODAY())-MID(F94,7,4) -> #VALUE! | O94: =VLOOKUP(F:F,[2]高血压!$F$1:$K$65536,6,0) -> #N/A | Q94: =VLOOKUP(F:F,[1]Sheet2!$E:$M,9,0) -> #N/A | R94: =R93 -> 6446
B95: 93 | C95: 670000000408021 | D95: ⬛⬛⬛⬛⬛⬛⬛⬛ | E95: 维吾尔 | F95: ⬛⬛⬛⬛⬛⬛⬛⬛ | G95: 户主 | H95: 新疆莎车县阿扎提巴格乡兰干村4组071号 | I95: 4组071号 | J95: =YEAR(TODAY())-MID(F95,7,4) -> #VALUE! | R95: 9450
A96: =MAX($A$1:A94)+1 -> 27 | B96: 94 | C96: 670000000407977 | D96: ⬛⬛⬛⬛⬛⬛⬛⬛ | E96: 维吾尔 | F96: ⬛⬛⬛⬛⬛⬛⬛⬛ | G96: 长子 | H96: 新疆莎车县阿扎提巴格乡兰干村3组070号 | I96: 3组070号 | J96: =YEAR(TODAY())-MID(F96,7,4) -> #VALUE! | R96: =R95 -> 9450
B97: 95 | C97: 670000000407977 | D97: ⬛⬛⬛⬛⬛⬛⬛⬛ | E97: 维吾尔 | F97: ⬛⬛⬛⬛⬛⬛⬛⬛ | G97: 妻 | H97: 新疆莎车县阿扎提巴格乡兰干村3组070号 | I97: 3组070号 | J97: =YEAR(TODAY())-MID(F97,7,4) -> #VALUE! | R97: =R96 -> 9450
B98: 96 | C98: 670000000407977 | D98: ⬛⬛⬛⬛⬛⬛⬛⬛ | E98: 维吾尔 | F98: ⬛⬛⬛⬛⬛⬛⬛⬛ | G98: 户主 | H98: 新疆莎车县阿扎提巴格乡兰干村3组070号 | I98: 3组070号 | J98: =YEAR(TODAY())-MID(F98,7,4) -> #VALUE! | R98: 10402
A99: =MAX($A$1:A97)+1 -> 28 | B99: 97 | C99: 670000000273535 | D99: ⬛⬛⬛⬛⬛⬛⬛⬛ | E99: 维吾尔 | F99: ⬛⬛⬛⬛⬛⬛⬛⬛ | G99: 户主 | H99: 新疆莎车县阿扎提巴格乡兰干村6组37号 | I99: 6组37号 | J99: =YEAR(TODAY())-MID(F99,7,4) -> #VALUE! | O99: =VLOOKUP(F:F,[2]高血压!$F$1:$K$65536,6,0) -> #N/A | Q99: =VLOOKUP(F:F,[1]Sheet2!$E:$M,9,0) -> #N/A | R99: 5500
B100: 98 | C100: 670000000273535 | D100: ⬛⬛⬛⬛⬛⬛⬛⬛ | E100: 维吾尔 | F100: ⬛⬛⬛⬛⬛⬛⬛⬛ | G100: 女 | H100: 新疆莎车县阿扎提巴格乡兰干村6组37号 | I100: 6组37号 | J100: =YEAR(TODAY())-MID(F100,7,4) -> #VALUE! | R100: =R99 -> 5500
...

Sheet 贫困户
A1: 兰干（7）村贫困户台账（85户288人）
A2: 序号 | B2: 县(市、区、旗) | C2: 乡(镇) | D2: 行政村 | E2: 自然村 | F2: 户编号 | G2: 人编号 | H2: 姓名 | I2: 证件号码 | J2: 人数 | K2: 与户主关系 | L2: 民族 | M2: 文化程度 | N2: 在校生状况 | O2: 健康状况 | P2: 劳动技能 | Q2: 务工状况 | R2: 务工时间（月） | S2: 参加大病医疗 | T2: 脱贫属性 | U2: 脱贫年度 | V2: 贫困户属性 | W2: 致贫原因1 | X2: 危房户 | Y2: 是否解决安全饮用水 | Z2: 人均纯收入 | AA2: 联系电话 | AB2: 不在户籍 | AC2: 残疾情况 | AD2: 低保金 | AE2: 特困供养金 | AF2: 大病、慢病 | AG2: 备注
A3: 1 | B3: 莎车县 | C3: 阿扎特巴格镇 | D3: 兰干村 | E3: 7 | F3: 3101382428 | G3: 310003733007 | H3: ⬛⬛⬛⬛⬛⬛⬛⬛ | I3: ⬛⬛⬛⬛⬛⬛⬛⬛ | J3: 3 | K3: 户主 | L3: 维吾尔族 | M3: 文盲或半文盲 | O3: 健康 | P3: 无劳动力 | S3: 是 | T3: 未脱贫 | V3: 低保贫困户 | W3: 缺技术 | X3: 否 | Y3: 否 | Z3: 11014.33 | AA3: ⬛⬛⬛⬛⬛⬛⬛⬛ | AG3: 养殖
A4: 2 | B4: 莎车县 | C4: 阿扎特巴格镇 | D4: 兰干村 | E4: 7 | F4: 3101382428 | G4: 100000090468906 | H4: ⬛⬛⬛⬛⬛⬛⬛⬛ | I4: ⬛⬛⬛⬛⬛⬛⬛⬛ | J4: 3 | K4: 之子 | L4: 维吾尔族 | M4: 初中 | O4: 健康 | P4: 普通劳动力 | R4: 8 | S4: 是 | T4: 未脱贫 | V4: 低保贫困户 | W4: 缺技术 | X4: 否 | Y4: 否 | Z4: 11014.33 | AA4: ⬛⬛⬛⬛⬛⬛⬛⬛ | AG4: 操作工，新疆莎翔木业有限公司
A5: 3 | B5: 莎车县 | C5: 阿扎特巴格镇 | D5: 兰干村 | E5: 7 | F5: 3101382428 | G5: 100000090475839 | H5: 赛麦提·库迪斯 | I5: 653125199311063816 | J5: 3 | K5: 之子 | L5: 维吾尔族 | M5: 初中 | O5: 长期慢性病 | P5: 普通劳动力 | R5: 0 | S5: 是 | T5: 未脱贫 | V5: 低保贫困户 | W5: 缺技术 | X5: 否 | Y5: 否 | Z5: 11014.33 | AA5: ⬛⬛⬛⬛⬛⬛⬛⬛ | AG5: 判刑
A6: 4 | B6: 莎车县 | C6: 阿扎特巴格镇 | D6: 兰干村 | E6: 7 | F6: 3101387352 | G6: 310003735534 | H6: ⬛⬛⬛⬛⬛⬛⬛⬛ | I6: ⬛⬛⬛⬛⬛⬛⬛⬛ | J6: 3 | K6: 户主 | L6: 维吾尔族 | M6: 小学 | O6: 健康 | P6: 普通劳动力 | R6: 0 | S6: 是 | T6: 已脱贫（享受政策） | U6: 2018年底 | V6: 一般农户 | W6: 缺技术 | X6: 否 | Y6: 是 | Z6: 8130 | AA6: ⬛⬛⬛⬛⬛⬛⬛⬛ | AG6: 种地
A7: 5 | B7: 莎车县 | C7: 阿扎特巴格镇 | D7: 兰干村 | E7: 7 | F7: 3101387352 | G7: 310003735532 | H7: ⬛⬛⬛⬛⬛⬛⬛⬛ | I7: ⬛⬛⬛⬛⬛⬛⬛⬛ | J7: 3 | K7: 配偶 | L7: 维吾尔族 | M7: 小学 | O7: 长期慢性病 | P7: 普通劳动力 | R7: 10 | S7: 是 | T7: 已脱贫（享受政策） | U7: 2018年底 | V7: 一般农户 | W7: 缺技术 | X7: 否 | Y7: 是 | Z7: 8130 | AA7: ⬛⬛⬛⬛⬛⬛⬛⬛ | AG7: 操作工，新疆莎翔木业有限公司
A8: 6 | B8: 莎车县 | C8: 阿扎特巴格镇 | D8: 兰干村 | E8: 7 | F8: 3101387352 | G8: 310003735533 | H8: ⬛⬛⬛⬛⬛⬛⬛⬛ | I8: ⬛⬛⬛⬛⬛⬛⬛⬛ | J8: 3 | K8: 之子 | L8: 维吾尔族 | N8: 小学 | O8: 健康 | P8: 无劳动力 | R8: 0 | S8: 是 | T8: 已脱贫（享受政策） | U8: 2018年底 | V8: 一般农户 | W8: 缺技术 | X8: 否 | Y8: 是 | Z8: 8130 | AA8: ⬛⬛⬛⬛⬛⬛⬛⬛ | AG8: 在校学生
A9: 7 | B9: 莎车县 | C9: 阿扎特巴格镇 | D9: 兰干村 | E9: 7 | F9: 3101389833 | G9: 310003773285 | H9: ⬛⬛⬛⬛⬛⬛⬛⬛ | I9: ⬛⬛⬛⬛⬛⬛⬛⬛ | J9: 2 | K9: 户主 | L9: 维吾尔族 | M9: 文盲或半文盲 | O9: 长期慢性病 | P9: 无劳动力 | R9: 0 | S9: 是 | T9: 未脱贫 | V9: 低保贫困户 | W9: 因病 | X9: 否 | Y9: 是 | Z9: 3576 | AA9: ⬛⬛⬛⬛⬛⬛⬛⬛ | AG9: 有病，无劳动力
A10: 8 | B10: 莎车县 | C10: 阿扎特巴格镇 | D10: 兰干村 | E10: 7 | F10: 3101389833 | G10: 310003773288 | H10: ⬛⬛⬛⬛⬛⬛⬛⬛ | I10: ⬛⬛⬛⬛⬛⬛⬛⬛ | J10: 2 | K10: 配偶 | L10: 维吾尔族 | M10: 文盲或半文盲 | O10: 长期慢性病 | P10: 丧失劳动力 | R10: 0 | S10: 是 | T10: 未脱贫 | V10: 低保贫困户 | W10: 因病 | X10: 否 | Y10: 是 | Z10: 3576 | AA10: ⬛⬛⬛⬛⬛⬛⬛⬛ | AG10: 种地
A11: 9 | B11: 莎车县 | C11: 阿扎特巴格镇 | D11: 兰干村 | E11: 7 | F11: 3101393732 | G11: 310003811624 | H11: 麦麦提依明·伍守尔 | I11: 65312519690610381X | J11: 5 | K11: 户主 | L11: 维吾尔族 | M11: 小学 | O11: 健康 | P11: 普通劳动力 | R11: 6 | S11: 是 | T11: 未脱贫 | V11: 低保贫困户 | W11: 缺技术 | X11: 否 | Y11: 是 | Z11: 5246.4 | AA11: ⬛⬛⬛⬛⬛⬛⬛⬛ | AG11: 教育转化
A12: 10 | B12: 莎车县 | C12: 阿扎特巴格镇 | D12: 兰干村 | E12: 7 | F12: 3101393732 | G12: 310003811622 | H12: ⬛⬛⬛⬛⬛⬛⬛⬛ | I12: ⬛⬛⬛⬛⬛⬛⬛⬛ | J12: 5 | K12: 配偶 | L12: 维吾尔族 | M12: 小学 | O12: 健康 | P12: 普通劳动力 | R12: 6 | S12: 是 | T12: 未脱贫 | V12: 低保贫困户 | W12: 缺技术 | X12: 否 | Y12: 是 | Z12: 5246.4 | AA12: ⬛⬛⬛⬛⬛⬛⬛⬛ | AG12: 操作工，新疆莎翔木业有限公司
A13: 11 | B13: 莎车县 | C13: 阿扎特巴格镇 | D13: 兰干村 | E13: 7 | F13: 3101393732 | G13: 310003811620 | H13: ⬛⬛⬛⬛⬛⬛⬛⬛ | I13: ⬛⬛⬛⬛⬛⬛⬛⬛ | J13: 5 | K13: 之女 | L13: 维吾尔族 | N13: 普通高中一年级 | O13: 健康 | P13: 无劳动力 | R13: 0 | S13: 是 | T13: 未脱贫 | V13: 低保贫困户 | W13: 缺技术 | X13: 否 | Y13: 是 | Z13: 5246.4 | AA13: ⬛⬛⬛⬛⬛⬛⬛⬛ | AG13: 在校学生
A14: 12 | B14: 莎车县 | C14: 阿扎特巴格镇 | D14: 兰干村 | E14: 7 | F14: 3101393732 | G14: 310003811621 | H14: ⬛⬛⬛⬛⬛⬛⬛⬛ | I14: ⬛⬛⬛⬛⬛⬛⬛⬛ | J14: 5 | K14: 之女 | L14: 维吾尔族 | N14: 七年级 | O14: 健康 | P14: 无劳动力 | R14: 0 | S14: 是 | T14: 未脱贫 | V14: 低保贫困户 | W14: 缺技术 | X14: 否 | Y14: 是 | Z14: 5246.4 | AA14: ⬛⬛⬛⬛⬛⬛⬛⬛ | AG14: 在校学生
A15: 13 | B15: 莎车县 | C15: 阿扎特巴格镇 | D15: 兰干村 | E15: 7 | F15: 3101393732 | G15: 310003811623 | H15: ⬛⬛⬛⬛⬛⬛⬛⬛ | I15: ⬛⬛⬛⬛⬛⬛⬛⬛ | J15: 5 | K15: 之女 | L15: 维吾尔族 | N15: 小学 | O15: 健康 | P15: 无劳动力 | R15: 0 | S15: 是 | T15: 未脱贫 | V15: 低保贫困户 | W15: 缺技术 | X15: 否 | Y15: 是 | Z15: 5246.4 | AA15: ⬛⬛⬛⬛⬛⬛⬛⬛ | AG15: 在校学生
A16: 14 | B16: 莎车县 | C16: 阿扎特巴格镇 | D16: 兰干村 | E16: 7 | F16: 3101395428 | G16: 310003813713 | H16: ⬛⬛⬛⬛⬛⬛⬛⬛ | I16: ⬛⬛⬛⬛⬛⬛⬛⬛ | J16: 5 | K16: 户主 | L16: 维吾尔族 | M16: 初中 | O16: 健康 | P16: 普通劳动力 | R16: 12 | S16: 是 | T16: 已脱贫（享受政策） | U16: 2018年底 | V16: 低保户 | W16: 缺技术 | X16: 否 | Y16: 是 | Z16: 11088 | AA16: ⬛⬛⬛⬛⬛⬛⬛⬛ | AG16: 厨师，米夏镇
A17: 15 | B17: 莎车县 | C17: 阿扎特巴格镇 | D17: 兰干村 | E17: 7 | F17: 3101395428 | G17: 310003813714 | H17: ⬛⬛⬛⬛⬛⬛⬛⬛ | I17: ⬛⬛⬛⬛⬛⬛⬛⬛ | J17: 5 | K17: 之母 | L17: 维吾尔族 | M17: 文盲或半文盲 | O17: 长期慢性病 | P17: 弱劳动力或半劳动力 | R17: 0 | S17: 是 | T17: 已脱贫（享受政策） | U17: 2018年底 | V17: 低保户 | W17: 缺技术 | X17: 否 | Y17: 是 | Z17: 11088 | AA17: ⬛⬛⬛⬛⬛⬛⬛⬛ | AG17: 长期慢性病
A18: 16 | B18: 莎车县 | C18: 阿扎特巴格镇 | D18: 兰干村 | E18: 7 | F18: 3101395428 | G18: 5700000202150865 | H18: ⬛⬛⬛⬛⬛⬛⬛⬛ | I18: ⬛⬛⬛⬛⬛⬛⬛⬛ | J18: 5 | K18: 之兄弟姐妹 | L18: 维吾尔族 | M18: 初中 | O18: 健康 | P18: 普通劳动力 | R18: 9 | S18: 是 | T18: 已脱贫（享受政策） | U18: 2018年底 | V18: 低保户 | W18: 缺技术 | X18: 否 | Y18: 是 | Z18: 11088 | AA18: ⬛⬛⬛⬛⬛⬛⬛⬛ | AG18: 种地
A19: 17 | B19: 莎车县 | C19: 阿扎特巴格镇 | D19: 兰干村 | E19: 7 | F19: 3101395428 | G19: 5700000202156855 | H19: ⬛⬛⬛⬛⬛⬛⬛⬛ | I19: ⬛⬛⬛⬛⬛⬛⬛⬛ | J19: 5 | K19: 其他 | L19: 维吾尔族 | N19: 学前教育 | O19: 健康 | P19: 无劳动力 | R19: 0 | S19: 是 | T19: 已脱贫（享受政策） | U19: 2018年底 | V19: 低保户 | W19: 缺技术 | X19: 否 | Y19: 是 | Z19: 11088 | AA19: ⬛⬛⬛⬛⬛⬛⬛⬛ | AG19: 在校学生
A20: 18 | B20: 莎车县 | C20: 阿扎特巴格镇 | D20: 兰干村 | E20: 7 | F20: 3101395428 | G20: 5700000202160906 | H20: ⬛⬛⬛⬛⬛⬛⬛⬛ | I20: ⬛⬛⬛⬛⬛⬛⬛⬛ | J20: 5 | K20: 其他 | L20: 维吾尔族 | N20: 小学 | O20: 健康 | P20: 无劳动力 | R20: 0 | S20: 是 | T20: 已脱贫（享受政策） | U20: 2018年底 | V20: 低保户 | W20: 缺技术 | X20: 否 | Y20: 是 | Z20: 11088 | AA20: ⬛⬛⬛⬛⬛⬛⬛⬛ | AG20: 在校学生
A21: 19 | B21: 莎车县 | C21: 阿扎特巴格镇 | D21: 兰干村 | E21: 7 | F21: 3101396130 | G21: 5700000211072029 | H21: 图尔贡·扎克尔 | I21: 653125198405053817 | J21: 3 | K21: 户主 | L21: 维吾尔族 | M21: 初中 | O21: 健康 | P21: 普通劳动力 | S21: 是 | T21: 已脱贫（享受政策） | U21: 2014年底 | V21: 低保户 | W21: 因残 | X21: 否 | Y21: 是 | Z21: 7257.33 | AA21: ⬛⬛⬛⬛⬛⬛⬛⬛ | AG21: 教育转化
A22: 20 | B22: 莎车县 | C22: 阿扎特巴格镇 | D22: 兰干村 | E22: 7 | F22: 3101396130 | G22: 5700000211192029 | H22: 图尔艾拉·依迪力斯 | I22: 65312519910313382444 | J22: 3 | K22: 配偶 | L22: 维吾尔族 | M22: 初中 | O22: 残疾 | P22: 弱劳动力或半劳动力 | S22: 是 | T22: 已脱贫（享受政策） | U22: 2014年底 | V22: 低保户 | W22: 因残 | X22: 否 | Y22: 是 | Z22: 7257.33 | AA22: ⬛⬛⬛⬛⬛⬛⬛⬛ | AG22: 教育转化，担保
A23: 21 | B23: 莎车县 | C23: 阿扎特巴格镇 | D23: 兰干村 | E23: 7 | F23: 3101396130 | G23: 5700000211211319 | H23: ⬛⬛⬛⬛⬛⬛⬛⬛ | I23: ⬛⬛⬛⬛⬛⬛⬛⬛ | J23: 3 | K23: 之子 | L23: 维吾尔族 | N23: 小学 | O23: 健康 | P23: 无劳动力 | S23: 是 | T23: 已脱贫（享受政策） | U23: 2014年底 | V23: 低保户 | W23: 因残 | X23: 否 | Y23: 是 | Z23: 7257.33 | AA23: ⬛⬛⬛⬛⬛⬛⬛⬛ | AG23: 无劳动力
A24: 22 | B24: 莎车县 | C24: 阿扎特巴格镇 | D24: 兰干村 | E24: 7 | F24: 3101397972 | G24: 310003828992 | H24: ⬛⬛⬛⬛⬛⬛⬛⬛ | I24: ⬛⬛⬛⬛⬛⬛⬛⬛ | J24: 2 | K24: 户主 | L24: 维吾尔族 | M24: 文盲或半文盲 | O24: 长期慢性病 | P24: 无劳动力 | R24: 0 | S24: 是 | T24: 未脱贫 | V24: 低保贫困户 | W24: 因病 | X24: 否 | Y24: 否 | Z24: 2932 | AA24: ⬛⬛⬛⬛⬛⬛⬛⬛ | AG24: 无劳动力
A25: 23 | B25: 莎车县 | C25: 阿扎特巴格镇 | D25: 兰干村 | E25: 7 | F25: 3101397972 | G25: 5700000148148975 | H25: 阿瓦·艾散 | I25: 653125195003113828 | J25: 2 | K25: 配偶 | L25: 维吾尔族 | M25: 小学 | O25: 长期慢性病 | P25: 无劳动力 | S25: 是 | T25: 未脱贫 | V25: 低保贫困户 | W25: 因病 | X25: 否 | Y25: 否 | Z25: 2932 | AA25: ⬛⬛⬛⬛⬛⬛⬛⬛ | AG25: 判刑
A26: 24 | B26: 莎车县 | C26: 阿扎特巴格镇 | D26: 兰干村 | E26: 7 | F26: 3101521236 | G26: 5700000148144515 | H26: ⬛⬛⬛⬛⬛⬛⬛⬛ | I26: ⬛⬛⬛⬛⬛⬛⬛⬛ | J26: 3 | K26: 户主 | L26: 维吾尔族 | M26: 小学 | O26: 残疾 | P26: 丧失劳动力 | R26: 0 | S26: 是 | T26: 已脱贫（享受政策） | U26: 2014年底 | V26: 低保户 | W26: 因残 | X26: 否 | Y26: 是 | Z26: 5627.67 | AA26: ⬛⬛⬛⬛⬛⬛⬛⬛ | AG26: 残疾
A27: 25 | B27: 莎车县 | C27: 阿扎特巴格镇 | D27: 兰干村 | E27: 7 | F27: 3101521236 | G27: 5700000148141427 | H27: ⬛⬛⬛⬛⬛⬛⬛⬛ | I27: ⬛⬛⬛⬛⬛⬛⬛⬛ | J27: 3 | K27: 配偶 | L27: 维吾尔族 | M27: 小学 | O27: 长期慢性病 | P27: 丧失劳动力 | S27: 是 | T27: 已脱贫（享受政策） | U27: 2014年底 | V27: 低保户 | W27: 因残 | X27: 否 | Y27: 是 | Z27: 5627.67 | AA27: ⬛⬛⬛⬛⬛⬛⬛⬛ | AG27: 长期慢性病
A28: 26 | B28: 莎车县 | C28: 阿扎特巴格镇 | D28: 兰干村 | E28: 7 | F28: 3101521236 | G28: 310004315496 | H28: ⬛⬛⬛⬛⬛⬛⬛⬛ | I28: ⬛⬛⬛⬛⬛⬛⬛⬛ | J28: 3 | K28: 之女 | L28: 维吾尔族 | M28: 初中 | O28: 健康 | P28: 普通劳动力 | R28: 3 | S28: 是 | T28: 已脱贫（享受政策） | U28: 2014年底 | V28: 低保户 | W28: 因残 | X28: 否 | Y28: 是 | Z28: 5627.67 | AA28: ⬛⬛⬛⬛⬛⬛⬛⬛ | AG28: 流动超市
A29: 27 | B29: 莎车县 | C29: 阿扎特巴格镇 | D29: 兰干村 | E29: 7 | F29: 3101521769 | G29: 310004293005 | H29: ⬛⬛⬛⬛⬛⬛⬛⬛ | I29: ⬛⬛⬛⬛⬛⬛⬛⬛ | J29: 2 | K29: 户主 | L29: 维吾尔族 | M29: 文盲或半文盲 | O29: 患有大病 | P29: 丧失劳动力 | R29: 0 | S29: 是 | T29: 未脱贫 | V29: 低保贫困户 | W29: 因病 | X29: 否 | Y29: 是 | Z29: 8620 | AA29: ⬛⬛⬛⬛⬛⬛⬛⬛ | AG29: 无劳动力
A30: 28 | B30: 莎车县 | C30: 阿扎特巴格镇 | D30: 兰干村 | E30: 7 | F30: 3101521769 | G30: 310004293006 | H30: ⬛⬛⬛⬛⬛⬛⬛⬛ | I30: ⬛⬛⬛⬛⬛⬛⬛⬛ | J30: 2 | K30: 之孙女 | L30: 维吾尔族 | N30: 高职高专一年级 | O30: 健康 | P30: 无劳动力 | R30: 0 | S30: 是 | T30: 未脱贫 | V30: 低保贫困户 | W30: 因病 | X30: 否 | Y30: 是 | Z30: 8620 | AA30: ⬛⬛⬛⬛⬛⬛⬛⬛ | AG30: 在校学生
A31: 29 | B31: 莎车县 | C31: 阿扎特巴格镇 | D31: 兰干村 | E31: 7 | F31: 3101522769 | G31: 310004253579 | H31: ⬛⬛⬛⬛⬛⬛⬛⬛ | I31: ⬛⬛⬛⬛⬛⬛⬛⬛ | J31: 5 | K31: 户主 | L31: 维吾尔族 | M31: 小学 | O31: 健康 | P31: 普通劳动力 | R31: 0 | S31: 是 | T31: 未脱贫 | V31: 一般贫困户 | W31: 缺技术 | X31: 否 | Y31: 是 | Z31: 4390 | AA31: ⬛⬛⬛⬛⬛⬛⬛⬛ | AG31: 种地
A32: 30 | B32: 莎车县 | C32: 阿扎特巴格镇 | D32: 兰干村 | E32: 7 | F32: 3101522769 | G32: 5700000202261512 | H32: 萨塔尔·伍斯曼 | I32: 65312519660227381X | J32: 5 | K32: 配偶 | L32: 维吾尔族 | M32: 小学 | O32: 健康 | P32: 普通劳动力 | R32: 0 | S32: 是 | T32: 未脱贫 | V32: 一般贫困户 | W32: 缺技术 | X32: 否 | Y32: 是 | Z32: 4390 | AA32: ⬛⬛⬛⬛⬛⬛⬛⬛ | AG32: 判刑
A33: 31 | B33: 莎车县 | C33: 阿扎特巴格镇 | D33: 兰干村 | E33: 7 | F33: 3101522769 | G33: 310004253578 | H33: ⬛⬛⬛⬛⬛⬛⬛⬛ | I33: ⬛⬛⬛⬛⬛⬛⬛⬛ | J33: 5 | K33: 之女 | L33: 维吾尔族 | M33: 初中 | O33: 健康 | P33: 普通劳动力 | R33: 9 | S33: 是 | T33: 未脱贫 | V33: 一般贫困户 | W33: 缺技术 | X33: 否 | Y33: 是 | Z33: 4390 | AA33: ⬛⬛⬛⬛⬛⬛⬛⬛ | AG33: 莎车县，新疆莎翔木业有限公司
A34: 32 | B34: 莎车县 | C34: 阿扎特巴格镇 | D34: 兰干村 | E34: 7 | F34: 3101522769 | G34: 100000090629305 | H34: ⬛⬛⬛⬛⬛⬛⬛⬛ | I34: ⬛⬛⬛⬛⬛⬛⬛⬛ | J34: 5 | K34: 之女 | L34: 维吾尔族 | N34: 普通高中一年级 | O34: 健康 | P34: 无劳动力 | S34: 是 | T34: 未脱贫 | V34: 一般贫困户 | W34: 缺技术 | X34: 否 | Y34: 是 | Z34: 4390 | AA34: ⬛⬛⬛⬛⬛⬛⬛⬛ | AG34: 在校学生
A35: 33 | B35: 莎车县 | C35: 阿扎特巴格镇 | D35: 兰干村 | E35: 7 | F35: 3101522769 | G35: 5700000147994911 | H35: ⬛⬛⬛⬛⬛⬛⬛⬛ | I35: ⬛⬛⬛⬛⬛⬛⬛⬛ | J35: 5 | K35: 之外孙子 | L35: 维吾尔族 | N35: 学前教育 | O35: 残疾 | P35: 无劳动力 | S35: 是 | T35: 未脱贫 | V35: 一般贫困户 | W35: 缺技术 | X35: 否 | Y35: 是 | Z35: 4390 | AA35: ⬛⬛⬛⬛⬛⬛⬛⬛ | AG35: 在校学生
A36: 34 | B36: 莎车县 | C36: 阿扎特巴格镇 | D36: 兰干村 | E36: 7 | F36: 3101529650 | G36: 310004261474 | H36: ⬛⬛⬛⬛⬛⬛⬛⬛ | I36: ⬛⬛⬛⬛⬛⬛⬛⬛ | J36: 4 | K36: 户主 | L36: 维吾尔族 | M36: 初中 | O36: 健康 | P36: 普通劳动力 | R36: 0 | S36: 是 | T36: 未脱贫 | V36: 低保贫困户 | W36: 缺技术 | X36: 否 | Y36: 否 | Z36: 6552.75 | AA36: ⬛⬛⬛⬛⬛⬛⬛⬛ | AG36: 种地
A37: 35 | B37: 莎车县 | C37: 阿扎特巴格镇 | D37: 兰干村 | E37: 7 | F37: 3101529650 | G37: 310004261473 | H37: ⬛⬛⬛⬛⬛⬛⬛⬛ | I37: ⬛⬛⬛⬛⬛⬛⬛⬛ | J37: 4 | K37: 配偶 | L37: 维吾尔族 | M37: 小学 | O37: 长期慢性病 | P37: 弱劳动力或半劳动力 | R37: 0 | S37: 是 | T37: 未脱贫 | V37: 低保贫困户 | W37: 缺技术 | X37: 否 | Y37: 否 | Z37: 6552.75 | AA37: ⬛⬛⬛⬛⬛⬛⬛⬛ | AG37: 长期慢性病
A38: 36 | B38: 莎车县 | C38: 阿扎特巴格镇 | D38: 兰干村 | E38: 7 | F38: 3101529650 | G38: 310004261470 | H38: ⬛⬛⬛⬛⬛⬛⬛⬛ | I38: ⬛⬛⬛⬛⬛⬛⬛⬛ | J38: 4 | K38: 之子 | L38: 维吾尔族 | M38: 初中 | O38: 健康 | P38: 普通劳动力 | R38: 12 | S38: 是 | T38: 未脱贫 | V38: 低保贫困户 | W38: 缺技术 | X38: 否 | Y38: 否 | Z38: 6552.75 | AA38: ⬛⬛⬛⬛⬛⬛⬛⬛ | AG38: 协警，莎车县
A39: 37 | B39: 莎车县 | C39: 阿扎特巴格镇 | D39: 兰干村 | E39: 7 | F39: 3101529650 | G39: 310004261472 | H39: ⬛⬛⬛⬛⬛⬛⬛⬛ | I39: ⬛⬛⬛⬛⬛⬛⬛⬛ | J39: 4 | K39: 之孙女 | L39: 维吾尔族 | N39: 小学 | O39: 健康 | P39: 无劳动力 | R39: 0 | S39: 是 | T39: 未脱贫 | V39: 低保贫困户 | W39: 缺技术 | X39: 否 | Y39: 否 | Z39: 6552.75 | AA39: ⬛⬛⬛⬛⬛⬛⬛⬛ | AG39: 在校学生
A40: 38 | B40: 莎车县 | C40: 阿扎特巴格镇 | D40: 兰干村 | E40: 7 | F40: 3101531526 | G40: 310004288017 | H40: ⬛⬛⬛⬛⬛⬛⬛⬛ | I40: ⬛⬛⬛⬛⬛⬛⬛⬛ | J40: 1 | K40: 户主 | L40: 维吾尔族 | M40: 文盲或半文盲 | O40: 长期慢性病 | P40: 无劳动力 | R40: 0 | S40: 是 | T40: 未脱贫 | V40: 低保贫困户 | W40: 因病 | X40: 否 | Y40: 否 | Z40: 5628 | AA40: ⬛⬛⬛⬛⬛⬛⬛⬛ | AG40: 无劳动力
A41: 39 | B41: 莎车县 | C41: 阿扎特巴格镇 | D41: 兰干村 | E41: 7 | F41: 3101534161 | G41: 310004339410 | H41: ⬛⬛⬛⬛⬛⬛⬛⬛ | I41: ⬛⬛⬛⬛⬛⬛⬛⬛ | J41: 5 | K41: 户主 | L41: 维吾尔族 | M41: 文盲或半文盲 | O41: 长期慢性病 | P41: 无劳动力 | R41: 0 | S41: 是 | T41: 未脱贫 | V41: 低保贫困户 | W41: 缺技术 | X41: 否 | Y41: 是 | Z41: 6773 | AA41: ⬛⬛⬛⬛⬛⬛⬛⬛ | AG41: 无劳动力
A42: 40 | B42: 莎车县 | C42: 阿扎特巴格镇 | D42: 兰干村 | E42: 7 | F42: 3101534161 | G42: 310004339409 | H42: ⬛⬛⬛⬛⬛⬛⬛⬛ | I42: ⬛⬛⬛⬛⬛⬛⬛⬛ | J42: 5 | K42: 配偶 | L42: 维吾尔族 | M42: 文盲或半文盲 | O42: 长期慢性病 | P42: 无劳动力 | R42: 0 | S42: 是 | T42: 未脱贫 | V42: 低保贫困户 | W42: 缺技术 | X42: 否 | Y42: 是 | Z42: 6773 | AA42: ⬛⬛⬛⬛⬛⬛⬛⬛ | AG42: 无劳动力
A43: 41 | B43: 莎车县 | C43: 阿扎特巴格镇 | D43: 兰干村 | E43: 7 | F43: 3101534161 | G43: 5700000202286673 | H43: ⬛⬛⬛⬛⬛⬛⬛⬛ | I43: ⬛⬛⬛⬛⬛⬛⬛⬛ | J43: 5 | K43: 之子 | L43: 维吾尔族 | M43: 初中 | O43: 健康 | P43: 普通劳动力 | R43: 8 | S43: 是 | T43: 未脱贫 | V43: 低保贫困户 | W43: 缺技术 | X43: 否 | Y43: 是 | Z43: 6773 | AA43: ⬛⬛⬛⬛⬛⬛⬛⬛ | AG43: 操作工，新疆莎翔木业有限公司
A44: 42 | B44: 莎车县 | C44: 阿扎特巴格镇 | D44: 兰干村 | E44: 7 | F44: 3101534161 | G44: 5700000202293143 | H44: ⬛⬛⬛⬛⬛⬛⬛⬛ | I44: ⬛⬛⬛⬛⬛⬛⬛⬛ | J44: 5 | K44: 之儿媳 | L44: 维吾尔族 | M44: 初中 | O44: 健康 | P44: 普通劳动力 | R44: 0 | S44: 是 | T44: 未脱贫 | V44: 低保贫困户 | W44: 缺技术 | X44: 否 | Y44: 是 | Z44: 6773 | AA44: ⬛⬛⬛⬛⬛⬛⬛⬛ | AG44: 种地
A45: 43 | B45: 莎车县 | C45: 阿扎特巴格镇 | D45: 兰干村 | E45: 7 | F45: 3101534161 | G45: 5700000202296828 | H45: ⬛⬛⬛⬛⬛⬛⬛⬛ | I45: ⬛⬛⬛⬛⬛⬛⬛⬛ | J45: 5 | K45: 之孙子 | L45: 维吾尔族 | N45: 小学 | O45: 健康 | P45: 无劳动力 | R45: 0 | S45: 是 | T45: 未脱贫 | V45: 低保贫困户 | W45: 缺技术 | X45: 否 | Y45: 是 | Z45: 6773 | AA45: ⬛⬛⬛⬛⬛⬛⬛⬛ | AG45: 在校学生
A46: 44 | B46: 莎车县 | C46: 阿扎特巴格镇 | D46: 兰干村 | E46: 7 | F46: 3101553264 | G46: 310004392609 | H46: ⬛⬛⬛⬛⬛⬛⬛⬛ | I46: ⬛⬛⬛⬛⬛⬛⬛⬛ | J46: 2 | K46: 户主 | L46: 维吾尔族 | M46: 小学 | O46: 长期慢性病 | P46: 无劳动力 | R46: 0 | S46: 是 | T46: 已脱贫（享受政策） | U46: 2014年底 | V46: 低保户 | W46: 因病 | X46: 否 | Y46: 是 | Z46: 13001 | AA46: ⬛⬛⬛⬛⬛⬛⬛⬛ | AG46: 无劳动力
A47: 45 | B47: 莎车县 | C47: 阿扎特巴格镇 | D47: 兰干村 | E47: 7 | F47: 3101553264 | G47: 310004392610 | H47: ⬛⬛⬛⬛⬛⬛⬛⬛ | I47: ⬛⬛⬛⬛⬛⬛⬛⬛ | J47: 2 | K47: 配偶 | L47: 维吾尔族 | M47: 小学 | O47: 长期慢性病 | P47: 无劳动力 | R47: 0 | S47: 是 | T47: 已脱贫（享受政策） | U47: 2014年底 | V47: 低保户 | W47: 因病 | X47: 否 | Y47: 是 | Z47: 13001 | AA47: ⬛⬛⬛⬛⬛⬛⬛⬛ | AG47: 无劳动力
A48: 46 | B48: 莎车县 | C48: 阿扎特巴格镇 | D48: 兰干村 | E48: 7 | F48: 3101560548 | G48: 310004371910 | H48: ⬛⬛⬛⬛⬛⬛⬛⬛ | I48: ⬛⬛⬛⬛⬛⬛⬛⬛ | J48: 1 | K48: 户主 | L48: 维吾尔族 | M48: 文盲或半文盲 | O48: 患有大病 | P48: 无劳动力 | R48: 0 | S48: 是 | T48: 未脱贫 | V48: 低保贫困户 | W48: 因病 | X48: 否 | Y48: 否 | Z48: 12175 | AA48: ⬛⬛⬛⬛⬛⬛⬛⬛ | AG48: 无劳动力
A49: 47 | B49: 莎车县 | C49: 阿扎特巴格镇 | D49: 兰干村 | E49: 7 | F49: 3101561135 | G49: 310004436026 | H49: ⬛⬛⬛⬛⬛⬛⬛⬛ | I49: ⬛⬛⬛⬛⬛⬛⬛⬛ | J49: 6 | K49: 户主 | L49: 维吾尔族 | M49: 文盲或半文盲 | O49: 长期慢性病 | P49: 无劳动力 | R49: 0 | S49: 是 | T49: 未脱贫 | V49: 低保贫困户 | W49: 因残 | X49: 否 | Y49: 是 | Z49: 5633 | AA49: ⬛⬛⬛⬛⬛⬛⬛⬛ | AG49: 无劳动力
A50: 48 | B50: 莎车县 | C50: 阿扎特巴格镇 | D50: 兰干村 | E50: 7 | F50: 3101561135 | G50: 310004436027 | H50: ⬛⬛⬛⬛⬛⬛⬛⬛ | I50: ⬛⬛⬛⬛⬛⬛⬛⬛ | J50: 6 | K50: 配偶 | L50: 维吾尔族 | M50: 文盲或半文盲 | O50: 长期慢性病 | P50: 无劳动力 | R50: 0 | S50: 是 | T50: 未脱贫 | V50: 低保贫困户 | W50: 因残 | X50: 否 | Y50: 是 | Z50: 5633 | AA50: ⬛⬛⬛⬛⬛⬛⬛⬛ | AG50: 无劳动力
A51: 49 | B51: 莎车县 | C51: 阿扎特巴格镇 | D51: 兰干村 | E51: 7 | F51: 3101561135 | G51: 5700000148133150 | H51: ⬛⬛⬛⬛⬛⬛⬛⬛ | I51: ⬛⬛⬛⬛⬛⬛⬛⬛ | J51: 6 | K51: 之子 | L51: 维吾尔族 | M51: 初中 | O51: 健康 | P51: 普通劳动力 | R51: 12 | S51: 是 | T51: 未脱贫 | V51: 低保贫困户 | W51: 因残 | X51: 否 | Y51: 是 | Z51: 5633 | AA51: ⬛⬛⬛⬛⬛⬛⬛⬛ | AG51: 协警，阿扎提巴格
A52: 50 | B52: 莎车县 | C52: 阿扎特巴格镇 | D52: 兰干村 | E52: 7 | F52: 3101561135 | G52: 100000091386933 | H52: ⬛⬛⬛⬛⬛⬛⬛⬛ | I52: ⬛⬛⬛⬛⬛⬛⬛⬛ | J52: 6 | K52: 之儿媳 | L52: 维吾尔族 | M52: 初中 | O52: 残疾 | P52: 无劳动力 | R52: 0 | S52: 是 | T52: 未脱贫 | V52: 低保贫困户 | W52: 因残 | X52: 否 | Y52: 是 | Z52: 5633 | AA52: ⬛⬛⬛⬛⬛⬛⬛⬛ | AG52: 种地
A53: 51 | B53: 莎车县 | C53: 阿扎特巴格镇 | D53: 兰干村 | E53: 7 | F53: 3101561135 | G53: 5700000148133951 | H53: ⬛⬛⬛⬛⬛⬛⬛⬛ | I53: ⬛⬛⬛⬛⬛⬛⬛⬛ | J53: 6 | K53: 之孙子 | L53: 维吾尔族 | N53: 小学 | O53: 健康 | P53: 无劳动力 | S53: 是 | T53: 未脱贫 | V53: 低保贫困户 | W53: 因残 | X53: 否 | Y53: 是 | Z53: 5633 | AA53: ⬛⬛⬛⬛⬛⬛⬛⬛ | AG53: 无劳动力
A54: 52 | B54: 莎车县 | C54: 阿扎特巴格镇 | D54: 兰干村 | E54: 7 | F54: 3101561135 | G54: 5700000202307616 | H54: ⬛⬛⬛⬛⬛⬛⬛⬛ | I54: ⬛⬛⬛⬛⬛⬛⬛⬛ | J54: 6 | K54: 之孙子 | L54: 维吾尔族 | N54: 学前教育 | O54: 健康 | P54: 无劳动力 | R54: 0 | S54: 是 | T54: 未脱贫 | V54: 低保贫困户 | W54: 因残 | X54: 否 | Y54: 是 | Z54: 5633 | AA54: ⬛⬛⬛⬛⬛⬛⬛⬛ | AG54: 无劳动力
A55: 53 | B55: 莎车县 | C55: 阿扎特巴格镇 | D55: 兰干村 | E55: 7 | F55: 3101561839 | G55: 310004438205 | H55: ⬛⬛⬛⬛⬛⬛⬛⬛ | I55: ⬛⬛⬛⬛⬛⬛⬛⬛ | J55: 5 | K55: 户主 | L55: 维吾尔族 | M55: 文盲或半文盲 | O55: 长期慢性病 | P55: 普通劳动力 | R55: 0 | S55: 是 | T55: 未脱贫 | V55: 低保贫困户 | W55: 因病 | X55: 否 | Y55: 是 | Z55: 5552.2 | AA55: ⬛⬛⬛⬛⬛⬛⬛⬛ | AG55: 长期慢性病
A56: 54 | B56: 莎车县 | C56: 阿扎特巴格镇 | D56: 兰干村 | E56: 7 | F56: 3101561839 | G56: 100000091220303 | H56: ⬛⬛⬛⬛⬛⬛⬛⬛ | I56: ⬛⬛⬛⬛⬛⬛⬛⬛ | J56: 5 | K56: 之孙子 | L56: 维吾尔族 | N56: 小学 | O56: 健康 | P56: 无劳动力 | R56: 0 | S56: 是 | T56: 未脱贫 | V56: 低保贫困户 | W56: 因病 | X56: 否 | Y56: 是 | Z56: 5552.2 | AA56: ⬛⬛⬛⬛⬛⬛⬛⬛ | AG56: 无劳动力
A57: 55 | B57: 莎车县 | C57: 阿扎特巴格镇 | D57: 兰干村 | E57: 7 | F57: 3101561839 | G57: 100000091252560 | H57: ⬛⬛⬛⬛⬛⬛⬛⬛ | I57: ⬛⬛⬛⬛⬛⬛⬛⬛ | J57: 5 | K57: 之孙女 | L57: 维吾尔族 | N57: 学前教育 | O57: 健康 | P57: 无劳动力 | R57: 0 | S57: 是 | T57: 未脱贫 | V57: 低保贫困户 | W57: 因病 | X57: 否 | Y57: 是 | Z57: 5552.2 | AA57: ⬛⬛⬛⬛⬛⬛⬛⬛ | AG57: 无劳动力
A58: 56 | B58: 莎车县 | C58: 阿扎特巴格镇 | D58: 兰干村 | E58: 7 | F58: 3101561839 | G58: 310004438207 | H58: ⬛⬛⬛⬛⬛⬛⬛⬛ | I58: ⬛⬛⬛⬛⬛⬛⬛⬛ | J58: 5 | K58: 其他 | L58: 维吾尔族 | M58: 高中 | O58: 健康 | P58: 普通劳动力 | R58: 0 | S58: 是 | T58: 未脱贫 | V58: 低保贫困户 | W58: 因病 | X58: 否 | Y58: 是 | Z58: 5552.2 | AA58: ⬛⬛⬛⬛⬛⬛⬛⬛ | AG58: 瓦工，临时就业
A59: 57 | B59: 莎车县 | C59: 阿扎特巴格镇 | D59: 兰干村 | E59: 7 | F59: 3101561839 | G59: 310004438208 | H59: ⬛⬛⬛⬛⬛⬛⬛⬛ | I59: ⬛⬛⬛⬛⬛⬛⬛⬛ | J59: 5 | K59: 其他 | L59: 维吾尔族 | M59: 初中 | O59: 健康 | P59: 普通劳动力 | R59: 8 | S59: 是 | T59: 未脱贫 | V59: 低保贫困户 | W59: 因病 | X59: 否 | Y59: 是 | Z59: 5552.2 | AA59: ⬛⬛⬛⬛⬛⬛⬛⬛ | AG59: 新疆莎翔木业有限公司
A60: 58 | B60: 莎车县 | C60: 阿扎特巴格镇 | D60: 兰干村 | E60: 7 | F60: 3101580095 | G60: 310004485031 | H60: ⬛⬛⬛⬛⬛⬛⬛⬛ | I60: ⬛⬛⬛⬛⬛⬛⬛⬛ | J60: 2 | K60: 户主 | L60: 维吾尔族 | M60: 小学 | O60: 健康 | P60: 普通劳动力 | S60: 是 | T60: 已脱贫（享受政策） | U60: 2014年底 | V60: 低保户 | W60: 缺劳力 | X60: 否 | Y60: 是 | Z60: 5172.5 | AA60: ⬛⬛⬛⬛⬛⬛⬛⬛ | AG60: 自主创业，木器加工
A61: 59 | B61: 莎车县 | C61: 阿扎特巴格镇 | D61: 兰干村 | E61: 7 | F61: 3101580095 | G61: 310004485032 | H61: 佐热姑丽·麦合木提 | I61: 653125196704253828 | J61: 2 | K61: 配偶 | L61: 维吾尔族 | M61: 小学 | O61: 健康 | P61: 普通劳动力 | R61: 0 | S61: 是 | T61: 已脱贫（享受政策） | U61: 2014年底 | V61: 低保户 | W61: 缺劳力 | X61: 否 | Y61: 是 | Z61: 5172.5 | AA61: ⬛⬛⬛⬛⬛⬛⬛⬛ | AG61: 教育转化
A62: 60 | B62: 莎车县 | C62: 阿扎特巴格镇 | D62: 兰干村 | E62: 7 | F62: 100000090355154 | G62: 100000090288514 | H62: ⬛⬛⬛⬛⬛⬛⬛⬛ | I62: ⬛⬛⬛⬛⬛⬛⬛⬛ | J62: 1 | K62: 户主 | L62: 维吾尔族 | M62: 文盲或半文盲 | O62: 残疾 | P62: 无劳动力 | R62: 0 | S62: 是 | T62: 未脱贫 | V62: 低保贫困户 | W62: 因残 | X62: 否 | Y62: 是 | Z62: 7346 | AA62: ⬛⬛⬛⬛⬛⬛⬛⬛ | AG62: 残疾
A63: 61 | B63: 莎车县 | C63: 阿扎特巴格镇 | D63: 兰干村 | E63: 7 | F63: 100000090443324 | G63: 100000090412439 | H63: ⬛⬛⬛⬛⬛⬛⬛⬛ | I63: ⬛⬛⬛⬛⬛⬛⬛⬛ | J63: 1 | K63: 户主 | L63: 维吾尔族 | M63: 文盲或半文盲 | O63: 长期慢性病 | P63: 无劳动力 | R63: 0 | S63: 是 | T63: 未脱贫 | V63: 特困供养贫困户 | W63: 因病 | X63: 否 | Y63: 是 | Z63: 6008 | AA63: ⬛⬛⬛⬛⬛⬛⬛⬛ | AE63: 是 | AG63: 敬老院
A64: 62 | B64: 莎车县 | C64: 阿扎特巴格镇 | D64: 兰干村 | E64: 7 | F64: 100000090621310 | G64: 100000090469796 | H64: ⬛⬛⬛⬛⬛⬛⬛⬛ | I64: ⬛⬛⬛⬛⬛⬛⬛⬛ | J64: 2 | K64: 户主 | L64: 维吾尔族 | M64: 文盲或半文盲 | O64: 长期慢性病 | P64: 无劳动力 | R64: 0 | S64: 是 | T64: 未脱贫 | V64: 低保贫困户 | W64: 因病 | X64: 否 | Y64: 是 | Z64: 5202 | AA64: ⬛⬛⬛⬛⬛⬛⬛⬛ | AG64: 无劳动力
A65: 63 | B65: 莎车县 | C65: 阿扎特巴格镇 | D65: 兰干村 | E65: 7 | F65: 100000090621310 | G65: 100000090463566 | H65: ⬛⬛⬛⬛⬛⬛⬛⬛ | I65: ⬛⬛⬛⬛⬛⬛⬛⬛ | J65: 2 | K65: 配偶 | L65: 维吾尔族 | M65: 文盲或半文盲 | O65: 长期慢性病 | P65: 无劳动力 | R65: 0 | S65: 是 | T65: 未脱贫 | V65: 低保贫困户 | W65: 因病 | X65: 否 | Y65: 是 | Z65: 5202 | AA65: ⬛⬛⬛⬛⬛⬛⬛⬛ | AG65: 长期慢性病
A66: 64 | B66: 莎车县 | C66: 阿扎特巴格镇 | D66: 兰干村 | E66: 7 | F66: 100000090669599 | G66: 100000090627554 | H66: ⬛⬛⬛⬛⬛⬛⬛⬛ | I66: ⬛⬛⬛⬛⬛⬛⬛⬛ | J66: 3 | K66: 户主 | L66: 维吾尔族 | M66: 初中 | O66: 健康 | P66: 普通劳动力 | R66: 8 | S66: 是 | T66: 已脱贫（享受政策） | U66: 2018年底 | V66: 一般农户 | W66: 因病 | X66: 否 | Y66: 是 | Z66: 11926 | AA66: ⬛⬛⬛⬛⬛⬛⬛⬛ | AG66: 原护林员
A67: 65 | B67: 莎车县 | C67: 阿扎特巴格镇 | D67: 兰干村 | E67: 7 | F67: 100000090669599 | G67: 100000090634516 | H67: ⬛⬛⬛⬛⬛⬛⬛⬛ | I67: ⬛⬛⬛⬛⬛⬛⬛⬛ | J67: 3 | K67: 配偶 | L67: 维吾尔族 | M67: 初中 | O67: 患有大病 | P67: 丧失劳动力 | R67: 0 | S67: 是 | T67: 已脱贫（享受政策） | U67: 2018年底 | V67: 一般农户 | W67: 因病 | X67: 否 | Y67: 是 | Z67: 11926 | AA67: ⬛⬛⬛⬛⬛⬛⬛⬛ | AG67: 长期慢性病
A68: 66 | B68: 莎车县 | C68: 阿扎特巴格镇 | D68: 兰干村 | E68: 7 | F68: 100000090669599 | G68: 100000109979813 | H68: ⬛⬛⬛⬛⬛⬛⬛⬛ | I68: ⬛⬛⬛⬛⬛⬛⬛⬛ | J68: 3 | K68: 之子 | L68: 维吾尔族 | M68: 初中 | O68: 健康 | P68: 普通劳动力 | R68: 8 | S68: 是 | T68: 已脱贫（享受政策） | U68: 2018年底 | V68: 一般农户 | W68: 因病 | X68: 否 | Y68: 是 | Z68: 11926 | AA68: ⬛⬛⬛⬛⬛⬛⬛⬛ | AG68: 保安，佰什坎特
A69: 67 | B69: 莎车县 | C69: 阿扎特巴格镇 | D69: 兰干村 | E69: 7 | F69: 100000090943786 | G69: 100000090906756 | H69: ⬛⬛⬛⬛⬛⬛⬛⬛ | I69: ⬛⬛⬛⬛⬛⬛⬛⬛ | J69: 1 | K69: 户主 | L69: 维吾尔族 | M69: 文盲或半文盲 | O69: 长期慢性病 | P69: 无劳动力 | R69: 0 | S69: 是 | T69: 未脱贫 | V69: 低保贫困户 | W69: 因病 | X69: 否 | Y69: 是 | Z69: 8076 | AA69: ⬛⬛⬛⬛⬛⬛⬛⬛ | AG69: 无劳动力
A70: 68 | B70: 莎车县 | C70: 阿扎特巴格镇 | D70: 兰干村 | E70: 7 | F70: 100000090987421 | G70: 100000090952414 | H70: ⬛⬛⬛⬛⬛⬛⬛⬛ | I70: ⬛⬛⬛⬛⬛⬛⬛⬛ | J70: 1 | K70: 户主 | L70: 维吾尔族 | M70: 文盲或半文盲 | O70: 长期慢性病 | P70: 无劳动力 | R70: 0 | S70: 是 | T70: 未脱贫 | V70: 特困供养贫困户 | W70: 因病 | X70: 否 | Y70: 是 | Z70: 6008 | AA70: ⬛⬛⬛⬛⬛⬛⬛⬛ | AE70: 是 | AG70: 敬老院
A71: 69 | B71: 莎车县 | C71: 阿扎特巴格镇 | D71: 兰干村 | E71: 7 | F71: 100000091258310 | G71: 100000091052748 | H71: ⬛⬛⬛⬛⬛⬛⬛⬛ | I71: ⬛⬛⬛⬛⬛⬛⬛⬛ | J71: 4 | K71: 户主 | L71: 维吾尔族 | M71: 文盲或半文盲 | O71: 长期慢性病 | P71: 无劳动力 | R71: 0 | S71: 是 | T71: 未脱贫 | V71: 低保贫困户 | W71: 因病 | X71: 否 | Y71: 否 | Z71: 9352 | AA71: ⬛⬛⬛⬛⬛⬛⬛⬛ | AG71: 无劳动力
A72: 70 | B72: 莎车县 | C72: 阿扎特巴格镇 | D72: 兰干村 | E72: 7 | F72: 100000091258310 | G72: 100000091135601 | H72: ⬛⬛⬛⬛⬛⬛⬛⬛ | I72: ⬛⬛⬛⬛⬛⬛⬛⬛ | J72: 4 | K72: 配偶 | L72: 维吾尔族 | M72: 文盲或半文盲 | O72: 长期慢性病 | P72: 无劳动力 | R72: 0 | S72: 是 | T72: 未脱贫 | V72: 低保贫困户 | W72: 因病 | X72: 否 | Y72: 否 | Z72: 9352 | AA72: ⬛⬛⬛⬛⬛⬛⬛⬛ | AG72: 无劳动力
A73: 71 | B73: 莎车县 | C73: 阿扎特巴格镇 | D73: 兰干村 | E73: 7 | F73: 100000091258310 | G73: 100000091149675 | H73: ⬛⬛⬛⬛⬛⬛⬛⬛ | I73: ⬛⬛⬛⬛⬛⬛⬛⬛ | J73: 4 | K73: 之子 | L73: 维吾尔族 | M73: 初中 | O73: 健康 | P73: 普通劳动力 | R73: 9 | S73: 是 | T73: 未脱贫 | V73: 低保贫困户 | W73: 因病 | X73: 否 | Y73: 否 | Z73: 9352 | AA73: ⬛⬛⬛⬛⬛⬛⬛⬛ | AG73: 操作工，新疆莎翔木业有限公司
A74: 72 | B74: 莎车县 | C74: 阿扎特巴格镇 | D74: 兰干村 | E74: 7 | F74: 100000091258310 | G74: 100000091205274 | H74: ⬛⬛⬛⬛⬛⬛⬛⬛ | I74: ⬛⬛⬛⬛⬛⬛⬛⬛ | J74: 4 | K74: 之孙女 | L74: 维吾尔族 | N74: 七年级 | O74: 健康 | P74: 无劳动力 | R74: 0 | S74: 是 | T74: 未脱贫 | V74: 低保贫困户 | W74: 因病 | X74: 否 | Y74: 否 | Z74: 9352 | AA74: ⬛⬛⬛⬛⬛⬛⬛⬛ | AG74: 在校学生
A75: 73 | B75: 莎车县 | C75: 阿扎特巴格镇 | D75: 兰干村 | E75: 7 | F75: 100000091366570 | G75: 100000091287861 | H75: ⬛⬛⬛⬛⬛⬛⬛⬛ | I75: ⬛⬛⬛⬛⬛⬛⬛⬛ | J75: 3 | K75: 户主 | L75: 维吾尔族 | M75: 初中 | O75: 健康 | P75: 普通劳动力 | R75: 8 | S75: 是 | T75: 未脱贫 | V75: 一般贫困户 | W75: 缺技术 | X75: 否 | Y75: 否 | Z75: 6342 | AA75: ⬛⬛⬛⬛⬛⬛⬛⬛ | AG75: 操作工，新疆莎翔木业有限公司
A76: 74 | B76: 莎车县 | C76: 阿扎特巴格镇 | D76: 兰干村 | E76: 7 | F76: 100000091366570 | G76: 5700000364816816 | H76: ⬛⬛⬛⬛⬛⬛⬛⬛ | I76: ⬛⬛⬛⬛⬛⬛⬛⬛ | J76: 3 | K76: 配偶 | L76: 维吾尔族 | M76: 小学 | O76: 健康 | P76: 普通劳动力 | S76: 是 | T76: 未脱贫 | V76: 一般贫困户 | W76: 缺技术 | X76: 否 | Y76: 否 | Z76: 6342 | AA76: ⬛⬛⬛⬛⬛⬛⬛⬛ | AG76: 务农
A77: 75 | B77: 莎车县 | C77: 阿扎特巴格镇 | D77: 兰干村 | E77: 7 | F77: 100000091366570 | G77: 100000091312107 | H77: ⬛⬛⬛⬛⬛⬛⬛⬛ | I77: ⬛⬛⬛⬛⬛⬛⬛⬛ | J77: 3 | K77: 之子 | L77: 维吾尔族 | N77: 小学 | O77: 健康 | P77: 无劳动力 | R77: 0 | S77: 是 | T77: 未脱贫 | V77: 一般贫困户 | W77: 缺技术 | X77: 否 | Y77: 否 | Z77: 6342 | AA77: ⬛⬛⬛⬛⬛⬛⬛⬛ | AG77: 在校学生
A78: 76 | B78: 莎车县 | C78: 阿扎特巴格镇 | D78: 兰干村 | E78: 7 | F78: 100000091517428 | G78: 100000091486820 | H78: ⬛⬛⬛⬛⬛⬛⬛⬛ | I78: ⬛⬛⬛⬛⬛⬛⬛⬛ | J78: 2 | K78: 户主 | L78: 维吾尔族 | M78: 初中 | O78: 长期慢性病 | P78: 无劳动力 | R78: 0 | S78: 是 | T78: 已脱贫（享受政策） | U78: 2014年底 | V78: 低保户 | W78: 因病 | X78: 否 | Y78: 是 | Z78: 10407 | AA78: ⬛⬛⬛⬛⬛⬛⬛⬛ | AG78: 无劳动力
A79: 77 | B79: 莎车县 | C79: 阿扎特巴格镇 | D79: 兰干村 | E79: 7 | F79: 100000091517428 | G79: 100000091493469 | H79: ⬛⬛⬛⬛⬛⬛⬛⬛ | I79: ⬛⬛⬛⬛⬛⬛⬛⬛ | J79: 2 | K79: 之子 | L79: 维吾尔族 | M79: 初中 | O79: 健康 | P79: 普通劳动力 | R79: 9 | S79: 是 | T79: 已脱贫（享受政策） | U79: 2014年底 | V79: 低保户 | W79: 因病 | X79: 否 | Y79: 是 | Z79: 10407 | AA79: ⬛⬛⬛⬛⬛⬛⬛⬛ | AG79: 瓦工，刑满释放，新疆莎翔木业有限公司
A80: 78 | B80: 莎车县 | C80: 阿扎特巴格镇 | D80: 兰干村 | E80: 7 | F80: 100000091554794 | G80: 100000091526312 | H80: ⬛⬛⬛⬛⬛⬛⬛⬛ | I80: ⬛⬛⬛⬛⬛⬛⬛⬛ | J80: 1 | K80: 户主 | L80: 维吾尔族 | M80: 文盲或半文盲 | O80: 长期慢性病 | P80: 无劳动力 | R80: 0 | S80: 是 | T80: 未脱贫 | V80: 特困供养贫困户 | W80: 因病 | X80: 否 | Y80: 是 | Z80: 6008 | AA80: ⬛⬛⬛⬛⬛⬛⬛⬛ | AE80: 是 | AG80: 敬老院
A81: 79 | B81: 莎车县 | C81: 阿扎特巴格镇 | D81: 兰干村 | E81: 7 | F81: 100000091577493 | G81: 100000091555967 | H81: ⬛⬛⬛⬛⬛⬛⬛⬛ | I81: ⬛⬛⬛⬛⬛⬛⬛⬛ | J81: 2 | K81: 户主 | L81: 维吾尔族 | M81: 小学 | O81: 长期慢性病 | P81: 无劳动力 | R81: 0 | S81: 是 | T81: 未脱贫 | V81: 低保贫困户 | W81: 因残 | X81: 否 | Y81: 是 | Z81: 8646 | AA81: ⬛⬛⬛⬛⬛⬛⬛⬛ | AG81: 无劳动力
A82: 80 | B82: 莎车县 | C82: 阿扎特巴格镇 | D82: 兰干村 | E82: 7 | F82: 100000091577493 | G82: 100000091565291 | H82: ⬛⬛⬛⬛⬛⬛⬛⬛ | I82: ⬛⬛⬛⬛⬛⬛⬛⬛ | J82: 2 | K82: 之子 | L82: 维吾尔族 | M82: 文盲或半文盲 | O82: 残疾 | P82: 丧失劳动力 | R82: 0 | S82: 是 | T82: 未脱贫 | V82: 低保贫困户 | W82: 因残 | X82: 否 | Y82: 是 | Z82: 8646 | AA82: ⬛⬛⬛⬛⬛⬛⬛⬛ | AG82: 残疾
A83: 81 | B83: 莎车县 | C83: 阿扎特巴格镇 | D83: 兰干村 | E83: 7 | F83: 100000091611162 | G83: 100000091579986 | H83: ⬛⬛⬛⬛⬛⬛⬛⬛ | I83: ⬛⬛⬛⬛⬛⬛⬛⬛ | J83: 2 | K83: 户主 | L83: 维吾尔族 | M83: 初中 | O83: 残疾 | P83: 无劳动力 | R83: 0 | S83: 是 | T83: 已脱贫（享受政策） | U83: 2018年底 | V83: 低保户 | W83: 因残 | X83: 否 | Y83: 是 | Z83: 16984 | AA83: ⬛⬛⬛⬛⬛⬛⬛⬛ | AG83: 残疾
A84: 82 | B84: 莎车县 | C84: 阿扎特巴格镇 | D84: 兰干村 | E84: 7 | F84: 100000091611162 | G84: 100000091587972 | H84: ⬛⬛⬛⬛⬛⬛⬛⬛ | I84: ⬛⬛⬛⬛⬛⬛⬛⬛ | J84: 2 | K84: 之子 | L84: 维吾尔族 | M84: 大专 | O84: 健康 | P84: 普通劳动力 | R84: 12 | S84: 是 | T84: 已脱贫（享受政策） | U84: 2018年底 | V84: 低保户 | W84: 因残 | X84: 否 | Y84: 是 | Z84: 16984 | AA84: ⬛⬛⬛⬛⬛⬛⬛⬛ | AG84: 商贸公司上班，乌鲁木齐（新疆交通职业技术学院毕业）
A85: 83 | B85: 莎车县 | C85: 阿扎特巴格镇 | D85: 兰干村 | E85: 7 | F85: 100000091612222 | G85: 100000091581254 | H85: ⬛⬛⬛⬛⬛⬛⬛⬛ | I85: ⬛⬛⬛⬛⬛⬛⬛⬛ | J85: 3 | K85: 户主 | L85: 维吾尔族 | M85: 小学 | O85: 残疾 | P85: 丧失劳动力 | R85: 0 | S85: 是 | T85: 未脱贫 | V85: 低保贫困户 | W85: 因残 | X85: 否 | Y85: 是 | Z85: 4202 | AA85: ⬛⬛⬛⬛⬛⬛⬛⬛ | AG85: 残疾，原林管员
A86: 84 | B86: 莎车县 | C86: 阿扎特巴格镇 | D86: 兰干村 | E86: 7 | F86: 100000091612222 | G86: 100000091586968 | H86: ⬛⬛⬛⬛⬛⬛⬛⬛ | I86: ⬛⬛⬛⬛⬛⬛⬛⬛ | J86: 3 | K86: 配偶 | L86: 维吾尔族 | M86: 小学 | O86: 残疾 | P86: 无劳动力 | R86: 0 | S86: 是 | T86: 未脱贫 | V86: 低保贫困户 | W86: 因残 | X86: 否 | Y86: 是 | Z86: 4202 | AA86: ⬛⬛⬛⬛⬛⬛⬛⬛ | AG86: 残疾
A87: 85 | B87: 莎车县 | C87: 阿扎特巴格镇 | D87: 兰干村 | E87: 7 | F87: 100000091612222 | G87: 100000091600719 | H87: ⬛⬛⬛⬛⬛⬛⬛⬛ | I87: ⬛⬛⬛⬛⬛⬛⬛⬛ | J87: 3 | K87: 之女 | L87: 维吾尔族 | N87: 高职高专二年级 | O87: 健康 | P87: 无劳动力 | R87: 0 | S87: 是 | T87: 未脱贫 | V87: 低保贫困户 | W87: 因残 | X87: 否 | Y87: 是 | Z87: 4202 | AA87: ⬛⬛⬛⬛⬛⬛⬛⬛ | AG87: 在校学生，乌鲁木齐
A88: 86 | B88: 莎车县 | C88: 阿扎特巴格镇 | D88: 兰干村 | E88: 7 | F88: 100000091629884 | G88: 100000091613454 | H88: ⬛⬛⬛⬛⬛⬛⬛⬛ | I88: ⬛⬛⬛⬛⬛⬛⬛⬛ | J88: 1 | K88: 户主 | L88: 维吾尔族 | M88: 文盲或半文盲 | O88: 患有大病 | P88: 无劳动力 | R88: 0 | S88: 是 | T88: 未脱贫 | V88: 低保贫困户 | W88: 因病 | X88: 否 | Y88: 是 | Z88: 6076 | AA88: ⬛⬛⬛⬛⬛⬛⬛⬛ | AG88: 无劳动力
A89: 87 | B89: 莎车县 | C89: 阿扎特巴格镇 | D89: 兰干村 | E89: 7 | F89: 100000091631556 | G89: 100000091617974 | H89: ⬛⬛⬛⬛⬛⬛⬛⬛ | I89: ⬛⬛⬛⬛⬛⬛⬛⬛ | J89: 3 | K89: 户主 | L89: 维吾尔族 | M89: 文盲或半文盲 | O89: 残疾 | P89: 无劳动力 | R89: 0 | S89: 是 | T89: 未脱贫 | V89: 低保贫困户 | W89: 因残 | X89: 否 | Y89: 是 | Z89: 5167.33 | AA89: ⬛⬛⬛⬛⬛⬛⬛⬛ | AG89: 残疾
A90: 88 | B90: 莎车县 | C90: 阿扎特巴格镇 | D90: 兰干村 | E90: 7 | F90: 100000091631556 | G90: 100000091621344 | H90: ⬛⬛⬛⬛⬛⬛⬛⬛ | I90: ⬛⬛⬛⬛⬛⬛⬛⬛ | J90: 3 | K90: 配偶 | L90: 维吾尔族 | M90: 文盲或半文盲 | O90: 长期慢性病 | P90: 无劳动力 | R90: 0 | S90: 是 | T90: 未脱贫 | V90: 低保贫困户 | W90: 因残 | X90: 否 | Y90: 是 | Z90: 5167.33 | AA90: ⬛⬛⬛⬛⬛⬛⬛⬛ | AG90: 无劳动力
A91: 89 | B91: 莎车县 | C91: 阿扎特巴格镇 | D91: 兰干村 | E91: 7 | F91: 100000091631556 | G91: 5700000202820678 | H91: 努尔艾拉·麦麦提 | I91: 653125198407143824 | J91: 3 | K91: 之女 | L91: 维吾尔族 | M91: 初中 | O91: 健康 | P91: 普通劳动力 | R91: 0 | S91: 是 | T91: 未脱贫 | V91: 低保贫困户 | W91: 因残 | X91: 否 | Y91: 是 | Z91: 5167.33 | AA91: ⬛⬛⬛⬛⬛⬛⬛⬛ | AG91: 已经嫁出，盗窃，三类人员
A92: 90 | B92: 莎车县 | C92: 阿扎特巴格镇 | D92: 兰干村 | E92: 7 | F92: 100000091647426 | G92: 100000091638737 | H92: ⬛⬛⬛⬛⬛⬛⬛⬛ | I92: ⬛⬛⬛⬛⬛⬛⬛⬛ | J92: 1 | K92: 户主 | L92: 维吾尔族 | M92: 小学 | O92: 长期慢性病 | P92: 丧失劳动力 | R92: 0 | S92: 是 | T92: 未脱贫 | V92: 低保贫困户 | W92: 因病 | X92: 否 | Y92: 是 | Z92: 5308 | AA92: ⬛⬛⬛⬛⬛⬛⬛⬛ | AG92: 长期慢性病
A93: 91 | B93: 莎车县 | C93: 阿扎特巴格镇 | D93: 兰干村 | E93: 7 | F93: 100000091655639 | G93: 100000091647393 | H93: ⬛⬛⬛⬛⬛⬛⬛⬛ | I93: ⬛⬛⬛⬛⬛⬛⬛⬛ | J93: 1 | K93: 户主 | L93: 维吾尔族 | M93: 小学 | O93: 长期慢性病 | P93: 无劳动力 | R93: 0 | S93: 是 | T93: 未脱贫 | V93: 低保贫困户 | W93: 因病 | X93: 否 | Y93: 是 | Z93: 7508 | AA93: ⬛⬛⬛⬛⬛⬛⬛⬛ | AG93: 无劳动力
A94: 92 | B94: 莎车县 | C94: 阿扎特巴格镇 | D94: 兰干村 | E94: 7 | F94: 100000091670072 | G94: 5700000148058223 | H94: ⬛⬛⬛⬛⬛⬛⬛⬛ | I94: ⬛⬛⬛⬛⬛⬛⬛⬛ | J94: 6 | K94: 户主 | L94: 维吾尔族 | M94: 初中 | O94: 健康 | P94: 普通劳动力 | R94: 12 | S94: 是 | T94: 未脱贫 | V94: 低保贫困户 | W94: 因病 | X94: 否 | Y94: 是 | Z94: 5927.67 | AA94: ⬛⬛⬛⬛⬛⬛⬛⬛ | AG94: 保安，本村
A95: 93 | B95: 莎车县 | C95: 阿扎特巴格镇 | D95: 兰干村 | E95: 7 | F95: 100000091670072 | G95: 5700000148060350 | H95: ⬛⬛⬛⬛⬛⬛⬛⬛ | I95: ⬛⬛⬛⬛⬛⬛⬛⬛ | J95: 6 | K95: 配偶 | L95: 维吾尔族 | M95: 文盲或半文盲 | O95: 健康 | P95: 普通劳动力 | S95: 是 | T95: 未脱贫 | V95: 低保贫困户 | W95: 因病 | X95: 否 | Y95: 是 | Z95: 5927.67 | AA95: ⬛⬛⬛⬛⬛⬛⬛⬛ | AG95: 种地
A96: 94 | B96: 莎车县 | C96: 阿扎特巴格镇 | D96: 兰干村 | E96: 7 | F96: 100000091670072 | G96: 5700000148063080 | H96: ⬛⬛⬛⬛⬛⬛⬛⬛ | I96: ⬛⬛⬛⬛⬛⬛⬛⬛ | J96: 6 | K96: 之子 | L96: 维吾尔族 | N96: 小学 | O96: 健康 | P96: 无劳动力 | S96: 是 | T96: 未脱贫 | V96: 低保贫困户 | W96: 因病 | X96: 否 | Y96: 是 | Z96: 5927.67 | AA96: ⬛⬛⬛⬛⬛⬛⬛⬛ | AG96: 在校学生
A97: 95 | B97: 莎车县 | C97: 阿扎特巴格镇 | D97: 兰干村 | E97: 7 | F97: 100000091670072 | G97: 5700000148064789 | H97: ⬛⬛⬛⬛⬛⬛⬛⬛ | I97: ⬛⬛⬛⬛⬛⬛⬛⬛ | J97: 6 | K97: 之女 | L97: 维吾尔族 | N97: 学前教育 | O97: 健康 | P97: 无劳动力 | S97: 是 | T97: 未脱贫 | V97: 低保贫困户 | W97: 因病 | X97: 否 | Y97: 是 | Z97: 5927.67 | AA97: ⬛⬛⬛⬛⬛⬛⬛⬛ | AG97: 学龄前儿童
A98: 96 | B98: 莎车县 | C98: 阿扎特巴格镇 | D98: 兰干村 | E98: 7 | F98: 100000091670072 | G98: 100000091657676 | H98: ⬛⬛⬛⬛⬛⬛⬛⬛ | I98: ⬛⬛⬛⬛⬛⬛⬛⬛ | J98: 6 | K98: 之父 | L98: 维吾尔族 | M98: 文盲或半文盲 | O98: 患有大病 | P98: 无劳动力 | R98: 0 | S98: 是 | T98: 未脱贫 | V98: 低保贫困户 | W98: 因病 | X98: 否 | Y98: 是 | Z98: 5927.67 | AA98: ⬛⬛⬛⬛⬛⬛⬛⬛ | AG98: 无劳动力
A99: 97 | B99: 莎车县 | C99: 阿扎特巴格镇 | D99: 兰干村 | E99: 7 | F99: 100000091677828 | G99: 100000091650870 | H99: ⬛⬛⬛⬛⬛⬛⬛⬛ | I99: ⬛⬛⬛⬛⬛⬛⬛⬛ | J99: 7 | K99: 户主 | L99: 维吾尔族 | M99: 小学 | O99: 长期慢性病 | P99: 弱劳动力或半劳动力 | R99: 0 | S99: 是 | T99: 未脱贫 | V99: 低保贫困户 | W99: 缺技术 | X99: 否 | Y99: 是 | Z99: 7334 | AA99: ⬛⬛⬛⬛⬛⬛⬛⬛ | AG99: 种地
A100: 98 | B100: 莎车县 | C100: 阿扎特巴格镇 | D100: 兰干村 | E100: 7 | F100: 100000091677828 | G100: 100000091654787 | H100: ⬛⬛⬛⬛⬛⬛⬛⬛ | I100: ⬛⬛⬛⬛⬛⬛⬛⬛ | J100: 7 | K100: 配偶 | L100: 维吾尔族 | M100: 小学 | O100: 健康 | P100: 普通劳动力 | R100: 0 | S100: 是 | T100: 未脱贫 | V100: 低保贫困户 | W100: 缺技术 | X100: 否 | Y100: 是 | Z100: 7334 | AA100: ⬛⬛⬛⬛⬛⬛⬛⬛ | AG100: 种地
...

Sheet Sheet1
A1: 序号 | B1: 与户主关系 | C1: 姓名 | D1: 文化程度 | E1: 性别 | F1: 户籍地址 | H1: 户号 | I1: 公民身份号码 | J1: 出生日期 | K1: 备注
A2: 1 | B2: 户主 | C2: ⬛⬛⬛⬛⬛⬛⬛⬛ | D2: 小学 | E2: 男 | F2: 阿扎提巴格乡兰干村1组9号 | H2: 653100000094211 | I2: ⬛⬛⬛⬛⬛⬛⬛⬛ | J2: 33376 | K2: 9957
A3: 2 | B3: 户主 | C3: ⬛⬛⬛⬛⬛⬛⬛⬛ | D3: 初中 | E3: 男 | F3: 阿扎提巴格乡兰干村1组9号 | H3: 653125719000379 | I3: ⬛⬛⬛⬛⬛⬛⬛⬛ | J3: 33317 | K3: 9196
A4: 3 | B4: 户主 | C4: ⬛⬛⬛⬛⬛⬛⬛⬛ | D4: 小学毕业 | E4: 男 | F4: 阿扎提巴格乡兰干村1组98号 | H4: 653100001271591 | I4: ⬛⬛⬛⬛⬛⬛⬛⬛ | J4: 18519 | K4: 6532
A5: 4 | B5: 户主 | C5: ⬛⬛⬛⬛⬛⬛⬛⬛ | D5: 小学毕业 | E5: 男 | F5: 阿扎提巴格乡兰干村1组8号 | H5: 653125719000376 | I5: ⬛⬛⬛⬛⬛⬛⬛⬛ | J5: 18449 | K5: 7562
A6: 5 | B6: 户主 | C6: ⬛⬛⬛⬛⬛⬛⬛⬛ | D6: 高中毕业 | E6: 男 | F6: 阿扎提巴格乡兰干村1组86号 | H6: 653100000111156 | I6: ⬛⬛⬛⬛⬛⬛⬛⬛ | J6: 31641 | K6: 6586
A7: 6 | B7: 户主 | C7: ⬛⬛⬛⬛⬛⬛⬛⬛ | D7: 初中 | E7: 男 | F7: 阿扎提巴格乡兰干村1组7号 | H7: 653125719002740 | I7: ⬛⬛⬛⬛⬛⬛⬛⬛ | J7: 29645 | K7: 5010
A8: 7 | B8: 户主 | C8: ⬛⬛⬛⬛⬛⬛⬛⬛ | D8: 初中毕业 | E8: 男 | F8: 阿扎提巴格乡兰干村1组73号 | H8: 653100001976492 | I8: ⬛⬛⬛⬛⬛⬛⬛⬛ | J8: 25632 | K8: 5654
A9: 8 | B9: 户主 | C9: ⬛⬛⬛⬛⬛⬛⬛⬛ | D9: 初中毕业 | E9: 男 | F9: 阿扎提巴格乡兰干村1组71号 | H9: 653100002205972 | I9: ⬛⬛⬛⬛⬛⬛⬛⬛ | J9: 21412 | K9: 16810
A10: 9 | B10: 户主 | C10: ⬛⬛⬛⬛⬛⬛⬛⬛ | D10: 初中毕业 | E10: 男 | F10: 阿扎提巴格乡兰干村1组70号 | H10: 653100002205719 | I10: ⬛⬛⬛⬛⬛⬛⬛⬛ | J10: 31254 | K10: 12000
A11: 10 | B11: 户主 | C11: ⬛⬛⬛⬛⬛⬛⬛⬛ | D11: 小学 | E11: 男 | F11: 阿扎提巴格乡兰干村1组70号 | H11: 653100001702450 | I11: ⬛⬛⬛⬛⬛⬛⬛⬛ | J11: 34038 | K11: 5000
A12: 11 | B12: 户主 | C12: ⬛⬛⬛⬛⬛⬛⬛⬛ | D12: 小学毕业 | E12: 女 | F12: 阿扎提巴格乡兰干村1组6号 | H12: 653125719000400 | I12: ⬛⬛⬛⬛⬛⬛⬛⬛ | J12: 25996 | K12: 9623
A13: 12 | B13: 户主 | C13: ⬛⬛⬛⬛⬛⬛⬛⬛ | D13: 小学 | E13: 男 | F13: 阿扎提巴格乡兰干村1组6号 | H13: 653125719000537 | I13: ⬛⬛⬛⬛⬛⬛⬛⬛ | J13: 19670 | K13: 4794
... A69: 68 | B69: 户主 | C69: ⬛⬛⬛⬛⬛⬛⬛⬛ | D69: 高中 | E69: 男 | F69: 阿扎提巴格乡兰干村1组 | H69: 653125719003580 | I69: ⬛⬛⬛⬛⬛⬛⬛⬛ | J69: 27687 | K69: 16439
A70: 69 | B70: 户主 | C70: ⬛⬛⬛⬛⬛⬛⬛⬛ | D70: 初中毕业 | E70: 男 | F70: 阿扎提巴格乡兰干村2组81号 | G70: 阿扎提巴格乡兰干村2组 | H70: 653125719000426 | I70: ⬛⬛⬛⬛⬛⬛⬛⬛ | J70: 26671 | K70: 7667
A71: 70 | B71: 户主 | C71: ⬛⬛⬛⬛⬛⬛⬛⬛ | D71: 初中 | E71: 男 | F71: 阿扎提巴格乡兰干村2组78号 | G71: 阿扎提巴格乡兰干村2组 | H71: 653125719000416 | I71: ⬛⬛⬛⬛⬛⬛⬛⬛ | J71: 32535 | K71: 7669
A72: 71 | B72: 户主 | C72: ⬛⬛⬛⬛⬛⬛⬛⬛ | D72: 小学 | E72: 男 | F72: 阿扎提巴格乡兰干村2组78号 | G72: 阿扎提巴格乡兰干村2组 | H72: 653125719000419 | I72: ⬛⬛⬛⬛⬛⬛⬛⬛ | J72: 32924 | K72: 6886
A73: 72 | B73: 户主 | C73: ⬛⬛⬛⬛⬛⬛⬛⬛ | D73: 小学 | E73: 男 | F73: 阿扎提巴格乡兰干村2组76号 | G73: 阿扎提巴格乡兰干村2组 | H73: 653125719000417 | I73: ⬛⬛⬛⬛⬛⬛⬛⬛ | J73: 9622 | K73: 9685
A74: 73 | B74: 户主 | C74: ⬛⬛⬛⬛⬛⬛⬛⬛ | D74: 初中毕业 | E74: 男 | F74: 阿扎提巴格乡兰干村2组75号 | G74: 阿扎提巴格乡兰干村2组 | H74: 653125719000467 | I74: ⬛⬛⬛⬛⬛⬛⬛⬛ | J74: 30807 | K74: 10236
A75: 74 | B75: 户主 | C75: ⬛⬛⬛⬛⬛⬛⬛⬛ | D75: 初中 | E75: 男 | F75: 阿扎提巴格乡兰干村2组75号 | G75: 阿扎提巴格乡兰干村2组 | H75: 653100000109131 | I75: ⬛⬛⬛⬛⬛⬛⬛⬛ | J75: 29289 | K75: 9863
A76: 75 | B76: 户主 | C76: ⬛⬛⬛⬛⬛⬛⬛⬛ | D76: 小学 | E76: 男 | F76: 阿扎提巴格乡兰干村2组74号 | G76: 阿扎提巴格乡兰干村2组 | H76: 653125719000435 | I76: ⬛⬛⬛⬛⬛⬛⬛⬛ | J76: 25734 | K76: 13342
A77: 76 | B77: 户主 | C77: ⬛⬛⬛⬛⬛⬛⬛⬛ | D77: 初中毕业 | E77: 男 | F77: 阿扎提巴格乡兰干村2组74号 | G77: 阿扎提巴格乡兰干村2组 | H77: 653125719000454 | I77: ⬛⬛⬛⬛⬛⬛⬛⬛ | J77: 31401 | K77: 4750
A78: 77 | B78: 户主 | C78: ⬛⬛⬛⬛⬛⬛⬛⬛ | D78: 小学 | E78: 男 | F78: 阿扎提巴格乡兰干村2组73号 | G78: 阿扎提巴格乡兰干村2组 | H78: 653125719000428 | I78: ⬛⬛⬛⬛⬛⬛⬛⬛ | J78: 20321 | K78: 9324
A79: 78 | B79: 户主 | C79: ⬛⬛⬛⬛⬛⬛⬛⬛ | D79: 初中 | E79: 女 | F79: 阿扎提巴格乡兰干村2组72号 | G79: 阿扎提巴格乡兰干村2组 | H79: 653100001354972 | I79: ⬛⬛⬛⬛⬛⬛⬛⬛ | J79: 28686 | K79: 8532
A80: 79 | B80: 户主 | C80: ⬛⬛⬛⬛⬛⬛⬛⬛ | D80: 初中毕业 | E80: 男 | F80: 阿扎提巴格乡兰干村2组72号 | G80: 阿扎提巴格乡兰干村2组 | H80: 653125719000420 | I80: ⬛⬛⬛⬛⬛⬛⬛⬛ | J80: 25604 | K80: 8142
A81: 80 | B81: 户主 | C81: ⬛⬛⬛⬛⬛⬛⬛⬛ | D81: 高中毕业 | E81: 男 | F81: 阿扎提巴格乡兰干村2组71号 | G81: 阿扎提巴格乡兰干村2组 | H81: 653125719000452 | I81: ⬛⬛⬛⬛⬛⬛⬛⬛ | J81: 23500 | K81: 6586
... A136: 135 | B136: 户主 | C136: ⬛⬛⬛⬛⬛⬛⬛⬛ | D136: 初中 | E136: 男 | F136: 阿扎提巴格乡兰干村3组85号 | G136: 阿扎提巴格乡兰干村3组 | H136: 653125719000460 | I136: ⬛⬛⬛⬛⬛⬛⬛⬛ | J136: 21464 | K136: 9423
A137: 136 | B137: 户主 | C137: ⬛⬛⬛⬛⬛⬛⬛⬛ | E137: 男 | F137: 阿扎提巴格乡兰干村3组84号 | G137: 阿扎提巴格乡兰干村3组 | H137: 653125719000445 | I137: ⬛⬛⬛⬛⬛⬛⬛⬛ | J137: 13882 | K137: 8423
A138: 137 | B138: 户主 | C138: ⬛⬛⬛⬛⬛⬛⬛⬛ | D138: 初中 | E138: 男 | F138: 阿扎提巴格乡兰干村3组77号 | G138: 阿扎提巴格乡兰干村3组 | H138: 670000000680635 | I138: ⬛⬛⬛⬛⬛⬛⬛⬛ | J138: 33823 | K138: 8214
A139: 138 | B139: 户主 | C139: ⬛⬛⬛⬛⬛⬛⬛⬛ | D139: 初中毕业 | E139: 男 | F139: 阿扎提巴格乡兰干村3组69号 | G139: 阿扎提巴格乡兰干村3组 | H139: 670000000105155 | I139: ⬛⬛⬛⬛⬛⬛⬛⬛ | J139: 31364 | K139: 4650
A140: 139 | B140: 户主 | C140: ⬛⬛⬛⬛⬛⬛⬛⬛ | D140: 初中 | E140: 男 | F140: 阿扎提巴格乡兰干村3组61号 | G140: 阿扎提巴格乡兰干村3组 | H140: 653100000095770 | I140: ⬛⬛⬛⬛⬛⬛⬛⬛ | J140: 32578 | K140: 8442
A141: 140 | B141: 户主 | C141: ⬛⬛⬛⬛⬛⬛⬛⬛ | D141: 初中 | E141: 男 | F141: 阿扎提巴格乡兰干村3组60号 | G141: 阿扎提巴格乡兰干村3组 | H141: 653100000099349 | I141: ⬛⬛⬛⬛⬛⬛⬛⬛ | J141: 33126 | K141: 8439
A142: 141 | B142: 户主 | C142: ⬛⬛⬛⬛⬛⬛⬛⬛ | D142: 初中 | E142: 男 | F142: 阿扎提巴格乡兰干村3组59号 | G142: 阿扎提巴格乡兰干村3组 | H142: 653100000099333 | I142: ⬛⬛⬛⬛⬛⬛⬛⬛ | J142: 31207 | K142: 9710
A143: 142 | B143: 户主 | C143: ⬛⬛⬛⬛⬛⬛⬛⬛ | D143: 小学 | E143: 男 | F143: 阿扎提巴格乡兰干村3组57号 | G143: 阿扎提巴格乡兰干村3组 | H143: 653100000872975 | I143: ⬛⬛⬛⬛⬛⬛⬛⬛ | J143: 33299 | K143: 5602
A144: 143 | B144: 户主 | C144: ⬛⬛⬛⬛⬛⬛⬛⬛ | D144: 初中 | E144: 男 | F144: 阿扎提巴格乡兰干村3组55号 | G144: 阿扎提巴格乡兰干村3组 | H144: 653100000843389 | I144: ⬛⬛⬛⬛⬛⬛⬛⬛ | J144: 33679 | K144: 8371
A145: 144 | B145: 户主 | C145: ⬛⬛⬛⬛⬛⬛⬛⬛ | D145: 初中毕业 | E145: 男 | F145: 阿扎提巴格乡兰干村3组51号 | G145: 阿扎提巴格乡兰干村3组 | H145: 653125719003910 | I145: ⬛⬛⬛⬛⬛⬛⬛⬛ | J145: 31058 | K145: 9763
A146: 145 | B146: 户主 | C146: ⬛⬛⬛⬛⬛⬛⬛⬛ | D146: 初中 | E146: 男 | F146: 阿扎提巴格乡兰干村3组51号 | G146: 阿扎提巴格乡兰干村3组 | H146: 653100000095826 | I146: ⬛⬛⬛⬛⬛⬛⬛⬛ | J146: 32559 | K146: 7860
A147: 146 | B147: 户主 | C147: ⬛⬛⬛⬛⬛⬛⬛⬛ | D147: 初中 | E147: 女 | F147: 阿扎提巴格乡兰干村3组50号 | G147: 阿扎提巴格乡兰干村3组 | H147: 653100000078003 | I147: ⬛⬛⬛⬛⬛⬛⬛⬛ | J147: 28187 | K147: 9823
A148: 147 | B148: 户主 | C148: ⬛⬛⬛⬛⬛⬛⬛⬛ | D148: 小学 | E148: 男 | F148: 阿扎提巴格乡兰干村3组4号 | G148: 阿扎提巴格乡兰干村3组 | H148: 653125719000487 | I148: ⬛⬛⬛⬛⬛⬛⬛⬛ | J148: 23504 | K148: 4614
A149: 148 | B149: 户主 | C149: ⬛⬛⬛⬛⬛⬛⬛⬛ | D149: 小学毕业 | E149: 女 | F149: 阿扎提巴格乡兰干村3组49号 | G149: 阿扎提巴格乡兰干村3组 | H149: 653100002210431 | I149: ⬛⬛⬛⬛⬛⬛⬛⬛ | J149: 21648 | K149: 7560
... A193: 192 | B193: 户主 | C193: ⬛⬛⬛⬛⬛⬛⬛⬛ | D193: 小学 | E193: 男 | F193: 阿扎提巴格乡兰干村100号 | G193: 阿扎提巴格乡兰干村3组 | H193: 653125719000491 | I193: ⬛⬛⬛⬛⬛⬛⬛⬛ | J193: 23938 | K193: 4945
C194: ⬛⬛⬛⬛⬛⬛⬛⬛ | I194: ⬛⬛⬛⬛⬛⬛⬛⬛ | K194: 3190
A195: 1 | B195: 户主 | C195: ⬛⬛⬛⬛⬛⬛⬛⬛ | D195: 小学 | E195: 男 | F195: 阿扎提巴格乡兰干村4组5号 | G195: 阿扎提巴格乡兰干村4组 | H195: 653100002047192 | I195: ⬛⬛⬛⬛⬛⬛⬛⬛ | J195: 34032 | K195: 8632
A196: 2 | B196: 户主 | C196: ⬛⬛⬛⬛⬛⬛⬛⬛ | D196: 小学 | E196: 男 | F196: 阿扎提巴格乡兰干村4组95号 | G196: 阿扎提巴格乡兰干村4组 | H196: 653100000111188 | I196: ⬛⬛⬛⬛⬛⬛⬛⬛ | J196: 34411 | K196: 8462
A197: 3 | B197: 户主 | C197: ⬛⬛⬛⬛⬛⬛⬛⬛ | D197: 初中 | E197: 男 | F197: 阿扎提巴格乡兰干村4组95号 | G197: 阿扎提巴格乡兰干村4组 | H197: 650000002678890 | I197: ⬛⬛⬛⬛⬛⬛⬛⬛ | J197: 34829 | K197: 8230
A198: 4 | B198: 户主 | C198: ⬛⬛⬛⬛⬛⬛⬛⬛ | D198: 小学毕业 | E198: 女 | F198: 阿扎提巴格乡兰干村4组89号 | G198: 阿扎提巴格乡兰干村4组 | H198: 670000000654293 | I198: ⬛⬛⬛⬛⬛⬛⬛⬛ | J198: 23442 | K198: 8702
A199: 5 | B199: 户主 | C199: ⬛⬛⬛⬛⬛⬛⬛⬛ | D199: 小学毕业 | E199: 男 | F199: 阿扎提巴格乡兰干村4组83号 | G199: 阿扎提巴格乡兰干村4组 | H199: 653100001702391 | I199: ⬛⬛⬛⬛⬛⬛⬛⬛ | J199: 28646 | K199: 3304
A200: 6 | B200: 户主 | C200: ⬛⬛⬛⬛⬛⬛⬛⬛ | D200: 初中 | E200: 男 | F200: 阿扎提巴格乡兰干村4组82号 | G200: 阿扎提巴格乡兰干村4组 | H200: 670000000756232 | I200: ⬛⬛⬛⬛⬛⬛⬛⬛ | J200: 30927 | K200: 4003
A201: 7 | B201: 户主 | C201: ⬛⬛⬛⬛⬛⬛⬛⬛ | D201: 初中 | E201: 男 | F201: 阿扎提巴格乡兰干村4组81号 | G201: 阿扎提巴格乡兰干村4组 | H201: 670000000756208 | I201: ⬛⬛⬛⬛⬛⬛⬛⬛ | J201: 32296 | K201: 7593
A202: 8 | B202: 户主 | C202: ⬛⬛⬛⬛⬛⬛⬛⬛ | D202: 初中 | E202: 女 | F202: 阿扎提巴格乡兰干村4组80号 | G202: 阿扎提巴格乡兰干村4组 | H202: 670000000756189 | I202: ⬛⬛⬛⬛⬛⬛⬛⬛ | J202: 32836 | K202: 5848
A203: 9 | B203: 户主 | C203: ⬛⬛⬛⬛⬛⬛⬛⬛ | D203: 小学 | E203: 男 | F203: 阿扎提巴格乡兰干村4组76号 | G203: 阿扎提巴格乡兰干村4组 | H203: 670000000701260 | I203: ⬛⬛⬛⬛⬛⬛⬛⬛ | J203: 16988 | K203: 9762
A204: 10 | B204: 户主 | C204: ⬛⬛⬛⬛⬛⬛⬛⬛ | D204: 初中毕业 | E204: 男 | F204: 阿扎提巴格乡兰干村4组75号 | G204: 阿扎提巴格乡兰干村4组 | H204: 653100000132011 | I204: ⬛⬛⬛⬛⬛⬛⬛⬛ | J204: 30812 | K204: 6977
A205: 11 | B205: 户主 | C205: ⬛⬛⬛⬛⬛⬛⬛⬛ | D205: 初中毕业 | E205: 男 | F205: 阿扎提巴格乡兰干村4组64号 | G205: 阿扎提巴格乡兰干村4组 | H205: 653100002057371 | I205: ⬛⬛⬛⬛⬛⬛⬛⬛ | J205: 30448 | K205: 8563
A206: 12 | B206: 户主 | C206: ⬛⬛⬛⬛⬛⬛⬛⬛ | D206: 初中毕业 | E206: 男 | F206: 阿扎提巴格乡兰干村4组63号 | G206: 阿扎提巴格乡兰干村4组 | H206: 670000000088078 | I206: ⬛⬛⬛⬛⬛⬛⬛⬛ | J206: 34494 | K206: 9632
... A283: 89 | B283: 户主 | C283: ⬛⬛⬛⬛⬛⬛⬛⬛ | D283: 初中毕业 | E283: 男 | F283: 阿扎提巴格乡兰干村4组010号 | G283: 阿扎提巴格乡兰干村4组 | H283: 653125719003612 | I283: ⬛⬛⬛⬛⬛⬛⬛⬛ | J283: 27987 | K283: 7512
A284: 90 | B284: 户主 | C284: ⬛⬛⬛⬛⬛⬛⬛⬛ | I284: ⬛⬛⬛⬛⬛⬛⬛⬛ | K284: 4811
A285: 91 | B285: 户主 | C285: ⬛⬛⬛⬛⬛⬛⬛⬛ | I285: ⬛⬛⬛⬛⬛⬛⬛⬛ | K285: 8388
A286: 1 | B286: 户主 | C286: ⬛⬛⬛⬛⬛⬛⬛⬛ | D286: 小学 | E286: 男 | F286: 阿扎提巴格乡兰干村5组1号 | G286: 阿扎提巴格乡兰干村5组 | H286: 653125719003895 | I286: ⬛⬛⬛⬛⬛⬛⬛⬛ | J286: 28937 | K286: 8574
A287: 2 | B287: 户主 | C287: ⬛⬛⬛⬛⬛⬛⬛⬛ | D287: 高中 | E287: 男 | F287: 阿扎提巴格乡兰干村5组98号 | G287: 阿扎提巴格乡兰干村5组 | H287: 653100000846019 | I287: ⬛⬛⬛⬛⬛⬛⬛⬛ | J287: 34830 | K287: 7000
A288: 3 | B288: 户主 | C288: ⬛⬛⬛⬛⬛⬛⬛⬛ | D288: 初中 | E288: 男 | F288: 阿扎提巴格乡兰干村5组95号 | G288: 阿扎提巴格乡兰干村5组 | H288: 670000000680850 | I288: ⬛⬛⬛⬛⬛⬛⬛⬛ | J288: 33317 | K288: 15147
A289: 4 | B289: 户主 | C289: ⬛⬛⬛⬛⬛⬛⬛⬛ | E289: 男 | F289: 阿扎提巴格乡兰干村5组90号 | G289: 阿扎提巴格乡兰干村5组 | H289: 653100000104599 | I289: ⬛⬛⬛⬛⬛⬛⬛⬛ | J289: 33786 | K289: 9635
A290: 5 | B290: 户主 | C290: ⬛⬛⬛⬛⬛⬛⬛⬛ | D290: 高中 | E290: 男 | F290: 阿扎提巴格乡兰干村5组90号 | G290: 阿扎提巴格乡兰干村5组 | H290: 653100000870631 | I290: ⬛⬛⬛⬛⬛⬛⬛⬛ | J290: 35136 | K290: 7512
A291: 6 | B291: 户主 | C291: ⬛⬛⬛⬛⬛⬛⬛⬛ | D291: 初中 | E291: 男 | F291: 阿扎提巴格乡兰干村5组82号 | G291: 阿扎提巴格乡兰干村5组 | H291: 670000000088087 | I291: ⬛⬛⬛⬛⬛⬛⬛⬛ | J291: 32852 | K291: 8563
A292: 7 | B292: 户主 | C292: ⬛⬛⬛⬛⬛⬛⬛⬛ | D292: 初中毕业 | E292: 男 | F292: 阿扎提巴格乡兰干村5组250号 | G292: 阿扎提巴格乡兰干村5组 | H292: 653125719002684 | I292: ⬛⬛⬛⬛⬛⬛⬛⬛ | J292: 30456 | K292: 6530
A293: 8 | B293: 户主 | C293: ⬛⬛⬛⬛⬛⬛⬛⬛ | D293: 小学毕业 | E293: 女 | F293: 阿扎提巴格乡兰干村5组33号 | G293: 阿扎提巴格乡兰干村5组 | H293: 653125719000548 | I293: ⬛⬛⬛⬛⬛⬛⬛⬛ | J293: 26335 | K293: 10500
A294: 9 | B294: 户主 | C294: ⬛⬛⬛⬛⬛⬛⬛⬛ | D294: 小学毕业 | E294: 男 | F294: 阿扎提巴格乡兰干村5组299号 | G294: 阿扎提巴格乡兰干村5组 | H294: 653125719003112 | I294: ⬛⬛⬛⬛⬛⬛⬛⬛ | J294: 25364 | K294: 3695
A295: 10 | B295: 户主 | C295: ⬛⬛⬛⬛⬛⬛⬛⬛ | D295: 初中毕业 | E295: 男 | F295: 阿扎提巴格乡兰干村5组193号 | G295: 阿扎提巴格乡兰干村5组 | H295: 653125719000541 | I295: ⬛⬛⬛⬛⬛⬛⬛⬛ | J295: 31649 | K295: 11039
A296: 11 | B296: 户主 | C296: ⬛⬛⬛⬛⬛⬛⬛⬛ | D296: 初中毕业 | E296: 男 | F296: 阿扎提巴格乡兰干村5组181号 | G296: 阿扎提巴格乡兰干村5组 | H296: 653125719000574 | I296: ⬛⬛⬛⬛⬛⬛⬛⬛ | J296: 17578 | K296: 9860
A297: 12 | B297: 户主 | C297: ⬛⬛⬛⬛⬛⬛⬛⬛ | D297: 相当小学毕业 | E297: 男 | F297: 阿扎提巴格乡兰干村5组176号 | G297: 阿扎提巴格乡兰干村5组 | H297: 653125719000543 | I297: ⬛⬛⬛⬛⬛⬛⬛⬛ | J297: 25678 | K297: 4536
A298: 13 | B298: 户主 | C298: ⬛⬛⬛⬛⬛⬛⬛⬛ | D298: 初中 | E298: 男 | F298: 阿扎提巴格乡兰干村5组108号 | G298: 阿扎提巴格乡兰干村5组 | H298: 653100000118100 | I298: ⬛⬛⬛⬛⬛⬛⬛⬛ | J298: 33276 | K298: 11230
A299: 14 | B299: 户主 | C299: ⬛⬛⬛⬛⬛⬛⬛⬛ | D299: 中专毕业 | E299: 男 | F299: 阿扎提巴格乡兰干村5组078号 | G299: 阿扎提巴格乡兰干村5组 | H299: 653125719004208 | I299: ⬛⬛⬛⬛⬛⬛⬛⬛ | J299: 30717 | K299: 15150
A300: 15 | B300: 户主 | C300: ⬛⬛⬛⬛⬛⬛⬛⬛ | D300: 初中毕业 | E300: 男 | F300: 阿扎提巴格乡兰干村5组029号 | G300: 阿扎提巴格乡兰干村5组 | H300: 653125719003930 | I300: ⬛⬛⬛⬛⬛⬛⬛⬛ | J300: 30718 | K300: 11760
A301: 16 | B301: 户主 | C301: ⬛⬛⬛⬛⬛⬛⬛⬛ | D301: 初中 | E301: 男 | F301: 阿扎提巴格乡兰干村5组27号 | G301: 阿扎提巴格乡兰干村5组 | H301: 653125719003651 | I301: ⬛⬛⬛⬛⬛⬛⬛⬛ | J301: 30003 | K301: 9631
... A335: 50 | B335: 户主 | C335: ⬛⬛⬛⬛⬛⬛⬛⬛ | D335: 初中 | E335: 女 | F335: 阿扎提巴格乡兰干村5组025号 | G335: 阿扎提巴格乡兰干村5组 | H335: 653125719003918 | I335: ⬛⬛⬛⬛⬛⬛⬛⬛ | J335: 31932 | K335: 8550
A336: 51 | C336: ⬛⬛⬛⬛⬛⬛⬛⬛ | I336: ⬛⬛⬛⬛⬛⬛⬛⬛ | K336: 6370
A337: 52 | C337: ⬛⬛⬛⬛⬛⬛⬛⬛ | I337: ⬛⬛⬛⬛⬛⬛⬛⬛ | K337: 13849
A338: 53 | C338: ⬛⬛⬛⬛⬛⬛⬛⬛ | I338: ⬛⬛⬛⬛⬛⬛⬛⬛ | K338: 11609
A339: 54 | C339: ⬛⬛⬛⬛⬛⬛⬛⬛ | I339: ⬛⬛⬛⬛⬛⬛⬛⬛ | K339: 5341
A340: 1 | B340: 户主 | C340: ⬛⬛⬛⬛⬛⬛⬛⬛ | D340: 小学 | E340: 男 | F340: 阿扎提巴格乡兰干村6组38号 | G340: 阿扎提巴格乡兰干村6组 | H340: 670000000424976 | I340: ⬛⬛⬛⬛⬛⬛⬛⬛ | J340: 34612 | K340: 8612
A341: 2 | B341: 户主 | C341: ⬛⬛⬛⬛⬛⬛⬛⬛ | D341: 初中 | E341: 男 | F341: 阿扎提巴格乡兰干村6组37号 | G341: 阿扎提巴格乡兰干村6组 | H341: 670000000273535 | I341: ⬛⬛⬛⬛⬛⬛⬛⬛ | J341: 33409 | K341: 5500
A342: 3 | B342: 户主 | C342: ⬛⬛⬛⬛⬛⬛⬛⬛ | D342: 初中 | E342: 男 | F342: 阿扎提巴格乡兰干村6组32号 | G342: 阿扎提巴格乡兰干村6组 | H342: 653125719000538 | I342: ⬛⬛⬛⬛⬛⬛⬛⬛ | J342: 32732 | K342: 6374
A343: 4 | B343: 户主 | C343: ⬛⬛⬛⬛⬛⬛⬛⬛ | D343: 小学 | E343: 男 | F343: 阿扎提巴格乡兰干村6组28号 | G343: 阿扎提巴格乡兰干村6组 | H343: 653100000846931 | I343: ⬛⬛⬛⬛⬛⬛⬛⬛ | J343: 34648 | K343: 7456
A344: 5 | B344: 户主 | C344: ⬛⬛⬛⬛⬛⬛⬛⬛ | D344: 初中 | E344: 男 | F344: 阿扎提巴格乡兰干村6组25号 | G344: 阿扎提巴格乡兰干村6组 | H344: 653100000136312 | I344: ⬛⬛⬛⬛⬛⬛⬛⬛ | J344: 27402 | K344: 9510
A345: 6 | B345: 户主 | C345: ⬛⬛⬛⬛⬛⬛⬛⬛ | D345: 小学毕业 | E345: 男 | F345: 阿扎提巴格乡兰干村6组256号 | G345: 阿扎提巴格乡兰干村6组 | H345: 653125719003191 | I345: ⬛⬛⬛⬛⬛⬛⬛⬛ | J345: 30091 | K345: 15241
A346: 7 | B346: 户主 | C346: ⬛⬛⬛⬛⬛⬛⬛⬛ | D346: 小学毕业 | E346: 男 | F346: 阿扎提巴格乡兰干村6组237号 | G346: 阿扎提巴格乡兰干村6组 | H346: 653125719002401 | I346: ⬛⬛⬛⬛⬛⬛⬛⬛ | J346: 22008 | K346: 7981
A347: 8 | B347: 户主 | C347: ⬛⬛⬛⬛⬛⬛⬛⬛ | D347: 小学毕业 | E347: 男 | F347: 阿扎提巴格乡兰干村6组234号 | G347: 阿扎提巴格乡兰干村6组 | H347: 653125719002404 | I347: ⬛⬛⬛⬛⬛⬛⬛⬛ | J347: 24308 | K347: 8500
A348: 9 | B348: 户主 | C348: ⬛⬛⬛⬛⬛⬛⬛⬛ | D348: 小学 | E348: 男 | F348: 阿扎提巴格乡兰干村6组232号 | G348: 阿扎提巴格乡兰干村6组 | H348: 653100002006652 | I348: ⬛⬛⬛⬛⬛⬛⬛⬛ | J348: 34455 | K348: 8460
A349: 10 | B349: 户主 | C349: ⬛⬛⬛⬛⬛⬛⬛⬛ | D349: 小学毕业 | E349: 男 | F349: 阿扎提巴格乡兰干村6组232号 | G349: 阿扎提巴格乡兰干村6组 | H349: 653100001602233 | I349: ⬛⬛⬛⬛⬛⬛⬛⬛ | J349: 17857 | K349: 5030
A350: 11 | B350: 户主 | C350: ⬛⬛⬛⬛⬛⬛⬛⬛ | D350: 小学毕业 | E350: 男 | F350: 阿扎提巴格乡兰干村6组229号 | G350: 阿扎提巴格乡兰干村6组 | H350: 653125719002395 | I350: ⬛⬛⬛⬛⬛⬛⬛⬛ | J350: 22517 | K350: 6630
A351: 12 | B351: 户主 | C351: ⬛⬛⬛⬛⬛⬛⬛⬛ | D351: 小学毕业 | E351: 女 | F351: 阿扎提巴格乡兰干村6组224号 | G351: 阿扎提巴格乡兰干村6组 | H351: 653125719002393 | I351: ⬛⬛⬛⬛⬛⬛⬛⬛ | J351: 21103 | K351: 5256
... A359: 20 | B359: 户主 | C359: ⬛⬛⬛⬛⬛⬛⬛⬛ | D359: 初中毕业 | E359: 男 | F359: 阿扎提巴格乡兰干村6组006号 | G359: 阿扎提巴格乡兰干村6组 | H359: 653125719003793 | I359: ⬛⬛⬛⬛⬛⬛⬛⬛ | J359: 28536 | K359: 5682
C360: ⬛⬛⬛⬛⬛⬛⬛⬛ | I360: ⬛⬛⬛⬛⬛⬛⬛⬛ | K360: 4625
