Workbook

Sheet 一般户台账
A1: 莎车县阿扎提巴格镇兰干村一般户台账（284户1127人）
A2: 户序号 | B2: 序号 | C2: 户号 | D2: 姓名 | E2: 民族 | F2: 公民身份号码 | G2: 与户主关系 | H2: 户籍地址 | I2: 村组 | K2: 年龄超85岁 | L2: 低保 | M2: 特困供养 | N2: 残疾人 | O2: 大病 | P2: slry | Q2: 就业情况 | R2: 人均收入 | S2: 备注
A3: =MAX($A$2:A2)+1 -> 1 | B3: 1 | C3: 670000001067974 | D3: 阿布力米提·塔力普 | E3: 维吾尔 | F3: 653125198204053837 | G3: 夫 | H3: 新疆莎车县阿扎提巴格乡兰干村6组4号 | I3: 6组4号 | J3: =YEAR(TODAY())-MID(F3,7,4) -> 40 | P3: 教育转化 | R3: 4767
B4: 2 | C4: 670000001067974 | D4: ⬛⬛⬛⬛⬛⬛⬛⬛ | E4: 维吾尔 | F4: ⬛⬛⬛⬛⬛⬛⬛⬛ | G4: 子 | H4: 新疆莎车县阿扎提巴格乡兰干村6组4号 | I4: 6组4号 | J4: =YEAR(TODAY())-MID(F4,7,4) -> #VALUE! | L4: 是 | R4: 4767
B5: 3 | C5: 670000001067974 | D5: ⬛⬛⬛⬛⬛⬛⬛⬛ | E5: 维吾尔 | F5: ⬛⬛⬛⬛⬛⬛⬛⬛ | G5: 户主 | H5: 新疆莎车县阿扎提巴格乡兰干村6组4号 | I5: 6组4号 | J5: =YEAR(TODAY())-MID(F5,7,4) -> #VALUE! | L5: 是 | Q5: =VLOOKUP(F:F,[1]Sheet2!$E:$M,9,0) -> #N/A | R5: 4767
B6: 4 | C6: 670000001067974 | D6: ⬛⬛⬛⬛⬛⬛⬛⬛ | E6: 维吾尔 | F6: ⬛⬛⬛⬛⬛⬛⬛⬛ | G6: 女 | H6: 新疆莎车县阿扎提巴格乡兰干村6组4号 | I6: 6组4号 | J6: =YEAR(TODAY())-MID(F6,7,4) -> #VALUE! | R6: 4767
B7: 5 | C7: 670000001067974 | D7: ⬛⬛⬛⬛⬛⬛⬛⬛ | E7: 维吾尔 | F7: ⬛⬛⬛⬛⬛⬛⬛⬛ | G7: 子 | H7: 新疆莎车县阿扎提巴格乡兰干村6组4号 | I7: 6组4号 | J7: =YEAR(TODAY())-MID(F7,7,4) -> #VALUE! | R7: 4767
A8: =MAX($A$1:A6)+1 -> 2 | B8: 6 | C8: 670000001067972 | D8: ⬛⬛⬛⬛⬛⬛⬛⬛ | E8: 维吾尔 | F8: ⬛⬛⬛⬛⬛⬛⬛⬛ | G8: 户主 | H8: 新疆莎车县阿扎提巴格乡兰干村3组155号 | I8: 3组155号 | J8: =YEAR(TODAY())-MID(F8,7,4) -> #VALUE! | Q8: =VLOOKUP(F:F,[1]Sheet2!$E:$M,9,0) -> #N/A | R8: 8632
B9: 7 | C9: 670000001067972 | D9: ⬛⬛⬛⬛⬛⬛⬛⬛ | E9: 维吾尔 | F9: ⬛⬛⬛⬛⬛⬛⬛⬛ | G9: 长女 | H9: 新疆莎车县阿扎提巴格乡兰干村3组155号 | I9: 3组155号 | J9: =YEAR(TODAY())-MID(F9,7,4) -> #VALUE! | R9: 8632
B10: 8 | C10: 670000001067972 | D10: ⬛⬛⬛⬛⬛⬛⬛⬛ | E10: 维吾尔 | F10: ⬛⬛⬛⬛⬛⬛⬛⬛ | G10: 妻 | H10: 新疆莎车县阿扎提巴格乡兰干村3组155号 | I10: 3组155号 | J10: =YEAR(TODAY())-MID(F10,7,4) -> #VALUE! | R10: 8632
A11: =MAX($A$1:A9)+1 -> 3 | B11: 9 | C11: 670000001067970 | D11: ⬛⬛⬛⬛⬛⬛⬛⬛ | E11: 维吾尔 | F11: ⬛⬛⬛⬛⬛⬛⬛⬛ | G11: 长女 | H11: 新疆莎车县阿扎提巴格乡兰干村4组162号 | I11: 4组162号 | J11: =YEAR(TODAY())-MID(F11,7,4) -> #VALUE! | R11: 5632
B12: 10 | C12: 670000001067970 | D12: ⬛⬛⬛⬛⬛⬛⬛⬛ | E12: 维吾尔 | F12: ⬛⬛⬛⬛⬛⬛⬛⬛ | G12: 妻 | H12: 新疆莎车县阿扎提巴格乡兰干村4组162号 | I12: 4组162号 | J12: =YEAR(TODAY())-MID(F12,7,4) -> #VALUE! | R12: 5632
B13: 11 | C13: 670000001067970 | D13: ⬛⬛⬛⬛⬛⬛⬛⬛ | E13: 维吾尔 | F13: ⬛⬛⬛⬛⬛⬛⬛⬛ | G13: 户主 | H13: 新疆莎车县阿扎提巴格乡兰干村4组162号 | I13: 4组162号 | J13: =YEAR(TODAY())-MID(F13,7,4) -> #VALUE! | Q13: =VLOOKUP(F:F,[1]Sheet2!$E:$M,9,0) -> #N/A | R13: 5632
A14: =MAX($A$1:A12)+1 -> 4 | B14: 12 | C14: 670000001066076 | D14: 斯迪克·麦麦提 | E14: 维吾尔 | F14: 653125198911023813 | G14: 夫 | H14: 新疆莎车县阿扎提巴格乡兰干村3组118号 | I14: 3组118号 | J14: =YEAR(TODAY())-MID(F14,7,4) -> 33 | P14: 判刑 | R14: 5545
B15: 13 | C15: 670000001066076 | D15: ⬛⬛⬛⬛⬛⬛⬛⬛ | E15: 维吾尔 | F15: ⬛⬛⬛⬛⬛⬛⬛⬛ | G15: 次子 | H15: 新疆莎车县阿扎提巴格乡兰干村3组118号 | I15: 3组118号 | J15: =YEAR(TODAY())-MID(F15,7,4) -> #VALUE! | R15: =R14 -> 5545
B16: 14 | C16: 670000001066076 | D16: ⬛⬛⬛⬛⬛⬛⬛⬛ | E16: 维吾尔 | F16: ⬛⬛⬛⬛⬛⬛⬛⬛ | G16: 长女 | H16: 新疆莎车县阿扎提巴格乡兰干村3组118号 | I16: 3组118号 | J16: =YEAR(TODAY())-MID(F16,7,4) -> #VALUE! | R16: =R15 -> 5545
B17: 15 | C17: 670000001066076 | D17: ⬛⬛⬛⬛⬛⬛⬛⬛ | E17: 维吾尔 | F17: ⬛⬛⬛⬛⬛⬛⬛⬛ | G17: 长子 | H17: 新疆莎车县阿扎提巴格乡兰干村3组118号 | I17: 3组118号 | J17: =YEAR(TODAY())-MID(F17,7,4) -> #VALUE! | R17: =R16 -> 5545
B18: 16 | C18: 670000001066076 | D18: ⬛⬛⬛⬛⬛⬛⬛⬛ | E18: 维吾尔 | F18: ⬛⬛⬛⬛⬛⬛⬛⬛ | G18: 户主 | H18: 新疆莎车县阿扎提巴格乡兰干村3组118号 | I18: 3组118号 | J18: =YEAR(TODAY())-MID(F18,7,4) -> #VALUE! | R18: =R17 -> 5545
A19: =MAX($A$1:A17)+1 -> 5 | B19: 17 | C19: 670000001066075 | D19: ⬛⬛⬛⬛⬛⬛⬛⬛ | E19: 维吾尔 | F19: ⬛⬛⬛⬛⬛⬛⬛⬛ | G19: 户主 | H19: 新疆莎车县阿扎提巴格乡兰干村1组55号 | I19: 1组55号 | J19: =YEAR(TODAY())-MID(F19,7,4) -> #VALUE! | R19: 6396
B20: 18 | C20: 670000001066075 | D20: ⬛⬛⬛⬛⬛⬛⬛⬛ | E20: 维吾尔 | F20: ⬛⬛⬛⬛⬛⬛⬛⬛ | G20: 长女 | H20: 新疆莎车县阿扎提巴格乡兰干村1组55号 | I20: 1组55号 | J20: =YEAR(TODAY())-MID(F20,7,4) -> #VALUE! | R20: =R19 -> 6396
B21: 19 | C21: 670000001066075 | D21: ⬛⬛⬛⬛⬛⬛⬛⬛ | E21: 维吾尔 | F21: ⬛⬛⬛⬛⬛⬛⬛⬛ | G21: 长子 | H21: 新疆莎车县阿扎提巴格乡兰干村1组55号 | I21: 1组55号 | J21: =YEAR(TODAY())-MID(F21,7,4) -> #VALUE! | R21: =R20 -> 6396
B22: 20 | C22: 670000001066075 | D22: ⬛⬛⬛⬛⬛⬛⬛⬛ | E22: 维吾尔 | F22: ⬛⬛⬛⬛⬛⬛⬛⬛ | G22: 妻 | H22: 新疆莎车县阿扎提巴格乡兰干村1组55号 | I22: 1组55号 | J22: =YEAR(TODAY())-MID(F22,7,4) -> #VALUE! | R22: =R21 -> 6396
A23: =MAX($A$1:A21)+1 -> 6 | B23: 21 | C23: 670000000793456 | D23: ⬛⬛⬛⬛⬛⬛⬛⬛ | E23: 维吾尔 | F23: ⬛⬛⬛⬛⬛⬛⬛⬛ | G23: 女 | H23: 新疆莎车县阿扎提巴格乡兰干村3组26号 | I23: 3组26号 | J23: =YEAR(TODAY())-MID(F23,7,4) -> #VALUE! | R23: =R22 -> 6396
B24: 22 | C24: 670000000793456 | D24: ⬛⬛⬛⬛⬛⬛⬛⬛ | E24: 维吾尔 | F24: ⬛⬛⬛⬛⬛⬛⬛⬛ | G24: 子 | H24: 新疆莎车县阿扎提巴格乡兰干村3组26号 | I24: 3组26号 | J24: =YEAR(TODAY())-MID(F24,7,4) -> #VALUE! | R24: =R23 -> 6396
B25: 23 | C25: 670000000793456 | D25: ⬛⬛⬛⬛⬛⬛⬛⬛ | E25: 维吾尔 | F25: ⬛⬛⬛⬛⬛⬛⬛⬛ | G25: 妻 | H25: 新疆莎车县阿扎提巴格乡兰干村3组26号 | I25: 3组26号 | J25: =YEAR(TODAY())-MID(F25,7,4) -> #VALUE! | O25: =VLOOKUP(F:F,[2]高血压!$F$1:$K$65536,6,0) -> #N/A | R25: =R24 -> 6396
B26: 24 | C26: 670000000793456 | D26: ⬛⬛⬛⬛⬛⬛⬛⬛ | E26: 维吾尔 | F26: ⬛⬛⬛⬛⬛⬛⬛⬛ | G26: 户主 | H26: 新疆莎车县阿扎提巴格乡兰干村3组26号 | I26: 3组26号 | J26: =YEAR(TODAY())-MID(F26,7,4) -> #VALUE! | R26: 7269
A27: =MAX($A$1:A25)+1 -> 7 | B27: 25 | C27: 670000000756232 | D27: ⬛⬛⬛⬛⬛⬛⬛⬛ | E27: 维吾尔 | F27: ⬛⬛⬛⬛⬛⬛⬛⬛ | G27: 妻 | H27: 新疆莎车县阿扎提巴格乡兰干村4组82号 | I27: 4组82号 | J27: =YEAR(TODAY())-MID(F27,7,4) -> #VALUE! | R27: =R26 -> 7269
B28: 26 | C28: 670000000756232 | D28: ⬛⬛⬛⬛⬛⬛⬛⬛ | E28: 维吾尔 | F28: ⬛⬛⬛⬛⬛⬛⬛⬛ | G28: 女 | H28: 新疆莎车县阿扎提巴格乡兰干村4组82号 | I28: 4组82号 | J28: =YEAR(TODAY())-MID(F28,7,4) -> #VALUE! | R28: =R27 -> 7269
B29: 27 | C29: 670000000756232 | D29: ⬛⬛⬛⬛⬛⬛⬛⬛ | E29: 维吾尔 | F29: ⬛⬛⬛⬛⬛⬛⬛⬛ | G29: 户主 | H29: 新疆莎车县阿扎提巴格乡兰干村4组82号 | I29: 4组82号 | J29: =YEAR(TODAY())-MID(F29,7,4) -> #VALUE! | Q29: =VLOOKUP(F:F,[1]Sheet2!$E:$M,9,0) -> #N/A | R29: 7269
A30: =MAX($A$1:A28)+1 -> 8 | B30: 28 | C30: 670000000756208 | D30: ⬛⬛⬛⬛⬛⬛⬛⬛ | E30: 维吾尔 | F30: ⬛⬛⬛⬛⬛⬛⬛⬛ | G30: 妻 | H30: 新疆莎车县阿扎提巴格乡兰干村4组81号 | I30: 4组81号 | J30: =YEAR(TODAY())-MID(F30,7,4) -> #VALUE! | Q30: =VLOOKUP(F:F,[1]Sheet2!$E:$M,9,0) -> #N/A | R30: 7593
B31: 29 | C31: 670000000756208 | D31: ⬛⬛⬛⬛⬛⬛⬛⬛ | E31: 维吾尔 | F31: ⬛⬛⬛⬛⬛⬛⬛⬛ | G31: 子 | H31: 新疆莎车县阿扎提巴格乡兰干村4组81号 | I31: 4组81号 | J31: =YEAR(TODAY())-MID(F31,7,4) -> #VALUE! | R31: 7593
B32: 30 | C32: 670000000756208 | D32: ⬛⬛⬛⬛⬛⬛⬛⬛ | E32: 维吾尔 | F32: ⬛⬛⬛⬛⬛⬛⬛⬛ | G32: 户主 | H32: 新疆莎车县阿扎提巴格乡兰干村4组81号 | I32: 4组81号 | J32: =YEAR(TODAY())-MID(F32,7,4) -> #VALUE! | Q32: =VLOOKUP(F:F,[1]Sheet2!$E:$M,9,0) -> #N/A | R32: 7593
B33: 31 | C33: 670000000756208 | D33: ⬛⬛⬛⬛⬛⬛⬛⬛ | E33: 维吾尔 | F33: ⬛⬛⬛⬛⬛⬛⬛⬛ | G33: 子 | H33: 新疆莎车县阿扎提巴格乡兰干村4组81号 | I33: 4组81号 | J33: =YEAR(TODAY())-MID(F33,7,4) -> #VALUE! | R33: =R32 -> 7593
A34: =MAX($A$1:A32)+1 -> 9 | B34: 32 | C34: 670000000756189 | D34: ⬛⬛⬛⬛⬛⬛⬛⬛ | E34: 维吾尔 | F34: ⬛⬛⬛⬛⬛⬛⬛⬛ | G34: 次子 | H34: 新疆莎车县阿扎提巴格乡兰干村4组80号 | I34: 4组80号 | J34: =YEAR(TODAY())-MID(F34,7,4) -> #VALUE! | L34: 是 | R34: =R33 -> 7593
B35: 33 | C35: 670000000756189 | D35: 阿布莱提·麦麦提 | E35: 维吾尔 | F35: 653125198601123819 | G35: 夫 | H35: 新疆莎车县阿扎提巴格乡兰干村4组80号 | I35: 4组80号 | J35: =YEAR(TODAY())-MID(F35,7,4) -> 36 | P35: 判刑 | R35: 10274
B36: 34 | C36: 670000000756189 | D36: ⬛⬛⬛⬛⬛⬛⬛⬛ | E36: 维吾尔 | F36: ⬛⬛⬛⬛⬛⬛⬛⬛ | G36: 户主 | H36: 新疆莎车县阿扎提巴格乡兰干村4组80号 | I36: 4组80号 | J36: =YEAR(TODAY())-MID(F36,7,4) -> #VALUE! | L36: 是 | R36: 5848
B37: 35 | C37: 670000000756189 | D37: ⬛⬛⬛⬛⬛⬛⬛⬛ | E37: 维吾尔 | F37: ⬛⬛⬛⬛⬛⬛⬛⬛ | G37: 子 | H37: 新疆莎车县阿扎提巴格乡兰干村4组80号 | I37: 4组80号 | J37: =YEAR(TODAY())-MID(F37,7,4) -> #VALUE! | L37: 是 | R37: =R36 -> 5848
A38: =MAX($A$1:A36)+1 -> 10 | B38: 36 | C38: 670000000710072 | D38: ⬛⬛⬛⬛⬛⬛⬛⬛ | E38: 维吾尔 | F38: ⬛⬛⬛⬛⬛⬛⬛⬛ | G38: 妻 | H38: 新疆莎车县阿扎提巴格乡兰干村3组92号 | I38: 3组92号 | J38: =YEAR(TODAY())-MID(F38,7,4) -> #VALUE! | Q38: =VLOOKUP(F:F,[1]Sheet2!$E:$M,9,0) -> #N/A | R38: =R37 -> 5848
B39: 37 | C39: 670000000710072 | D39: ⬛⬛⬛⬛⬛⬛⬛⬛ | E39: 维吾尔 | F39: ⬛⬛⬛⬛⬛⬛⬛⬛ | G39: 子 | H39: 新疆莎车县阿扎提巴格乡兰干村3组92号 | I39: 3组92号 | J39: =YEAR(TODAY())-MID(F39,7,4) -> #VALUE! | R39: =R38 -> 5848
B40: 38 | C40: 670000000710072 | D40: 图尔贡·图热普 | E40: 维吾尔 | F40: 653125199206203813 | G40: 户主 | H40: 新疆莎车县阿扎提巴格乡兰干村3组92号 | I40: 3组92号 | J40: =YEAR(TODAY())-MID(F40,7,4) -> 30 | P40: 教育转化 | R40: 7085
...

Sheet 贫困户
A1: 兰干（7）村贫困户台账（85户288人）
A2: 序号 | B2: 县(市、区、旗) | C2: 乡(镇) | D2: 行政村 | E2: 自然村 | F2: 户编号 | G2: 人编号 | H2: 姓名 | I2: 证件号码 | J2: 人数 | K2: 与户主关系 | L2: 民族 | M2: 文化程度 | N2: 在校生状况 | O2: 健康状况 | P2: 劳动技能 | Q2: 务工状况 | R2: 务工时间（月） | S2: 参加大病医疗 | T2: 脱贫属性 | U2: 脱贫年度 | V2: 贫困户属性 | W2: 致贫原因1 | X2: 危房户 | Y2: 是否解决安全饮用水 | Z2: 人均纯收入 | AA2: 联系电话 | AB2: 不在户籍 | AC2: 残疾情况 | AD2: 低保金 | AE2: 特困供养金 | AF2: 大病、慢病 | AG2: 备注
A3: 1 | B3: 莎车县 | C3: 阿扎特巴格镇 | D3: 兰干村 | E3: 7 | F3: 3101382428 | G3: 310003733007 | H3: ⬛⬛⬛⬛⬛⬛⬛⬛ | I3: ⬛⬛⬛⬛⬛⬛⬛⬛ | J3: 3 | K3: 户主 | L3: 维吾尔族 | M3: 文盲或半文盲 | O3: 健康 | P3: 无劳动力 | S3: 是 | T3: 未脱贫 | V3: 低保贫困户 | W3: 缺技术 | X3: 否 | Y3: 否 | Z3: 11014.33 | AA3: ⬛⬛⬛⬛⬛⬛⬛⬛ | AG3: 养殖
A4: 2 | B4: 莎车县 | C4: 阿扎特巴格镇 | D4: 兰干村 | E4: 7 | F4: 3101382428 | G4: 100000090468906 | H4: ⬛⬛⬛⬛⬛⬛⬛⬛ | I4: ⬛⬛⬛⬛⬛⬛⬛⬛ | J4: 3 | K4: 之子 | L4: 维吾尔族 | M4: 初中 | O4: 健康 | P4: 普通劳动力 | R4: 8 | S4: 是 | T4: 未脱贫 | V4: 低保贫困户 | W4: 缺技术 | X4: 否 | Y4: 否 | Z4: 11014.33 | AA4: ⬛⬛⬛⬛⬛⬛⬛⬛ | AG4: 操作工，新疆莎翔木业有限公司
A5: 3 | B5: 莎车县 | C5: 阿扎特巴格镇 | D5: 兰干村 | E5: 7 | F5: 3101382428 | G5: 100000090475839 | H5: 赛麦提·库迪斯 | I5: 653125199311063816 | J5: 3 | K5: 之子 | L5: 维吾尔族 | M5: 初中 | O5: 长期慢性病 | P5: 普通劳动力 | R5: 0 | S5: 是 | T5: 未脱贫 | V5: 低保贫困户 | W5: 缺技术 | X5: 否 | Y5: 否 | Z5: 11014.33 | AA5: ⬛⬛⬛⬛⬛⬛⬛⬛ | AG5: 判刑
A6: 4 | B6: 莎车县 | C6: 阿扎特巴格镇 | D6: 兰干村 | E6: 7 | F6: 3101387352 | G6: 310003735534 | H6: ⬛⬛⬛⬛⬛⬛⬛⬛ | I6: ⬛⬛⬛⬛⬛⬛⬛⬛ | J6: 3 | K6: 户主 | L6: 维吾尔族 | M6: 小学 | O6: 健康 | P6: 普通劳动力 | R6: 0 | S6: 是 | T6: 已脱贫（享受政策） | U6: 2018年底 | V6: 一般农户 | W6: 缺技术 | X6: 否 | Y6: 是 | Z6: 8130 | AA6: ⬛⬛⬛⬛⬛⬛⬛⬛ | AG6: 种地
A7: 5 | B7: 莎车县 | C7: 阿扎特巴格镇 | D7: 兰干村 | E7: 7 | F7: 3101387352 | G7: 310003735532 | H7: ⬛⬛⬛⬛⬛⬛⬛⬛ | I7: ⬛⬛⬛⬛⬛⬛⬛⬛ | J7: 3 | K7: 配偶 | L7: 维吾尔族 | M7: 小学 | O7: 长期慢性病 | P7: 普通劳动力 | R7: 10 | S7: 是 | T7: 已脱贫（享受政策） | U7: 2018年底 | V7: 一般农户 | W7: 缺技术 | X7: 否 | Y7: 是 | Z7: 8130 | AA7: ⬛⬛⬛⬛⬛⬛⬛⬛ | AG7: 操作工，新疆莎翔木业有限公司
A8: 6 | B8: 莎车县 | C8: 阿扎特巴格镇 | D8: 兰干村 | E8: 7 | F8: 3101387352 | G8: 310003735533 | H8: ⬛⬛⬛⬛⬛⬛⬛⬛ | I8: ⬛⬛⬛⬛⬛⬛⬛⬛ | J8: 3 | K8: 之子 | L8: 维吾尔族 | N8: 小学 | O8: 健康 | P8: 无劳动力 | R8: 0 | S8: 是 | T8: 已脱贫（享受政策） | U8: 2018年底 | V8: 一般农户 | W8: 缺技术 | X8: 否 | Y8: 是 | Z8: 8130 | AA8: ⬛⬛⬛⬛⬛⬛⬛⬛ | AG8: 在校学生
A9: 7 | B9: 莎车县 | C9: 阿扎特巴格镇 | D9: 兰干村 | E9: 7 | F9: 3101389833 | G9: 310003773285 | H9: ⬛⬛⬛⬛⬛⬛⬛⬛ | I9: ⬛⬛⬛⬛⬛⬛⬛⬛ | J9: 2 | K9: 户主 | L9: 维吾尔族 | M9: 文盲或半文盲 | O9: 长期慢性病 | P9: 无劳动力 | R9: 0 | S9: 是 | T9: 未脱贫 | V9: 低保贫困户 | W9: 因病 | X9: 否 | Y9: 是 | Z9: 3576 | AA9: ⬛⬛⬛⬛⬛⬛⬛⬛ | AG9: 有病，无劳动力
A10: 8 | B10: 莎车县 | C10: 阿扎特巴格镇 | D10: 兰干村 | E10: 7 | F10: 3101389833 | G10: 310003773288 | H10: ⬛⬛⬛⬛⬛⬛⬛⬛ | I10: ⬛⬛⬛⬛⬛⬛⬛⬛ | J10: 2 | K10: 配偶 | L10: 维吾尔族 | M10: 文盲或半文盲 | O10: 长期慢性病 | P10: 丧失劳动力 | R10: 0 | S10: 是 | T10: 未脱贫 | V10: 低保贫困户 | W10: 因病 | X10: 否 | Y10: 是 | Z10: 3576 | AA10: ⬛⬛⬛⬛⬛⬛⬛⬛ | AG10: 种地
A11: 9 | B11: 莎车县 | C11: 阿扎特巴格镇 | D11: 兰干村 | E11: 7 | F11: 3101393732 | G11: 310003811624 | H11: 麦麦提依明·伍守尔 | I11: 65312519690610381X | J11: 5 | K11: 户主 | L11: 维吾尔族 | M11: 小学 | O11: 健康 | P11: 普通劳动力 | R11: 6 | S11: 是 | T11: 未脱贫 | V11: 低保贫困户 | W11: 缺技术 | X11: 否 | Y11: 是 | Z11: 5246.4 | AA11: ⬛⬛⬛⬛⬛⬛⬛⬛ | AG11: 教育转化
A12: 10 | B12: 莎车县 | C12: 阿扎特巴格镇 | D12: 兰干村 | E12: 7 | F12: 3101393732 | G12: 310003811622 | H12: ⬛⬛⬛⬛⬛⬛⬛⬛ | I12: ⬛⬛⬛⬛⬛⬛⬛⬛ | J12: 5 | K12: 配偶 | L12: 维吾尔族 | M12: 小学 | O12: 健康 | P12: 普通劳动力 | R12: 6 | S12: 是 | T12: 未脱贫 | V12: 低保贫困户 | W12: 缺技术 | X12: 否 | Y12: 是 | Z12: 5246.4 | AA12: ⬛⬛⬛⬛⬛⬛⬛⬛ | AG12: 操作工，新疆莎翔木业有限公司
A13: 11 | B13: 莎车县 | C13: 阿扎特巴格镇 | D13: 兰干村 | E13: 7 | F13: 3101393732 | G13: 310003811620 | H13: ⬛⬛⬛⬛⬛⬛⬛⬛ | I13: ⬛⬛⬛⬛⬛⬛⬛⬛ | J13: 5 | K13: 之女 | L13: 维吾尔族 | N13: 普通高中一年级 | O13: 健康 | P13: 无劳动力 | R13: 0 | S13: 是 | T13: 未脱贫 | V13: 低保贫困户 | W13: 缺技术 | X13: 否 | Y13: 是 | Z13: 5246.4 | AA13: ⬛⬛⬛⬛⬛⬛⬛⬛ | AG13: 在校学生
A14: 12 | B14: 莎车县 | C14: 阿扎特巴格镇 | D14: 兰干村 | E14: 7 | F14: 3101393732 | G14: 310003811621 | H14: ⬛⬛⬛⬛⬛⬛⬛⬛ | I14: ⬛⬛⬛⬛⬛⬛⬛⬛ | J14: 5 | K14: 之女 | L14: 维吾尔族 | N14: 七年级 | O14: 健康 | P14: 无劳动力 | R14: 0 | S14: 是 | T14: 未脱贫 | V14: 低保贫困户 | W14: 缺技术 | X14: 否 | Y14: 是 | Z14: 5246.4 | AA14: ⬛⬛⬛⬛⬛⬛⬛⬛ | AG14: 在校学生
A15: 13 | B15: 莎车县 | C15: 阿扎特巴格镇 | D15: 兰干村 | E15: 7 | F15: 3101393732 | G15: 310003811623 | H15: ⬛⬛⬛⬛⬛⬛⬛⬛ | I15: ⬛⬛⬛⬛⬛⬛⬛⬛ | J15: 5 | K15: 之女 | L15: 维吾尔族 | N15: 小学 | O15: 健康 | P15: 无劳动力 | R15: 0 | S15: 是 | T15: 未脱贫 | V15: 低保贫困户 | W15: 缺技术 | X15: 否 | Y15: 是 | Z15: 5246.4 | AA15: ⬛⬛⬛⬛⬛⬛⬛⬛ | AG15: 在校学生
A16: 14 | B16: 莎车县 | C16: 阿扎特巴格镇 | D16: 兰干村 | E16: 7 | F16: 3101395428 | G16: 310003813713 | H16: ⬛⬛⬛⬛⬛⬛⬛⬛ | I16: ⬛⬛⬛⬛⬛⬛⬛⬛ | J16: 5 | K16: 户主 | L16: 维吾尔族 | M16: 初中 | O16: 健康 | P16: 普通劳动力 | R16: 12 | S16: 是 | T16: 已脱贫（享受政策） | U16: 2018年底 | V16: 低保户 | W16: 缺技术 | X16: 否 | Y16: 是 | Z16: 11088 | AA16: ⬛⬛⬛⬛⬛⬛⬛⬛ | AG16: 厨师，米夏镇
A17: 15 | B17: 莎车县 | C17: 阿扎特巴格镇 | D17: 兰干村 | E17: 7 | F17: 3101395428 | G17: 310003813714 | H17: ⬛⬛⬛⬛⬛⬛⬛⬛ | I17: ⬛⬛⬛⬛⬛⬛⬛⬛ | J17: 5 | K17: 之母 | L17: 维吾尔族 | M17: 文盲或半文盲 | O17: 长期慢性病 | P17: 弱劳动力或半劳动力 | R17: 0 | S17: 是 | T17: 已脱贫（享受政策） | U17: 2018年底 | V17: 低保户 | W17: 缺技术 | X17: 否 | Y17: 是 | Z17: 11088 | AA17: ⬛⬛⬛⬛⬛⬛⬛⬛ | AG17: 长期慢性病
A18: 16 | B18: 莎车县 | C18: 阿扎特巴格镇 | D18: 兰干村 | E18: 7 | F18: 3101395428 | G18: 5700000202150865 | H18: ⬛⬛⬛⬛⬛⬛⬛⬛ | I18: ⬛⬛⬛⬛⬛⬛⬛⬛ | J18: 5 | K18: 之兄弟姐妹 | L18: 维吾尔族 | M18: 初中 | O18: 健康 | P18: 普通劳动力 | R18: 9 | S18: 是 | T18: 已脱贫（享受政策） | U18: 2018年底 | V18: 低保户 | W18: 缺技术 | X18: 否 | Y18: 是 | Z18: 11088 | AA18: ⬛⬛⬛⬛⬛⬛⬛⬛ | AG18: 种地
A19: 17 | B19: 莎车县 | C19: 阿扎特巴格镇 | D19: 兰干村 | E19: 7 | F19: 3101395428 | G19: 5700000202156855 | H19: ⬛⬛⬛⬛⬛⬛⬛⬛ | I19: ⬛⬛⬛⬛⬛⬛⬛⬛ | J19: 5 | K19: 其他 | L19: 维吾尔族 | N19: 学前教育 | O19: 健康 | P19: 无劳动力 | R19: 0 | S19: 是 | T19: 已脱贫（享受政策） | U19: 2018年底 | V19: 低保户 | W19: 缺技术 | X19: 否 | Y19: 是 | Z19: 11088 | AA19: ⬛⬛⬛⬛⬛⬛⬛⬛ | AG19: 在校学生
A20: 18 | B20: 莎车县 | C20: 阿扎特巴格镇 | D20: 兰干村 | E20: 7 | F20: 3101395428 | G20: 5700000202160906 | H20: ⬛⬛⬛⬛⬛⬛⬛⬛ | I20: ⬛⬛⬛⬛⬛⬛⬛⬛ | J20: 5 | K20: 其他 | L20: 维吾尔族 | N20: 小学 | O20: 健康 | P20: 无劳动力 | R20: 0 | S20: 是 | T20: 已脱贫（享受政策） | U20: 2018年底 | V20: 低保户 | W20: 缺技术 | X20: 否 | Y20: 是 | Z20: 11088 | AA20: ⬛⬛⬛⬛⬛⬛⬛⬛ | AG20: 在校学生
A21: 19 | B21: 莎车县 | C21: 阿扎特巴格镇 | D21: 兰干村 | E21: 7 | F21: 3101396130 | G21: 5700000211072029 | H21: 图尔贡·扎克尔 | I21: 653125198405053817 | J21: 3 | K21: 户主 | L21: 维吾尔族 | M21: 初中 | O21: 健康 | P21: 普通劳动力 | S21: 是 | T21: 已脱贫（享受政策） | U21: 2014年底 | V21: 低保户 | W21: 因残 | X21: 否 | Y21: 是 | Z21: 7257.33 | AA21: ⬛⬛⬛⬛⬛⬛⬛⬛ | AG21: 教育转化
A22: 20 | B22: 莎车县 | C22: 阿扎特巴格镇 | D22: 兰干村 | E22: 7 | F22: 3101396130 | G22: 5700000211192029 | H22: 图尔艾拉·依迪力斯 | I22: 65312519910313382444 | J22: 3 | K22: 配偶 | L22: 维吾尔族 | M22: 初中 | O22: 残疾 | P22: 弱劳动力或半劳动力 | S22: 是 | T22: 已脱贫（享受政策） | U22: 2014年底 | V22: 低保户 | W22: 因残 | X22: 否 | Y22: 是 | Z22: 7257.33 | AA22: ⬛⬛⬛⬛⬛⬛⬛⬛ | AG22: 教育转化，担保
A23: 21 | B23: 莎车县 | C23: 阿扎特巴格镇 | D23: 兰干村 | E23: 7 | F23: 3101396130 | G23: 5700000211211319 | H23: ⬛⬛⬛⬛⬛⬛⬛⬛ | I23: ⬛⬛⬛⬛⬛⬛⬛⬛ | J23: 3 | K23: 之子 | L23: 维吾尔族 | N23: 小学 | O23: 健康 | P23: 无劳动力 | S23: 是 | T23: 已脱贫（享受政策） | U23: 2014年底 | V23: 低保户 | W23: 因残 | X23: 否 | Y23: 是 | Z23: 7257.33 | AA23: ⬛⬛⬛⬛⬛⬛⬛⬛ | AG23: 无劳动力
A24: 22 | B24: 莎车县 | C24: 阿扎特巴格镇 | D24: 兰干村 | E24: 7 | F24: 3101397972 | G24: 310003828992 | H24: ⬛⬛⬛⬛⬛⬛⬛⬛ | I24: ⬛⬛⬛⬛⬛⬛⬛⬛ | J24: 2 | K24: 户主 | L24: 维吾尔族 | M24: 文盲或半文盲 | O24: 长期慢性病 | P24: 无劳动力 | R24: 0 | S24: 是 | T24: 未脱贫 | V24: 低保贫困户 | W24: 因病 | X24: 否 | Y24: 否 | Z24: 2932 | AA24: ⬛⬛⬛⬛⬛⬛⬛⬛ | AG24: 无劳动力
A25: 23 | B25: 莎车县 | C25: 阿扎特巴格镇 | D25: 兰干村 | E25: 7 | F25: 3101397972 | G25: 5700000148148975 | H25: 阿瓦·艾散 | I25: 653125195003113828 | J25: 2 | K25: 配偶 | L25: 维吾尔族 | M25: 小学 | O25: 长期慢性病 | P25: 无劳动力 | S25: 是 | T25: 未脱贫 | V25: 低保贫困户 | W25: 因病 | X25: 否 | Y25: 否 | Z25: 2932 | AA25: ⬛⬛⬛⬛⬛⬛⬛⬛ | AG25: 判刑
A26: 24 | B26: 莎车县 | C26: 阿扎特巴格镇 | D26: 兰干村 | E26: 7 | F26: 3101521236 | G26: 5700000148144515 | H26: ⬛⬛⬛⬛⬛⬛⬛⬛ | I26: ⬛⬛⬛⬛⬛⬛⬛⬛ | J26: 3 | K26: 户主 | L26: 维吾尔族 | M26: 小学 | O26: 残疾 | P26: 丧失劳动力 | R26: 0 | S26: 是 | T26: 已脱贫（享受政策） | U26: 2014年底 | V26: 低保户 | W26: 因残 | X26: 否 | Y26: 是 | Z26: 5627.67 | AA26: ⬛⬛⬛⬛⬛⬛⬛⬛ | AG26: 残疾
A27: 25 | B27: 莎车县 | C27: 阿扎特巴格镇 | D27: 兰干村 | E27: 7 | F27: 3101521236 | G27: 5700000148141427 | H27: ⬛⬛⬛⬛⬛⬛⬛⬛ | I27: ⬛⬛⬛⬛⬛⬛⬛⬛ | J27: 3 | K27: 配偶 | L27: 维吾尔族 | M27: 小学 | O27: 长期慢性病 | P27: 丧失劳动力 | S27: 是 | T27: 已脱贫（享受政策） | U27: 2014年底 | V27: 低保户 | W27: 因残 | X27: 否 | Y27: 是 | Z27: 5627.67 | AA27: ⬛⬛⬛⬛⬛⬛⬛⬛ | AG27: 长期慢性病
A28: 26 | B28: 莎车县 | C28: 阿扎特巴格镇 | D28: 兰干村 | E28: 7 | F28: 3101521236 | G28: 310004315496 | H28: ⬛⬛⬛⬛⬛⬛⬛⬛ | I28: ⬛⬛⬛⬛⬛⬛⬛⬛ | J28: 3 | K28: 之女 | L28: 维吾尔族 | M28: 初中 | O28: 健康 | P28: 普通劳动力 | R28: 3 | S28: 是 | T28: 已脱贫（享受政策） | U28: 2014年底 | V28: 低保户 | W28: 因残 | X28: 否 | Y28: 是 | Z28: 5627.67 | AA28: ⬛⬛⬛⬛⬛⬛⬛⬛ | AG28: 流动超市
A29: 27 | B29: 莎车县 | C29: 阿扎特巴格镇 | D29: 兰干村 | E29: 7 | F29: 3101521769 | G29: 310004293005 | H29: ⬛⬛⬛⬛⬛⬛⬛⬛ | I29: ⬛⬛⬛⬛⬛⬛⬛⬛ | J29: 2 | K29: 户主 | L29: 维吾尔族 | M29: 文盲或半文盲 | O29: 患有大病 | P29: 丧失劳动力 | R29: 0 | S29: 是 | T29: 未脱贫 | V29: 低保贫困户 | W29: 因病 | X29: 否 | Y29: 是 | Z29: 8620 | AA29: ⬛⬛⬛⬛⬛⬛⬛⬛ | AG29: 无劳动力
A30: 28 | B30: 莎车县 | C30: 阿扎特巴格镇 | D30: 兰干村 | E30: 7 | F30: 3101521769 | G30: 310004293006 | H30: ⬛⬛⬛⬛⬛⬛⬛⬛ | I30: ⬛⬛⬛⬛⬛⬛⬛⬛ | J30: 2 | K30: 之孙女 | L30: 维吾尔族 | N30: 高职高专一年级 | O30: 健康 | P30: 无劳动力 | R30: 0 | S30: 是 | T30: 未脱贫 | V30: 低保贫困户 | W30: 因病 | X30: 否 | Y30: 是 | Z30: 8620 | AA30: ⬛⬛⬛⬛⬛⬛⬛⬛ | AG30: 在校学生
A31: 29 | B31: 莎车县 | C31: 阿扎特巴格镇 | D31: 兰干村 | E31: 7 | F31: 3101522769 | G31: 310004253579 | H31: ⬛⬛⬛⬛⬛⬛⬛⬛ | I31: ⬛⬛⬛⬛⬛⬛⬛⬛ | J31: 5 | K31: 户主 | L31: 维吾尔族 | M31: 小学 | O31: 健康 | P31: 普通劳动力 | R31: 0 | S31: 是 | T31: 未脱贫 | V31: 一般贫困户 | W31: 缺技术 | X31: 否 | Y31: 是 | Z31: 4390 | AA31: ⬛⬛⬛⬛⬛⬛⬛⬛ | AG31: 种地
A32: 30 | B32: 莎车县 | C32: 阿扎特巴格镇 | D32: 兰干村 | E32: 7 | F32: 3101522769 | G32: 5700000202261512 | H32: 萨塔尔·伍斯曼 | I32: 65312519660227381X | J32: 5 | K32: 配偶 | L32: 维吾尔族 | M32: 小学 | O32: 健康 | P32: 普通劳动力 | R32: 0 | S32: 是 | T32: 未脱贫 | V32: 一般贫困户 | W32: 缺技术 | X32: 否 | Y32: 是 | Z32: 4390 | AA32: ⬛⬛⬛⬛⬛⬛⬛⬛ | AG32: 判刑
A33: 31 | B33: 莎车县 | C33: 阿扎特巴格镇 | D33: 兰干村 | E33: 7 | F33: 3101522769 | G33: 310004253578 | H33: ⬛⬛⬛⬛⬛⬛⬛⬛ | I33: ⬛⬛⬛⬛⬛⬛⬛⬛ | J33: 5 | K33: 之女 | L33: 维吾尔族 | M33: 初中 | O33: 健康 | P33: 普通劳动力 | R33: 9 | S33: 是 | T33: 未脱贫 | V33: 一般贫困户 | W33: 缺技术 | X33: 否 | Y33: 是 | Z33: 4390 | AA33: ⬛⬛⬛⬛⬛⬛⬛⬛ | AG33: 莎车县，新疆莎翔木业有限公司
A34: 32 | B34: 莎车县 | C34: 阿扎特巴格镇 | D34: 兰干村 | E34: 7 | F34: 3101522769 | G34: 100000090629305 | H34: ⬛⬛⬛⬛⬛⬛⬛⬛ | I34: ⬛⬛⬛⬛⬛⬛⬛⬛ | J34: 5 | K34: 之女 | L34: 维吾尔族 | N34: 普通高中一年级 | O34: 健康 | P34: 无劳动力 | S34: 是 | T34: 未脱贫 | V34: 一般贫困户 | W34: 缺技术 | X34: 否 | Y34: 是 | Z34: 4390 | AA34: ⬛⬛⬛⬛⬛⬛⬛⬛ | AG34: 在校学生
A35: 33 | B35: 莎车县 | C35: 阿扎特巴格镇 | D35: 兰干村 | E35: 7 | F35: 3101522769 | G35: 5700000147994911 | H35: ⬛⬛⬛⬛⬛⬛⬛⬛ | I35: ⬛⬛⬛⬛⬛⬛⬛⬛ | J35: 5 | K35: 之外孙子 | L35: 维吾尔族 | N35: 学前教育 | O35: 残疾 | P35: 无劳动力 | S35: 是 | T35: 未脱贫 | V35: 一般贫困户 | W35: 缺技术 | X35: 否 | Y35: 是 | Z35: 4390 | AA35: ⬛⬛⬛⬛⬛⬛⬛⬛ | AG35: 在校学生
A36: 34 | B36: 莎车县 | C36: 阿扎特巴格镇 | D36: 兰干村 | E36: 7 | F36: 3101529650 | G36: 310004261474 | H36: ⬛⬛⬛⬛⬛⬛⬛⬛ | I36: ⬛⬛⬛⬛⬛⬛⬛⬛ | J36: 4 | K36: 户主 | L36: 维吾尔族 | M36: 初中 | O36: 健康 | P36: 普通劳动力 | R36: 0 | S36: 是 | T36: 未脱贫 | V36: 低保贫困户 | W36: 缺技术 | X36: 否 | Y36: 否 | Z36: 6552.75 | AA36: ⬛⬛⬛⬛⬛⬛⬛⬛ | AG36: 种地
A37: 35 | B37: 莎车县 | C37: 阿扎特巴格镇 | D37: 兰干村 | E37: 7 | F37: 3101529650 | G37: 310004261473 | H37: ⬛⬛⬛⬛⬛⬛⬛⬛ | I37: ⬛⬛⬛⬛⬛⬛⬛⬛ | J37: 4 | K37: 配偶 | L37: 维吾尔族 | M37: 小学 | O37: 长期慢性病 | P37: 弱劳动力或半劳动力 | R37: 0 | S37: 是 | T37: 未脱贫 | V37: 低保贫困户 | W37: 缺技术 | X37: 否 | Y37: 否 | Z37: 6552.75 | AA37: ⬛⬛⬛⬛⬛⬛⬛⬛ | AG37: 长期慢性病
A38: 36 | B38: 莎车县 | C38: 阿扎特巴格镇 | D38: 兰干村 | E38: 7 | F38: 3101529650 | G38: 310004261470 | H38: ⬛⬛⬛⬛⬛⬛⬛⬛ | I38: ⬛⬛⬛⬛⬛⬛⬛⬛ | J38: 4 | K38: 之子 | L38: 维吾尔族 | M38: 初中 | O38: 健康 | P38: 普通劳动力 | R38: 12 | S38: 是 | T38: 未脱贫 | V38: 低保贫困户 | W38: 缺技术 | X38: 否 | Y38: 否 | Z38: 6552.75 | AA38: ⬛⬛⬛⬛⬛⬛⬛⬛ | AG38: 协警，莎车县
A39: 37 | B39: 莎车县 | C39: 阿扎特巴格镇 | D39: 兰干村 | E39: 7 | F39: 3101529650 | G39: 310004261472 | H39: ⬛⬛⬛⬛⬛⬛⬛⬛ | I39: ⬛⬛⬛⬛⬛⬛⬛⬛ | J39: 4 | K39: 之孙女 | L39: 维吾尔族 | N39: 小学 | O39: 健康 | P39: 无劳动力 | R39: 0 | S39: 是 | T39: 未脱贫 | V39: 低保贫困户 | W39: 缺技术 | X39: 否 | Y39: 否 | Z39: 6552.75 | AA39: ⬛⬛⬛⬛⬛⬛⬛⬛ | AG39: 在校学生
A40: 38 | B40: 莎车县 | C40: 阿扎特巴格镇 | D40: 兰干村 | E40: 7 | F40: 3101531526 | G40: 310004288017 | H40: ⬛⬛⬛⬛⬛⬛⬛⬛ | I40: ⬛⬛⬛⬛⬛⬛⬛⬛ | J40: 1 | K40: 户主 | L40: 维吾尔族 | M40: 文盲或半文盲 | O40: 长期慢性病 | P40: 无劳动力 | R40: 0 | S40: 是 | T40: 未脱贫 | V40: 低保贫困户 | W40: 因病 | X40: 否 | Y40: 否 | Z40: 5628 | AA40: ⬛⬛⬛⬛⬛⬛⬛⬛ | AG40: 无劳动力
...

Sheet Sheet1
A1: 序号 | B1: 与户主关系 | C1: 姓名 | D1: 文化程度 | E1: 性别 | F1: 户籍地址 | H1: 户号 | I1: 公民身份号码 | J1: 出生日期 | K1: 备注
A2: 1 | B2: 户主 | C2: ⬛⬛⬛⬛⬛⬛⬛⬛ | D2: 小学 | E2: 男 | F2: 阿扎提巴格乡兰干村1组9号 | H2: 653100000094211 | I2: ⬛⬛⬛⬛⬛⬛⬛⬛ | J2: 33376 | K2: 9957
A3: 2 | B3: 户主 | C3: ⬛⬛⬛⬛⬛⬛⬛⬛ | D3: 初中 | E3: 男 | F3: 阿扎提巴格乡兰干村1组9号 | H3: 653125719000379 | I3: ⬛⬛⬛⬛⬛⬛⬛⬛ | J3: 33317 | K3: 9196
A4: 3 | B4: 户主 | C4: ⬛⬛⬛⬛⬛⬛⬛⬛ | D4: 小学毕业 | E4: 男 | F4: 阿扎提巴格乡兰干村1组98号 | H4: 653100001271591 | I4: ⬛⬛⬛⬛⬛⬛⬛⬛ | J4: 18519 | K4: 6532
A5: 4 | B5: 户主 | C5: ⬛⬛⬛⬛⬛⬛⬛⬛ | D5: 小学毕业 | E5: 男 | F5: 阿扎提巴格乡兰干村1组8号 | H5: 653125719000376 | I5: ⬛⬛⬛⬛⬛⬛⬛⬛ | J5: 18449 | K5: 7562
A6: 5 | B6: 户主 | C6: ⬛⬛⬛⬛⬛⬛⬛⬛ | D6: 高中毕业 | E6: 男 | F6: 阿扎提巴格乡兰干村1组86号 | H6: 653100000111156 | I6: ⬛⬛⬛⬛⬛⬛⬛⬛ | J6: 31641 | K6: 6586
A7: 6 | B7: 户主 | C7: ⬛⬛⬛⬛⬛⬛⬛⬛ | D7: 初中 | E7: 男 | F7: 阿扎提巴格乡兰干村1组7号 | H7: 653125719002740 | I7: ⬛⬛⬛⬛⬛⬛⬛⬛ | J7: 29645 | K7: 5010
A8: 7 | B8: 户主 | C8: ⬛⬛⬛⬛⬛⬛⬛⬛ | D8: 初中毕业 | E8: 男 | F8: 阿扎提巴格乡兰干村1组73号 | H8: 653100001976492 | I8: ⬛⬛⬛⬛⬛⬛⬛⬛ | J8: 25632 | K8: 5654
A9: 8 | B9: 户主 | C9: ⬛⬛⬛⬛⬛⬛⬛⬛ | D9: 初中毕业 | E9: 男 | F9: 阿扎提巴格乡兰干村1组71号 | H9: 653100002205972 | I9: ⬛⬛⬛⬛⬛⬛⬛⬛ | J9: 21412 | K9: 16810
A10: 9 | B10: 户主 | C10: ⬛⬛⬛⬛⬛⬛⬛⬛ | D10: 初中毕业 | E10: 男 | F10: 阿扎提巴格乡兰干村1组70号 | H10: 653100002205719 | I10: ⬛⬛⬛⬛⬛⬛⬛⬛ | J10: 31254 | K10: 12000
A11: 10 | B11: 户主 | C11: ⬛⬛⬛⬛⬛⬛⬛⬛ | D11: 小学 | E11: 男 | F11: 阿扎提巴格乡兰干村1组70号 | H11: 653100001702450 | I11: ⬛⬛⬛⬛⬛⬛⬛⬛ | J11: 34038 | K11: 5000
A12: 11 | B12: 户主 | C12: ⬛⬛⬛⬛⬛⬛⬛⬛ | D12: 小学毕业 | E12: 女 | F12: 阿扎提巴格乡兰干村1组6号 | H12: 653125719000400 | I12: ⬛⬛⬛⬛⬛⬛⬛⬛ | J12: 25996 | K12: 9623
A13: 12 | B13: 户主 | C13: ⬛⬛⬛⬛⬛⬛⬛⬛ | D13: 小学 | E13: 男 | F13: 阿扎提巴格乡兰干村1组6号 | H13: 653125719000537 | I13: ⬛⬛⬛⬛⬛⬛⬛⬛ | J13: 19670 | K13: 4794
... A69: 68 | B69: 户主 | C69: ⬛⬛⬛⬛⬛⬛⬛⬛ | D69: 高中 | E69: 男 | F69: 阿扎提巴格乡兰干村1组 | H69: 653125719003580 | I69: ⬛⬛⬛⬛⬛⬛⬛⬛ | J69: 27687 | K69: 16439
A70: 69 | B70: 户主 | C70: ⬛⬛⬛⬛⬛⬛⬛⬛ | D70: 初中毕业 | E70: 男 | F70: 阿扎提巴格乡兰干村2组81号 | G70: 阿扎提巴格乡兰干村2组 | H70: 653125719000426 | I70: ⬛⬛⬛⬛⬛⬛⬛⬛ | J70: 26671 | K70: 7667
A71: 70 | B71: 户主 | C71: ⬛⬛⬛⬛⬛⬛⬛⬛ | D71: 初中 | E71: 男 | F71: 阿扎提巴格乡兰干村2组78号 | G71: 阿扎提巴格乡兰干村2组 | H71: 653125719000416 | I71: ⬛⬛⬛⬛⬛⬛⬛⬛ | J71: 32535 | K71: 7669
A72: 71 | B72: 户主 | C72: ⬛⬛⬛⬛⬛⬛⬛⬛ | D72: 小学 | E72: 男 | F72: 阿扎提巴格乡兰干村2组78号 | G72: 阿扎提巴格乡兰干村2组 | H72: 653125719000419 | I72: ⬛⬛⬛⬛⬛⬛⬛⬛ | J72: 32924 | K72: 6886
A73: 72 | B73: 户主 | C73: ⬛⬛⬛⬛⬛⬛⬛⬛ | D73: 小学 | E73: 男 | F73: 阿扎提巴格乡兰干村2组76号 | G73: 阿扎提巴格乡兰干村2组 | H73: 653125719000417 | I73: ⬛⬛⬛⬛⬛⬛⬛⬛ | J73: 9622 | K73: 9685
A74: 73 | B74: 户主 | C74: ⬛⬛⬛⬛⬛⬛⬛⬛ | D74: 初中毕业 | E74: 男 | F74: 阿扎提巴格乡兰干村2组75号 | G74: 阿扎提巴格乡兰干村2组 | H74: 653125719000467 | I74: ⬛⬛⬛⬛⬛⬛⬛⬛ | J74: 30807 | K74: 10236
A75: 74 | B75: 户主 | C75: ⬛⬛⬛⬛⬛⬛⬛⬛ | D75: 初中 | E75: 男 | F75: 阿扎提巴格乡兰干村2组75号 | G75: 阿扎提巴格乡兰干村2组 | H75: 653100000109131 | I75: ⬛⬛⬛⬛⬛⬛⬛⬛ | J75: 29289 | K75: 9863
A76: 75 | B76: 户主 | C76: ⬛⬛⬛⬛⬛⬛⬛⬛ | D76: 小学 | E76: 男 | F76: 阿扎提巴格乡兰干村2组74号 | G76: 阿扎提巴格乡兰干村2组 | H76: 653125719000435 | I76: ⬛⬛⬛⬛⬛⬛⬛⬛ | J76: 25734 | K76: 13342
A77: 76 | B77: 户主 | C77: ⬛⬛⬛⬛⬛⬛⬛⬛ | D77: 初中毕业 | E77: 男 | F77: 阿扎提巴格乡兰干村2组74号 | G77: 阿扎提巴格乡兰干村2组 | H77: 653125719000454 | I77: ⬛⬛⬛⬛⬛⬛⬛⬛ | J77: 31401 | K77: 4750
A78: 77 | B78: 户主 | C78: ⬛⬛⬛⬛⬛⬛⬛⬛ | D78: 小学 | E78: 男 | F78: 阿扎提巴格乡兰干村2组73号 | G78: 阿扎提巴格乡兰干村2组 | H78: 653125719000428 | I78: ⬛⬛⬛⬛⬛⬛⬛⬛ | J78: 20321 | K78: 9324
A79: 78 | B79: 户主 | C79: ⬛⬛⬛⬛⬛⬛⬛⬛ | D79: 初中 | E79: 女 | F79: 阿扎提巴格乡兰干村2组72号 | G79: 阿扎提巴格乡兰干村2组 | H79: 653100001354972 | I79: ⬛⬛⬛⬛⬛⬛⬛⬛ | J79: 28686 | K79: 8532
A80: 79 | B80: 户主 | C80: ⬛⬛⬛⬛⬛⬛⬛⬛ | D80: 初中毕业 | E80: 男 | F80: 阿扎提巴格乡兰干村2组72号 | G80: 阿扎提巴格乡兰干村2组 | H80: 653125719000420 | I80: ⬛⬛⬛⬛⬛⬛⬛⬛ | J80: 25604 | K80: 8142
A81: 80 | B81: 户主 | C81: ⬛⬛⬛⬛⬛⬛⬛⬛ | D81: 高中毕业 | E81: 男 | F81: 阿扎提巴格乡兰干村2组71号 | G81: 阿扎提巴格乡兰干村2组 | H81: 653125719000452 | I81: ⬛⬛⬛⬛⬛⬛⬛⬛ | J81: 23500 | K81: 6586
... A136: 135 | B136: 户主 | C136: ⬛⬛⬛⬛⬛⬛⬛⬛ | D136: 初中 | E136: 男 | F136: 阿扎提巴格乡兰干村3组85号 | G136: 阿扎提巴格乡兰干村3组 | H136: 653125719000460 | I136: ⬛⬛⬛⬛⬛⬛⬛⬛ | J136: 21464 | K136: 9423
A137: 136 | B137: 户主 | C137: ⬛⬛⬛⬛⬛⬛⬛⬛ | E137: 男 | F137: 阿扎提巴格乡兰干村3组84号 | G137: 阿扎提巴格乡兰干村3组 | H137: 653125719000445 | I137: ⬛⬛⬛⬛⬛⬛⬛⬛ | J137: 13882 | K137: 8423
A138: 137 | B138: 户主 | C138: ⬛⬛⬛⬛⬛⬛⬛⬛ | D138: 初中 | E138: 男 | F138: 阿扎提巴格乡兰干村3组77号 | G138: 阿扎提巴格乡兰干村3组 | H138: 670000000680635 | I138: ⬛⬛⬛⬛⬛⬛⬛⬛ | J138: 33823 | K138: 8214
A139: 138 | B139: 户主 | C139: ⬛⬛⬛⬛⬛⬛⬛⬛ | D139: 初中毕业 | E139: 男 | F139: 阿扎提巴格乡兰干村3组69号 | G139: 阿扎提巴格乡兰干村3组 | H139: 670000000105155 | I139: ⬛⬛⬛⬛⬛⬛⬛⬛ | J139: 31364 | K139: 4650
A140: 139 | B140: 户主 | C140: ⬛⬛⬛⬛⬛⬛⬛⬛ | D140: 初中 | E140: 男 | F140: 阿扎提巴格乡兰干村3组61号 | G140: 阿扎提巴格乡兰干村3组 | H140: 653100000095770 | I140: ⬛⬛⬛⬛⬛⬛⬛⬛ | J140: 32578 | K140: 8442
A141: 140 | B141: 户主 | C141: ⬛⬛⬛⬛⬛⬛⬛⬛ | D141: 初中 | E141: 男 | F141: 阿扎提巴格乡兰干村3组60号 | G141: 阿扎提巴格乡兰干村3组 | H141: 653100000099349 | I141: ⬛⬛⬛⬛⬛⬛⬛⬛ | J141: 33126 | K141: 8439
A142: 141 | B142: 户主 | C142: ⬛⬛⬛⬛⬛⬛⬛⬛ | D142: 初中 | E142: 男 | F142: 阿扎提巴格乡兰干村3组59号 | G142: 阿扎提巴格乡兰干村3组 | H142: 653100000099333 | I142: ⬛⬛⬛⬛⬛⬛⬛⬛ | J142: 31207 | K142: 9710
A143: 142 | B143: 户主 | C143: ⬛⬛⬛⬛⬛⬛⬛⬛ | D143: 小学 | E143: 男 | F143: 阿扎提巴格乡兰干村3组57号 | G143: 阿扎提巴格乡兰干村3组 | H143: 653100000872975 | I143: ⬛⬛⬛⬛⬛⬛⬛⬛ | J143: 33299 | K143: 5602
A144: 143 | B144: 户主 | C144: ⬛⬛⬛⬛⬛⬛⬛⬛ | D144: 初中 | E144: 男 | F144: 阿扎提巴格乡兰干村3组55号 | G144: 阿扎提巴格乡兰干村3组 | H144: 653100000843389 | I144: ⬛⬛⬛⬛⬛⬛⬛⬛ | J144: 33679 | K144: 8371
A145: 144 | B145: 户主 | C145: ⬛⬛⬛⬛⬛⬛⬛⬛ | D145: 初中毕业 | E145: 男 | F145: 阿扎提巴格乡兰干村3组51号 | G145: 阿扎提巴格乡兰干村3组 | H145: 653125719003910 | I145: ⬛⬛⬛⬛⬛⬛⬛⬛ | J145: 31058 | K145: 9763
A146: 145 | B146: 户主 | C146: ⬛⬛⬛⬛⬛⬛⬛⬛ | D146: 初中 | E146: 男 | F146: 阿扎提巴格乡兰干村3组51号 | G146: 阿扎提巴格乡兰干村3组 | H146: 653100000095826 | I146: ⬛⬛⬛⬛⬛⬛⬛⬛ | J146: 32559 | K146: 7860
A147: 146 | B147: 户主 | C147: ⬛⬛⬛⬛⬛⬛⬛⬛ | D147: 初中 | E147: 女 | F147: 阿扎提巴格乡兰干村3组50号 | G147: 阿扎提巴格乡兰干村3组 | H147: 653100000078003 | I147: ⬛⬛⬛⬛⬛⬛⬛⬛ | J147: 28187 | K147: 9823
A148: 147 | B148: 户主 | C148: ⬛⬛⬛⬛⬛⬛⬛⬛ | D148: 小学 | E148: 男 | F148: 阿扎提巴格乡兰干村3组4号 | G148: 阿扎提巴格乡兰干村3组 | H148: 653125719000487 | I148: ⬛⬛⬛⬛⬛⬛⬛⬛ | J148: 23504 | K148: 4614
A149: 148 | B149: 户主 | C149: ⬛⬛⬛⬛⬛⬛⬛⬛ | D149: 小学毕业 | E149: 女 | F149: 阿扎提巴格乡兰干村3组49号 | G149: 阿扎提巴格乡兰干村3组 | H149: 653100002210431 | I149: ⬛⬛⬛⬛⬛⬛⬛⬛ | J149: 21648 | K149: 7560
...
