Workbook

Sheet 资金明细
A1: 师宗县2021年三季度脱贫劳动力乡村公益性岗位资金明细表
A2: 序号 | B2: 姓名 | C2: 性别 | D2: 年龄 | E2: 居民身份证号 | F2: 建档立卡贫困户编号 | G2: 乡、镇（街道） | H2: 家庭所在村委会 | I2: 联系电话 | J2: 贫困人员类别 | K2: 岗位名称 | L2: 补贴期限 | M2: 补贴标准 | N2: 补贴金额 | O2: 备注
A3: 1 | B3: 窦友忠 | C3: 男 | D3: 56 | E3: 532227196412281130 | F3: 85300001708620 | G3: 漾月街道 | H3: 法块社区 | I3: 15187975718 | J3: 农村有重病患者家庭劳动力 | K3: 保洁员 | L3: 2021年7-9月 | M3: 500元/人/月 | N3: 1500
A4: 2 | B4: 朱永林 | C4: 男 | D4: 40 | E4: 53222719810408111X | F4: 85300000678875 | G4: 漾月街道 | H4: 法块社区 | I4: 19912968997 | J4: 农村残疾家庭劳动力 | K4: 保洁员 | L4: 2021年7-9月 | M4: 500元/人/月 | N4: 1500
A5: 3 | B5: 王陶先 | C5: 男 | D5: 49 | E5: 53222719710511111X | F5: 85300001402603 | G5: 漾月街道 | H5: 法块社区 | I5: 15188143534 | J5: 农村大龄贫困劳动力 | K5: 保洁员 | L5: 2021年7-9月 | M5: 500元/人/月 | N5: 1500
A6: 4 | B6: 张田能 | C6: 男 | D6: 45 | E6: 532527197507102933 | F6: 5500000143108162 | G6: 漾月街道 | H6: 法块社区 | I6: 15911931325 | J6: 农村残疾家庭劳动力 | K6: 保洁员 | L6: 2021年7-9月 | M6: 500元/人/月 | N6: 1500
A7: 5 | B7: 梁国琼 | C7: 女 | D7: 31 | E7: 530323199002200061 | F7: 85300001068455 | G7: 漾月街道 | H7: 法块社区 | I7: 15288075886 | J7: 一般贫困户 | K7: 保洁员 | L7: 2021年7-9月 | M7: 500元/人/月 | N7: 1500
A8: 6 | B8: 侯老四 | C8: 男 | D8: 59 | E8: 532227196201251118 | F8: 85300000040654 | G8: 漾月街道 | H8: 法块社区 | I8: 18388360275 | J8: 一般贫困户 | K8: 保洁员 | L8: 2021年7-9月 | M8: 500元/人/月 | N8: 1500
A9: 7 | B9: 聂国良 | C9: 男 | D9: 50 | E9: 532227197009020314 | F9: 853000001482527 | G9: 漾月街道 | H9: 法雨社区 | I9: 18787414087 | J9: 农村残疾家庭劳动力 | K9: 保洁员 | L9: 2021年7-9月 | M9: 500元/人/月 | N9: 1500
A10: 8 | B10: 殷海发 | C10: 男 | D10: 49 | E10: 532227197201180334 | F10: 85300000101472 | G10: 漾月街道 | H10: 法雨社区 | I10: 18308824047 | J10: 农村残疾家庭劳动力 | K10: 保洁员 | L10: 2021年7-9月 | M10: 500元/人/月 | N10: 1500
A11: 9 | B11: 殷石祥 | C11: 男 | D11: 39 | E11: 530323198202230017 | F11: 5500000247720995 | G11: 漾月街道 | H11: 法雨社区 | I11: 15974639826 | J11: 农村残疾家庭劳动力 | K11: 保洁员 | L11: 2021年7-9月 | M11: 500元/人/月 | N11: 1500
A12: 10 | B12: 侍书堂 | C12: 男 | D12: 53 | E12: 532227196707120334 | F12: 85300000874409 | G12: 漾月街道 | H12: 法雨社区 | I12: 15987453747 | J12: 农村大龄贫困劳动力 | K12: 保洁员 | L12: 2021年7-9月 | M12: 500元/人/月 | N12: 1500
A13: 11 | B13: 殷利昆 | C13: 男 | D13: 47 | E13: 532227197311270015 | F13: 85300000553321 | G13: 漾月街道 | H13: 法雨社区 | I13: 18725452416 | J13: 农村残疾家庭劳动力 | K13: 保洁员 | L13: 2021年7-9月 | M13: 500元/人/月 | N13: 1500
A14: 12 | B14: 赵建生 | C14: 男 | D14: 57 | E14: 532227196404120353 | F14: 85300002169649 | G14: 漾月街道 | H14: 法雨社区 | I14: 15288087396 | J14: 农村大龄贫困劳动力 | K14: 保洁员 | L14: 2021年7-9月 | M14: 500元/人/月 | N14: 1500
A15: 13 | B15: 王红林 | C15: 男 | D15: 28 | E15: 53032319920924001X | F15: 5500000247710128 | G15: 漾月街道 | H15: 法雨社区 | I15: 15974627593 | J15: 农村贫困劳动力 | K15: 保洁员 | L15: 2021年7-9月 | M15: 500元/人/月 | N15: 1500
A16: 14 | B16: 王福安 | C16: 男 | D16: 46 | E16: 532227197503250051 | F16: 5500000248080644 | G16: 漾月街道 | H16: 法雨社区 | I16: 13732703223 | J16: 农村贫困劳动力 | K16: 保洁员 | L16: 2021年7-9月 | M16: 500元/人/月 | N16: 1500
A17: 15 | B17: 徐江华 | C17: 男 | D17: 47 | E17: 532227197312040019 | F17: 85300000260117 | G17: 漾月街道 | H17: 法雨社区 | I17: 15887974724 | J17: 农村残疾家庭劳动力 | K17: 保洁员 | L17: 2021年7-9月 | M17: 500元/人/月 | N17: 1500
A18: 16 | B18: 徐红波 | C18: 男 | D18: 38 | E18: 530323198303110014 | F18: 85300002169530 | G18: 漾月街道 | H18: 法雨社区 | I18: 15287994986 | J18: 农村有重病患者家庭劳动力 | K18: 保洁员 | L18: 2021年7-9月 | M18: 500元/人/月 | N18: 1500
A19: 17 | B19: 田老会 | C19: 男 | D19: 29 | E19: 530323199110090824 | F19: 5500000315740681 | G19: 漾月街道 | H19: 法雨社区 | I19: 17708747587 | J19: 一般贫困户 | K19: 保洁员 | L19: 2021年7-9月 | M19: 500元/人/月 | N19: 1500
... A30: 28 | B30: 方永良 | C30: 男 | D30: 41 | E30: 532227198002250031 | F30: 5500000247560852 | G30: 漾月街道 | H30: 丰岭村委会 | I30: 15911939496 | J30: 农村贫困劳动力 | K30: 保洁员 | L30: 2021年7-9月 | M30: 500元/人/月 | N30: 1500
A31: 29 | B31: 金正红 | C31: 男 | D31: =DATEDIF(TEXT(MID(E31,7,8),"00-00-00"),TODAY(),"y") -> 37 | E31: 530323198404130014 | F31: 85300000787255 | G31: 漾月街道 | H31: 丰岭村委会 | I31: 19143237498 | K31: 保洁员 | L31: 2021年7-9月 | M31: 500元/人/月 | N31: 1500
A32: 30 | B32: 朱丽芬 | C32: 女 | D32: 56 | E32: 532227196411210023 | F32: 85300007664982 | G32: 漾月街道 | H32: 路新社区 | I32: 18287445544 | J32: 一般贫困户 | K32: 保洁员 | L32: 2021年7-9月 | M32: 500元/人/月 | N32: 1500
A33: 31 | B33: 陈六华 | C33: 男 | D33: 48 | E33: 532227197207210338 | F33: 550000024765913 | G33: 漾月街道 | H33: 捏龙村委会 | I33: 15887945308 | J33: 一般贫困户 | K33: 保洁员 | L33: 2021年7-9月 | M33: 500元/人/月 | N33: 1500
A34: 32 | B34: 李国友 | C34: 男 | D34: 41 | E34: 53222719790427031x | F34: 85300002160139 | G34: 漾月街道 | H34: 捏龙村委会 | I34: 15187473541 | J34: 低保贫困户 | K34: 保洁员 | L34: 2021年7-9月 | M34: 500元/人/月 | N34: 1500
A35: 33 | B35: 赵八十 | C35: 男 | D35: 54 | E35: 532227196607030331 | F35: 85300000197631 | G35: 漾月街道 | H35: 捏龙村委会 | I35: 18313573206 | J35: 一般贫困户 | K35: 保洁员 | L35: 2021年7-9月 | M35: 500元/人/月 | N35: 1500
A36: 34 | B36: 唐建华 | C36: 男 | D36: 49 | E36: 532227197106250314 | F36: 85300000951165 | G36: 漾月街道 | H36: 捏龙村委会 | I36: 18213167956 | J36: 低保贫困户 | K36: 保洁员 | L36: 2021年7-9月 | M36: 500元/人/月 | N36: 1500
A37: 35 | B37: 卢老见 | C37: 男 | D37: 58 | E37: 532227196205030339 | F37: 85300000549898 | G37: 漾月街道 | H37: 捏龙村委会 | I37: 15187367316 | J37: 一般贫困户 | K37: 保洁员 | L37: 2021年7-9月 | M37: 500元/人/月 | N37: 1500
A38: 36 | B38: 皇老党 | C38: 男 | D38: 47 | E38: 532227197311050012 | F38: 5500000247719716 | G38: 漾月街道 | H38: 捏龙村委会 | I38: 15087459329 | J38: 低保贫困户 | K38: 保洁员 | L38: 2021年7-9月 | M38: 500元/人/月 | N38: 1500
A39: 37 | B39: 周路香 | C39: 女 | D39: 58 | E39: 532227196304150344 | F39: 85300000108999 | G39: 漾月街道 | H39: 捏龙村委会 | I39: 15912068658 | J39: 一般贫困户 | K39: 保洁员 | L39: 2021年7-9月 | M39: 500元/人/月 | N39: 1500
A40: 38 | B40: 金生 | C40: 男 | D40: 56 | E40: 532227196410140377 | F40: 5500000270574777 | G40: 漾月街道 | H40: 捏龙村委会 | I40: 18313598427 | J40: 一般贫困户 | K40: 保洁员 | L40: 2021年7-9月 | M40: 500元/人/月 | N40: 1500
A41: 39 | B41: 许小连 | C41: 女 | D41: 57 | E41: 532227196310110322 | F41: 5500000061686264 | G41: 漾月街道 | H41: 捏龙村委会 | I41: 15969104319 | J41: 一般贫困户 | K41: 保洁员 | L41: 2021年7-9月 | M41: 500元/人/月 | N41: 1500
A42: 40 | B42: 胡美玲 | C42: 女 | D42: 28 | E42: 530323199211270023 | F42: 85300000054508 | G42: 漾月街道 | H42: 捏龙村委会 | I42: 18388546486 | J42: 一般贫困户 | K42: 保洁员 | L42: 2021年7-9月 | M42: 500元/人/月 | N42: 1500
A43: 41 | B43: 余江涛 | C43: 男 | D43: 21 | E43: 530323199907200058 | F43: 85300002181367 | G43: 漾月街道 | H43: 捏龙村委会 | I43: 15288013142 | J43: 一般贫困户 | K43: 保洁员 | L43: 2021年7-9月 | M43: 500元/人/月 | N43: 1500
A44: 42 | B44: 刘光友 | C44: 男 | D44: 38 | E44: 532227198210160030 | F44: 85300001037833 | G44: 漾月街道 | H44: 捏龙村委会 | I44: 15287868236 | J44: 一般贫困户 | K44: 保洁员 | L44: 2021年7-9月 | M44: 500元/人/月 | N44: 1500
A45: 43 | B45: 王辉 | C45: 男 | D45: 29 | E45: 530323199111100019 | F45: 85300001063641 | G45: 漾月街道 | H45: 捏龙村委会 | I45: 13398745163 | J45: 一般贫困户 | K45: 保洁员 | L45: 2021年7-9月 | M45: 500元/人/月 | N45: 1500
A46: 44 | B46: 余谷平 | C46: 男 | D46: 34 | E46: 530323198605300016 | F46: 85300000899239 | G46: 漾月街道 | H46: 捏龙村委会 | I46: 15924969451 | J46: 一般贫困户 | K46: 保洁员 | L46: 2021年7-9月 | M46: 500元/人/月 | N46: 1500
A47: 45 | B47: 殷桂香 | C47: 女 | D47: 44 | E47: 530323197608140068 | F47: 85300001234900 | G47: 漾月街道 | H47: 捏龙村委会 | I47: 13648744673 | J47: 一般贫困户 | K47: 保洁员 | L47: 2021年7-9月 | M47: 500元/人/月 | N47: 1500
A48: 46 | B48: 张七美 | C48: 女 | D48: 45 | E48: 532227197506260028 | F48: 85300001850915 | G48: 漾月街道 | H48: 西华社区 | I48: 15287907671 | J48: 农村残疾家庭劳动力 | K48: 保洁员 | L48: 2021年7-9月 | M48: 500元/人/月 | N48: 1500
A49: 47 | B49: 赵所柱 | C49: 男 | D49: 36 | E49: 53032319840609001X | F49: 85300006359647 | G49: 漾月街道 | H49: 西华社区 | I49: 13723273907 | J49: 一般贫困户 | K49: 保洁员 | L49: 2021年7-9月 | M49: 500元/人/月 | N49: 1500
A50: 48 | B50: 周丽萍 | C50: 女 | D50: 51 | E50: 530323196907020029 | F50: 5500000247646874 | G50: 漾月街道 | H50: 西华社区 | I50: 15187898031 | J50: 一般贫困户 | K50: 保洁员 | L50: 2021年7-9月 | M50: 500元/人/月 | N50: 1500
...

Sheet Sheet1
A1: 师宗县2021年三季度脱贫劳动力乡村公益性岗位资金补贴公示
A2: 序号 | B2: 姓名 | C2: 性别 | D2: 年龄 | E2: 乡、镇（街道） | F2: 家庭所在村委会 | G2: 贫困人员类别 | H2: 岗位名称 | I2: 补贴期限 | J2: 补贴标准 | K2: 补贴金额 | L2: 备注
A3: 1 | B3: 窦友忠 | C3: 男 | D3: 56 | E3: 漾月街道 | F3: 法块社区 | G3: 农村有重病患者家庭劳动力 | H3: 保洁员 | I3: 2021年7-9月 | J3: 500元/人/月 | K3: 1500
A4: 2 | B4: 朱永林 | C4: 男 | D4: 40 | E4: 漾月街道 | F4: 法块社区 | G4: 农村残疾家庭劳动力 | H4: 保洁员 | I4: 2021年7-9月 | J4: 500元/人/月 | K4: 1500
A5: 3 | B5: 王陶先 | C5: 男 | D5: 49 | E5: 漾月街道 | F5: 法块社区 | G5: 农村大龄贫困劳动力 | H5: 保洁员 | I5: 2021年7-9月 | J5: 500元/人/月 | K5: 1500
A6: 4 | B6: 张田能 | C6: 男 | D6: 45 | E6: 漾月街道 | F6: 法块社区 | G6: 农村残疾家庭劳动力 | H6: 保洁员 | I6: 2021年7-9月 | J6: 500元/人/月 | K6: 1500
A7: 5 | B7: 梁国琼 | C7: 女 | D7: 31 | E7: 漾月街道 | F7: 法块社区 | G7: 一般贫困户 | H7: 保洁员 | I7: 2021年7-9月 | J7: 500元/人/月 | K7: 1500
A8: 6 | B8: 侯老四 | C8: 男 | D8: 59 | E8: 漾月街道 | F8: 法块社区 | G8: 一般贫困户 | H8: 保洁员 | I8: 2021年7-9月 | J8: 500元/人/月 | K8: 1500
A9: 7 | B9: 聂国良 | C9: 男 | D9: 50 | E9: 漾月街道 | F9: 法雨社区 | G9: 农村残疾家庭劳动力 | H9: 保洁员 | I9: 2021年7-9月 | J9: 500元/人/月 | K9: 1500
A10: 8 | B10: 殷海发 | C10: 男 | D10: 49 | E10: 漾月街道 | F10: 法雨社区 | G10: 农村残疾家庭劳动力 | H10: 保洁员 | I10: 2021年7-9月 | J10: 500元/人/月 | K10: 1500
A11: 9 | B11: 殷石祥 | C11: 男 | D11: 39 | E11: 漾月街道 | F11: 法雨社区 | G11: 农村残疾家庭劳动力 | H11: 保洁员 | I11: 2021年7-9月 | J11: 500元/人/月 | K11: 1500
A12: 10 | B12: 侍书堂 | C12: 男 | D12: 53 | E12: 漾月街道 | F12: 法雨社区 | G12: 农村大龄贫困劳动力 | H12: 保洁员 | I12: 2021年7-9月 | J12: 500元/人/月 | K12: 1500
A13: 11 | B13: 殷利昆 | C13: 男 | D13: 47 | E13: 漾月街道 | F13: 法雨社区 | G13: 农村残疾家庭劳动力 | H13: 保洁员 | I13: 2021年7-9月 | J13: 500元/人/月 | K13: 1500
A14: 12 | B14: 赵建生 | C14: 男 | D14: 57 | E14: 漾月街道 | F14: 法雨社区 | G14: 农村大龄贫困劳动力 | H14: 保洁员 | I14: 2021年7-9月 | J14: 500元/人/月 | K14: 1500
... A30: 28 | B30: 方永良 | C30: 男 | D30: 41 | E30: 漾月街道 | F30: 丰岭村委会 | G30: 农村贫困劳动力 | H30: 保洁员 | I30: 2021年7-9月 | J30: 500元/人/月 | K30: 1500
A31: 29 | B31: 金正红 | C31: 男 | D31: 37 | E31: 漾月街道 | F31: 丰岭村委会 | H31: 保洁员 | I31: 2021年7-9月 | J31: 500元/人/月 | K31: 1500
A32: 30 | B32: 朱丽芬 | C32: 女 | D32: 56 | E32: 漾月街道 | F32: 路新社区 | G32: 一般贫困户 | H32: 保洁员 | I32: 2021年7-9月 | J32: 500元/人/月 | K32: 1500
A33: 31 | B33: 陈六华 | C33: 男 | D33: 48 | E33: 漾月街道 | F33: 捏龙村委会 | G33: 一般贫困户 | H33: 保洁员 | I33: 2021年7-9月 | J33: 500元/人/月 | K33: 1500
A34: 32 | B34: 李国友 | C34: 男 | D34: 41 | E34: 漾月街道 | F34: 捏龙村委会 | G34: 低保贫困户 | H34: 保洁员 | I34: 2021年7-9月 | J34: 500元/人/月 | K34: 1500
A35: 33 | B35: 赵八十 | C35: 男 | D35: 54 | E35: 漾月街道 | F35: 捏龙村委会 | G35: 一般贫困户 | H35: 保洁员 | I35: 2021年7-9月 | J35: 500元/人/月 | K35: 1500
A36: 34 | B36: 唐建华 | C36: 男 | D36: 49 | E36: 漾月街道 | F36: 捏龙村委会 | G36: 低保贫困户 | H36: 保洁员 | I36: 2021年7-9月 | J36: 500元/人/月 | K36: 1500
A37: 35 | B37: 卢老见 | C37: 男 | D37: 58 | E37: 漾月街道 | F37: 捏龙村委会 | G37: 一般贫困户 | H37: 保洁员 | I37: 2021年7-9月 | J37: 500元/人/月 | K37: 1500
A38: 36 | B38: 皇老党 | C38: 男 | D38: 47 | E38: 漾月街道 | F38: 捏龙村委会 | G38: 低保贫困户 | H38: 保洁员 | I38: 2021年7-9月 | J38: 500元/人/月 | K38: 1500
A39: 37 | B39: 周路香 | C39: 女 | D39: 58 | E39: 漾月街道 | F39: 捏龙村委会 | G39: 一般贫困户 | H39: 保洁员 | I39: 2021年7-9月 | J39: 500元/人/月 | K39: 1500
A40: 38 | B40: 金生 | C40: 男 | D40: 56 | E40: 漾月街道 | F40: 捏龙村委会 | G40: 一般贫困户 | H40: 保洁员 | I40: 2021年7-9月 | J40: 500元/人/月 | K40: 1500
A41: 39 | B41: 许小连 | C41: 女 | D41: 57 | E41: 漾月街道 | F41: 捏龙村委会 | G41: 一般贫困户 | H41: 保洁员 | I41: 2021年7-9月 | J41: 500元/人/月 | K41: 1500
A42: 40 | B42: 胡美玲 | C42: 女 | D42: 28 | E42: 漾月街道 | F42: 捏龙村委会 | G42: 一般贫困户 | H42: 保洁员 | I42: 2021年7-9月 | J42: 500元/人/月 | K42: 1500
A43: 41 | B43: 余江涛 | C43: 男 | D43: 21 | E43: 漾月街道 | F43: 捏龙村委会 | G43: 一般贫困户 | H43: 保洁员 | I43: 2021年7-9月 | J43: 500元/人/月 | K43: 1500
... A157: 155 | B157: 张老生 | C157: 男 | D157: 46 | E157: 彩云镇 | F157: 长街村委会宗昔村 | G157: 农村大龄贫困劳动力 | H157: 保洁员 | I157: 2021年7-9月 | J157: 500元/人/月 | K157: 1500
A158: 156 | B158: 雷桂林 | C158: 男 | D158: 23 | E158: 彩云镇 | F158: 长街村委会大沙湾村 | H158: 保洁员 | I158: 2021年7-9月 | J158: 500元/人/月 | K158: 1500
A159: 157 | B159: 袁永全 | C159: 男 | D159: 29 | E159: 彩云镇 | F159: 长街村委会拨云村 | G159: 农村贫困劳动力 | H159: 保洁员 | I159: 2021年7-9月 | J159: 500元/人/月 | K159: 1500
A160: 158 | B160: 王小七 | C160: 男 | D160: 63 | E160: 彩云镇 | F160: 长街村委会拨云村 | G160: 农村大龄贫困劳动力 | H160: 保洁员 | I160: 2021年7-9月 | J160: 500元/人/月 | K160: 1500
A161: 159 | B161: 吴法昌 | C161: 男 | D161: 61 | E161: 彩云镇 | F161: 长街村委会长街村 | G161: 农村大龄贫困劳动力 | H161: 保洁员 | I161: 2021年7-9月 | J161: 500元/人/月 | K161: 1500
A162: 160 | B162: 张兴发 | C162: 男 | D162: 35 | E162: 彩云镇 | F162: 长街村委会当当石村 | G162: 农村贫困劳动力 | H162: 保洁员 | I162: 2021年7-9月 | J162: 500元/人/月 | K162: 1500
A163: 161 | B163: 黄老分 | C163: 女 | D163: 48 | E163: 彩云镇 | F163: 长街村委会小矣则村 | G163: 农村大龄贫困劳动力 | H163: 保洁员 | I163: 2021年7-9月 | J163: 500元/人/月 | K163: 1500
A164: 162 | B164: 刘云所 | C164: 男 | D164: 53 | E164: 彩云镇 | F164: 长街村委会小矣则村 | G164: 农村大龄贫困劳动力 | H164: 保洁员 | I164: 2021年7-9月 | J164: 500元/人/月 | K164: 1500
A165: 163 | B165: 黄焕存 | C165: 女 | D165: 60 | E165: 彩云镇 | F165: 长街村委会老寨村 | G165: 农村大龄贫困劳动力 | H165: 保洁员 | I165: 2021年7-9月 | J165: 500元/人/月 | K165: 1500
A166: 164 | B166: 赵小翠 | C166: 女 | D166: 62 | E166: 彩云镇 | F166: 路撒村委会法宜村 | G166: 农村大龄贫困劳动力 | H166: 保洁员 | I166: 2021年7-9月 | J166: 500元/人/月 | K166: 1500
A167: 165 | B167: 李小四 | C167: 女 | D167: 53 | E167: 彩云镇 | F167: 路撒村委会小路撒村 | G167: 农村大龄贫困劳动力 | H167: 保洁员 | I167: 2021年7-9月 | J167: 500元/人/月 | K167: 1500
A168: 166 | B168: 李海莲 | C168: 女 | D168: 46 | E168: 彩云镇 | F168: 路撒村委会居者乐村 | G168: 农村大龄贫困劳动力 | H168: 保洁员 | I168: 2021年7-9月 | J168: 500元/人/月 | K168: 1500
...
