Workbook

Sheet 资金明细
A1: 师宗县2021年三季度脱贫劳动力乡村公益性岗位资金明细表
A2: 序号 | B2: 姓名 | C2: 性别 | D2: 年龄 | E2: 居民身份证号 | F2: 建档立卡贫困户编号 | G2: 乡、镇（街道） | H2: 家庭所在村委会 | I2: 联系电话 | J2: 贫困人员类别 | K2: 岗位名称 | L2: 补贴期限 | M2: 补贴标准 | N2: 补贴金额 | O2: 备注
A3: 1 | B3: 窦友忠 | C3: 男 | D3: 56 | E3: 532227196412281130 | F3: 85300001708620 | G3: 漾月街道 | H3: 法块社区 | I3: 15187975718 | J3: 农村有重病患者家庭劳动力 | K3: 保洁员 | L3: 2021年7-9月 | M3: 500元/人/月 | N3: 1500
A4: 2 | B4: 朱永林 | C4: 男 | D4: 40 | E4: 53222719810408111X | F4: 85300000678875 | G4: 漾月街道 | H4: 法块社区 | I4: 19912968997 | J4: 农村残疾家庭劳动力 | K4: 保洁员 | L4: 2021年7-9月 | M4: 500元/人/月 | N4: 1500
A5: 3 | B5: 王陶先 | C5: 男 | D5: 49 | E5: 53222719710511111X | F5: 85300001402603 | G5: 漾月街道 | H5: 法块社区 | I5: 15188143534 | J5: 农村大龄贫困劳动力 | K5: 保洁员 | L5: 2021年7-9月 | M5: 500元/人/月 | N5: 1500
A6: 4 | B6: 张田能 | C6: 男 | D6: 45 | E6: 532527197507102933 | F6: 5500000143108162 | G6: 漾月街道 | H6: 法块社区 | I6: 15911931325 | J6: 农村残疾家庭劳动力 | K6: 保洁员 | L6: 2021年7-9月 | M6: 500元/人/月 | N6: 1500
A7: 5 | B7: 梁国琼 | C7: 女 | D7: 31 | E7: 530323199002200061 | F7: 85300001068455 | G7: 漾月街道 | H7: 法块社区 | I7: 15288075886 | J7: 一般贫困户 | K7: 保洁员 | L7: 2021年7-9月 | M7: 500元/人/月 | N7: 1500
A8: 6 | B8: 侯老四 | C8: 男 | D8: 59 | E8: 532227196201251118 | F8: 85300000040654 | G8: 漾月街道 | H8: 法块社区 | I8: 18388360275 | J8: 一般贫困户 | K8: 保洁员 | L8: 2021年7-9月 | M8: 500元/人/月 | N8: 1500
A9: 7 | B9: 聂国良 | C9: 男 | D9: 50 | E9: 532227197009020314 | F9: 853000001482527 | G9: 漾月街道 | H9: 法雨社区 | I9: 18787414087 | J9: 农村残疾家庭劳动力 | K9: 保洁员 | L9: 2021年7-9月 | M9: 500元/人/月 | N9: 1500
A10: 8 | B10: 殷海发 | C10: 男 | D10: 49 | E10: 532227197201180334 | F10: 85300000101472 | G10: 漾月街道 | H10: 法雨社区 | I10: 18308824047 | J10: 农村残疾家庭劳动力 | K10: 保洁员 | L10: 2021年7-9月 | M10: 500元/人/月 | N10: 1500
A11: 9 | B11: 殷石祥 | C11: 男 | D11: 39 | E11: 530323198202230017 | F11: 5500000247720995 | G11: 漾月街道 | H11: 法雨社区 | I11: 15974639826 | J11: 农村残疾家庭劳动力 | K11: 保洁员 | L11: 2021年7-9月 | M11: 500元/人/月 | N11: 1500
A12: 10 | B12: 侍书堂 | C12: 男 | D12: 53 | E12: 532227196707120334 | F12: 85300000874409 | G12: 漾月街道 | H12: 法雨社区 | I12: 15987453747 | J12: 农村大龄贫困劳动力 | K12: 保洁员 | L12: 2021年7-9月 | M12: 500元/人/月 | N12: 1500
A13: 11 | B13: 殷利昆 | C13: 男 | D13: 47 | E13: 532227197311270015 | F13: 85300000553321 | G13: 漾月街道 | H13: 法雨社区 | I13: 18725452416 | J13: 农村残疾家庭劳动力 | K13: 保洁员 | L13: 2021年7-9月 | M13: 500元/人/月 | N13: 1500
A14: 12 | B14: 赵建生 | C14: 男 | D14: 57 | E14: 532227196404120353 | F14: 85300002169649 | G14: 漾月街道 | H14: 法雨社区 | I14: 15288087396 | J14: 农村大龄贫困劳动力 | K14: 保洁员 | L14: 2021年7-9月 | M14: 500元/人/月 | N14: 1500
A15: 13 | B15: 王红林 | C15: 男 | D15: 28 | E15: 53032319920924001X | F15: 5500000247710128 | G15: 漾月街道 | H15: 法雨社区 | I15: 15974627593 | J15: 农村贫困劳动力 | K15: 保洁员 | L15: 2021年7-9月 | M15: 500元/人/月 | N15: 1500
A16: 14 | B16: 王福安 | C16: 男 | D16: 46 | E16: 532227197503250051 | F16: 5500000248080644 | G16: 漾月街道 | H16: 法雨社区 | I16: 13732703223 | J16: 农村贫困劳动力 | K16: 保洁员 | L16: 2021年7-9月 | M16: 500元/人/月 | N16: 1500
A17: 15 | B17: 徐江华 | C17: 男 | D17: 47 | E17: 532227197312040019 | F17: 85300000260117 | G17: 漾月街道 | H17: 法雨社区 | I17: 15887974724 | J17: 农村残疾家庭劳动力 | K17: 保洁员 | L17: 2021年7-9月 | M17: 500元/人/月 | N17: 1500
A18: 16 | B18: 徐红波 | C18: 男 | D18: 38 | E18: 530323198303110014 | F18: 85300002169530 | G18: 漾月街道 | H18: 法雨社区 | I18: 15287994986 | J18: 农村有重病患者家庭劳动力 | K18: 保洁员 | L18: 2021年7-9月 | M18: 500元/人/月 | N18: 1500
A19: 17 | B19: 田老会 | C19: 男 | D19: 29 | E19: 530323199110090824 | F19: 5500000315740681 | G19: 漾月街道 | H19: 法雨社区 | I19: 17708747587 | J19: 一般贫困户 | K19: 保洁员 | L19: 2021年7-9月 | M19: 500元/人/月 | N19: 1500
... A30: 28 | B30: 方永良 | C30: 男 | D30: 41 | E30: 532227198002250031 | F30: 5500000247560852 | G30: 漾月街道 | H30: 丰岭村委会 | I30: 15911939496 | J30: 农村贫困劳动力 | K30: 保洁员 | L30: 2021年7-9月 | M30: 500元/人/月 | N30: 1500
A31: 29 | B31: 金正红 | C31: 男 | D31: =DATEDIF(TEXT(MID(E31,7,8),"00-00-00"),TODAY(),"y") -> 37 | E31: 530323198404130014 | F31: 85300000787255 | G31: 漾月街道 | H31: 丰岭村委会 | I31: 19143237498 | K31: 保洁员 | L31: 2021年7-9月 | M31: 500元/人/月 | N31: 1500
A32: 30 | B32: 朱丽芬 | C32: 女 | D32: 56 | E32: 532227196411210023 | F32: 85300007664982 | G32: 漾月街道 | H32: 路新社区 | I32: 18287445544 | J32: 一般贫困户 | K32: 保洁员 | L32: 2021年7-9月 | M32: 500元/人/月 | N32: 1500
A33: 31 | B33: 陈六华 | C33: 男 | D33: 48 | E33: 532227197207210338 | F33: 550000024765913 | G33: 漾月街道 | H33: 捏龙村委会 | I33: 15887945308 | J33: 一般贫困户 | K33: 保洁员 | L33: 2021年7-9月 | M33: 500元/人/月 | N33: 1500
A34: 32 | B34: 李国友 | C34: 男 | D34: 41 | E34: 53222719790427031x | F34: 85300002160139 | G34: 漾月街道 | H34: 捏龙村委会 | I34: 15187473541 | J34: 低保贫困户 | K34: 保洁员 | L34: 2021年7-9月 | M34: 500元/人/月 | N34: 1500
A35: 33 | B35: 赵八十 | C35: 男 | D35: 54 | E35: 532227196607030331 | F35: 85300000197631 | G35: 漾月街道 | H35: 捏龙村委会 | I35: 18313573206 | J35: 一般贫困户 | K35: 保洁员 | L35: 2021年7-9月 | M35: 500元/人/月 | N35: 1500
A36: 34 | B36: 唐建华 | C36: 男 | D36: 49 | E36: 532227197106250314 | F36: 85300000951165 | G36: 漾月街道 | H36: 捏龙村委会 | I36: 18213167956 | J36: 低保贫困户 | K36: 保洁员 | L36: 2021年7-9月 | M36: 500元/人/月 | N36: 1500
A37: 35 | B37: 卢老见 | C37: 男 | D37: 58 | E37: 532227196205030339 | F37: 85300000549898 | G37: 漾月街道 | H37: 捏龙村委会 | I37: 15187367316 | J37: 一般贫困户 | K37: 保洁员 | L37: 2021年7-9月 | M37: 500元/人/月 | N37: 1500
A38: 36 | B38: 皇老党 | C38: 男 | D38: 47 | E38: 532227197311050012 | F38: 5500000247719716 | G38: 漾月街道 | H38: 捏龙村委会 | I38: 15087459329 | J38: 低保贫困户 | K38: 保洁员 | L38: 2021年7-9月 | M38: 500元/人/月 | N38: 1500
A39: 37 | B39: 周路香 | C39: 女 | D39: 58 | E39: 532227196304150344 | F39: 85300000108999 | G39: 漾月街道 | H39: 捏龙村委会 | I39: 15912068658 | J39: 一般贫困户 | K39: 保洁员 | L39: 2021年7-9月 | M39: 500元/人/月 | N39: 1500
A40: 38 | B40: 金生 | C40: 男 | D40: 56 | E40: 532227196410140377 | F40: 5500000270574777 | G40: 漾月街道 | H40: 捏龙村委会 | I40: 18313598427 | J40: 一般贫困户 | K40: 保洁员 | L40: 2021年7-9月 | M40: 500元/人/月 | N40: 1500
A41: 39 | B41: 许小连 | C41: 女 | D41: 57 | E41: 532227196310110322 | F41: 5500000061686264 | G41: 漾月街道 | H41: 捏龙村委会 | I41: 15969104319 | J41: 一般贫困户 | K41: 保洁员 | L41: 2021年7-9月 | M41: 500元/人/月 | N41: 1500
A42: 40 | B42: 胡美玲 | C42: 女 | D42: 28 | E42: 530323199211270023 | F42: 85300000054508 | G42: 漾月街道 | H42: 捏龙村委会 | I42: 18388546486 | J42: 一般贫困户 | K42: 保洁员 | L42: 2021年7-9月 | M42: 500元/人/月 | N42: 1500
A43: 41 | B43: 余江涛 | C43: 男 | D43: 21 | E43: 530323199907200058 | F43: 85300002181367 | G43: 漾月街道 | H43: 捏龙村委会 | I43: 15288013142 | J43: 一般贫困户 | K43: 保洁员 | L43: 2021年7-9月 | M43: 500元/人/月 | N43: 1500
A44: 42 | B44: 刘光友 | C44: 男 | D44: 38 | E44: 532227198210160030 | F44: 85300001037833 | G44: 漾月街道 | H44: 捏龙村委会 | I44: 15287868236 | J44: 一般贫困户 | K44: 保洁员 | L44: 2021年7-9月 | M44: 500元/人/月 | N44: 1500
A45: 43 | B45: 王辉 | C45: 男 | D45: 29 | E45: 530323199111100019 | F45: 85300001063641 | G45: 漾月街道 | H45: 捏龙村委会 | I45: 13398745163 | J45: 一般贫困户 | K45: 保洁员 | L45: 2021年7-9月 | M45: 500元/人/月 | N45: 1500
A46: 44 | B46: 余谷平 | C46: 男 | D46: 34 | E46: 530323198605300016 | F46: 85300000899239 | G46: 漾月街道 | H46: 捏龙村委会 | I46: 15924969451 | J46: 一般贫困户 | K46: 保洁员 | L46: 2021年7-9月 | M46: 500元/人/月 | N46: 1500
A47: 45 | B47: 殷桂香 | C47: 女 | D47: 44 | E47: 530323197608140068 | F47: 85300001234900 | G47: 漾月街道 | H47: 捏龙村委会 | I47: 13648744673 | J47: 一般贫困户 | K47: 保洁员 | L47: 2021年7-9月 | M47: 500元/人/月 | N47: 1500
A48: 46 | B48: 张七美 | C48: 女 | D48: 45 | E48: 532227197506260028 | F48: 85300001850915 | G48: 漾月街道 | H48: 西华社区 | I48: 15287907671 | J48: 农村残疾家庭劳动力 | K48: 保洁员 | L48: 2021年7-9月 | M48: 500元/人/月 | N48: 1500
A49: 47 | B49: 赵所柱 | C49: 男 | D49: 36 | E49: 53032319840609001X | F49: 85300006359647 | G49: 漾月街道 | H49: 西华社区 | I49: 13723273907 | J49: 一般贫困户 | K49: 保洁员 | L49: 2021年7-9月 | M49: 500元/人/月 | N49: 1500
A50: 48 | B50: 周丽萍 | C50: 女 | D50: 51 | E50: 530323196907020029 | F50: 5500000247646874 | G50: 漾月街道 | H50: 西华社区 | I50: 15187898031 | J50: 一般贫困户 | K50: 保洁员 | L50: 2021年7-9月 | M50: 500元/人/月 | N50: 1500
A51: 49 | B51: 陈永琼 | C51: 女 | D51: 30 | E51: 530323199008220047 | F51: 85300002230479 | G51: 漾月街道 | H51: 西华社区 | I51: 15887470951 | J51: 一般贫困户 | K51: 保洁员 | L51: 2021年7-9月 | M51: 500元/人/月 | N51: 1500
A52: 50 | B52: 赵贵华 | C52: 男 | D52: 54 | E52: 532227196609020313 | F52: 85300009763756 | G52: 漾月街道 | H52: 新村社区 | I52: 13324907739 | J52: 一般贫困户 | K52: 保洁员 | L52: 2021年7-9月 | M52: 500元/人/月 | N52: 1500
A53: 51 | B53: 刘建生 | C53: 男 | D53: 46 | E53: 532227197412130038 | F53: 5500000143362118 | G53: 漾月街道 | H53: 新村社区 | I53: 18388310484 | J53: 一般贫困户 | K53: 保洁员 | L53: 2021年7-9月 | M53: 500元/人/月 | N53: 1500
A54: 52 | B54: 王老发 | C54: 男 | D54: 45 | E54: 530323197509110015 | F54: 85300009435888 | G54: 漾月街道 | H54: 新村社区 | I54: 13987480943 | J54: 一般贫困户 | K54: 保洁员 | L54: 2021年7-9月 | M54: 500元/人/月 | N54: 1500
A55: 53 | B55: 梁培刚 | C55: 男 | D55: 33 | E55: 530323198803130038 | F55: 5500000315648663 | G55: 漾月街道 | H55: 新村社区 | I55: 15087425380 | J55: 一般贫困户 | K55: 保洁员 | L55: 2021年7-9月 | M55: 500元/人/月 | N55: 1500
A56: 54 | B56: 钱六三 | C56: 男 | D56: 56 | E56: 532227196404190319 | F56: 85300002170172 | G56: 漾月街道 | H56: 新村社区 | I56: 15187451514 | J56: 农村有重病患者家庭劳动力 | K56: 保洁员 | L56: 2021年7-9月 | M56: 500元/人/月 | N56: 1500
A57: 55 | B57: 罗樱 | C57: 女 | D57: 33 | E57: 530323198707301722 | F57: 85300001252037 | G57: 漾月街道 | H57: 法块社区 | I57: 13732706028 | J57: 农村贫困劳动力 | K57: 就业扶贫信息员 | L57: 2021年7-9月 | M57: 500元/人/月 | N57: 1500
A58: 56 | B58: 王丽萍 | C58: 女 | D58: 28 | E58: 530323199204270527 | F58: 85300000040614 | G58: 漾月街道 | H58: 法雨社区 | I58: 18388319469 | J58: 农村残疾家庭劳动力 | K58: 就业扶贫信息员 | L58: 2021年7-9月 | M58: 500元/人/月 | N58: 1500
A59: 57 | B59: 倪石保 | C59: 男 | D59: 51 | E59: 532227196908300315 | F59: 85300000887258 | G59: 漾月街道 | H59: 丰岭村委会 | I59: 13769849651 | J59: 农村残疾家庭劳动力 | K59: 就业扶贫信息员 | L59: 2021年7-9月 | M59: 500元/人/月 | N59: 1500
A60: 58 | B60: 李增红 | C60: 男 | D60: 27 | E60: 530323199308100098 | F60: 85300002157768 | G60: 漾月街道 | H60: 路新社区 | I60: 18314409771 | J60: 农村贫困劳动力 | K60: 就业扶贫信息员 | L60: 2021年7-9月 | M60: 500元/人/月 | N60: 1500
A61: 59 | B61: 刘俊波 | C61: 男 | D61: 37 | E61: 530323198309210016 | F61: 85300000118599 | G61: 漾月街道 | H61: 捏龙村委会 | I61: 15912001979 | J61: 农村贫困劳动力 | K61: 就业扶贫信息员 | L61: 2021年7-9月 | M61: 500元/人/月 | N61: 1500
A62: 60 | B62: 尚石生 | C62: 男 | D62: 42 | E62: 532227197810270079 | F62: 5500000141928032 | G62: 漾月街道 | H62: 西华社区 | I62: 15974610179 | J62: 农村贫困劳动力 | K62: 就业扶贫信息员 | L62: 2021年7-9月 | M62: 500元/人/月 | N62: 1500
A63: 61 | B63: 徐老法 | C63: 男 | D63: 29 | E63: 530323199107140050 | F63: 85300000025631 | G63: 漾月街道 | H63: 新村社区 | I63: 13408760347 | J63: 农村有重病患者家庭劳动力 | K63: 就业扶贫信息员 | L63: 2021年7-9月 | M63: 500元/人/月 | N63: 1500
A64: 62 | B64: 张红琼 | C64: 女 | D64: 28 | E64: 530323199210021586 | F64: 85300001853961 | G64: 五龙乡 | H64: 花桂村委会 | I64: 15188095733 | J64: 农村贫困劳动力 | K64: 扶贫信息管理员 | L64: 2021年7-9月 | M64: 500元/人/月 | N64: 1500
A65: 63 | B65: 李保德 | C65: 男 | D65: 60 | E65: 532227196103081514 | F65: 5500000144618540 | G65: 五龙乡 | H65: 新庄科村委会 | I65: 15974622723 | J65: 农村贫困劳动力 | K65: 扶贫信息管理员 | L65: 2021年7-9月 | M65: 500元/人/月 | N65: 1500
A66: 64 | B66: 邵文柱 | C66: 男 | D66: 34 | E66: 530323198608151538 | F66: 85300001754363 | G66: 五龙乡 | H66: 法岗村委会 | I66: 13529599983 | J66: 农村贫困劳动力 | K66: 扶贫信息管理员 | L66: 2021年7-9月 | M66: 500元/人/月 | N66: 1500
A67: 65 | B67: 余文俊 | C67: 男 | D67: 57 | E67: 532227196310061516 | F67: 85300001020669 | G67: 五龙乡 | H67: 鲁克村委会 | I67: 15393845569 | J67: 农村贫困劳动力 | K67: 扶贫信息管理员 | L67: 2021年7-9月 | M67: 500元/人/月 | N67: 1500
A68: 66 | B68: 何子渊 | C68: 男 | D68: 28 | E68: 53032319930119153X | F68: 85300002225926 | G68: 五龙乡 | H68: 狗街村委会 | I68: 18313531221 | J68: 农村贫困劳动力 | K68: 扶贫信息管理员 | L68: 2021年7-9月 | M68: 500元/人/月 | N68: 1500
A69: 67 | B69: 董天文 | C69: =IF(MOD(MID(E69,17,1),2)=1,"男","女") -> 男 | D69: =DATEDIF(TEXT(MID(E69,7,8),"0000-00-00"),TODAY(),"y") -> 36 | E69: 530323198411191552 | F69: =VLOOKUP(E69,[1]贫困信息!B:H,6,0) -> 85300001757392 | G69: 五龙乡 | H69: =VLOOKUP(E69,[1]贫困信息!B:E,4,0) -> 平寨村委会 | I69: 15108669068 | J69: 贫困劳动力 | K69: 扶贫信息管理员 | L69: 2021年7-9月 | M69: 500元/人/月 | N69: 1500
A70: 68 | B70: 张建芳 | C70: =IF(MOD(MID(E70,17,1),2)=1,"男","女") -> 男 | D70: =DATEDIF(TEXT(MID(E70,7,8),"0000-00-00"),TODAY(),"y") -> 48 | E70: 532227197305021514 | F70: =VLOOKUP(E70,[1]贫困信息!B:H,6,0) -> 85300001160336 | G70: 五龙乡 | H70: =VLOOKUP(E70,[1]贫困信息!B:E,4,0) -> 大厂村委会 | I70: 13577459268 | J70: 农村大龄贫困劳动力 | K70: 扶贫信息管理员 | L70: 2021年7-9月 | M70: 500元/人/月 | N70: 1500
A71: 69 | B71: 张学明 | C71: =IF(MOD(MID(E71,17,1),2)=1,"男","女") -> 男 | D71: =DATEDIF(TEXT(MID(E71,7,8),"0000-00-00"),TODAY(),"y") -> 49 | E71: 532227197205171515 | F71: =VLOOKUP(E71,[1]贫困信息!B:H,6,0) -> 85300002140104 | G71: 五龙乡 | H71: =VLOOKUP(E71,[1]贫困信息!B:E,4,0) -> 曲祖村委会 | I71: 15012218230 | J71: 农村大龄贫困劳动力 | K71: 扶贫信息管理员 | L71: 2021年7-9月 | M71: 500元/人/月 | N71: 1500
A72: 70 | B72: 伏保良 | C72: 男 | D72: 48 | E72: 530323197203281516 | F72: 5500000223829241 | G72: 五龙乡 | H72: 大厂村委会 | I72: 13887444465 | J72: 农村贫困劳动力 | K72: 保洁员 | L72: 2021年7-9月 | M72: 500元/人/月 | N72: 1500
A73: 71 | B73: 黄翠芬 | C73: 女 | D73: 43 | E73: 532227197708021527 | F73: 5500000223829241 | G73: 五龙乡 | H73: 大厂村委会 | I73: 13887444465 | J73: 农村贫困劳动力 | K73: 保洁员 | L73: 2021年7-9月 | M73: 500元/人/月 | N73: 1500
A74: 72 | B74: 李明先 | C74: 男 | D74: 48 | E74: 530323197207221510 | F74: 85300001058756 | G74: 五龙乡 | H74: 鲁克村委会 | I74: 15187447157 | J74: 农村贫困劳动力 | K74: 保洁员 | L74: 2021年7-9月 | M74: 500元/人/月 | N74: 1500
A75: 73 | B75: 李永贵 | C75: 男 | D75: 33 | E75: 530323198706091591 | F75: 5500000137314389 | G75: 五龙乡 | H75: 平寨村委会 | I75: 15188026249 | J75: 农村贫困劳动力 | K75: 保洁员 | L75: 2021年7-9月 | M75: 500元/人/月 | N75: 1500
A76: 74 | B76: 李媛 | C76: 女 | D76: 32 | E76: 530323198804171544 | F76: 85300000846771 | G76: 五龙乡 | H76: 花桂村委会 | I76: 18388359380 | J76: 农村贫困劳动力 | K76: 保洁员 | L76: 2021年7-9月 | M76: 500元/人/月 | N76: 1500
A77: 75 | B77: 昝小芬 | C77: 女 | D77: 55 | E77: 532227196602071521 | F77: 85300002034832 | G77: 五龙乡 | H77: 花桂村委会 | I77: 13732766783 | J77: 农村贫困劳动力 | K77: 保洁员 | L77: 2021年7-9月 | M77: 500元/人/月 | N77: 1500
A78: 76 | B78: 娄老琼 | C78: 女 | D78: 49 | E78: 530323197105131522 | F78: 5500000133349491 | G78: 五龙乡 | H78: 狗街村委会 | I78: 13408749540 | J78: 农村贫困劳动力 | K78: 保洁员 | L78: 2021年7-9月 | M78: 500元/人/月 | N78: 1500
A79: 77 | B79: 马小莲 | C79: 女 | D79: 43 | E79: 530323197709041544 | F79: 85300002215148 | G79: 五龙乡 | H79: 花桂村委会 | I79: 15288025971 | J79: 农村贫困劳动力 | K79: 保洁员 | L79: 2021年7-9月 | M79: 500元/人/月 | N79: 1500
A80: 78 | B80: 唐玉平 | C80: 男 | D80: 37 | E80: 530323198306021535 | F80: 5500000139228505 | G80: 五龙乡 | H80: 牛尾村委会 | I80: 15924913576 | J80: 农村贫困劳动力 | K80: 保洁员 | L80: 2021年7-9月 | M80: 500元/人/月 | N80: 1500
A81: 79 | B81: 幸关乔 | C81: 男 | D81: 44 | E81: 53032319760604155X | F81: 85300002215148 | G81: 五龙乡 | H81: 花桂村委会 | I81: 15288025971 | J81: 农村贫困劳动力 | K81: 保洁员 | L81: 2021年7-9月 | M81: 500元/人/月 | N81: 1500
A82: 80 | B82: 殷保华 | C82: 男 | D82: 38 | E82: 532227198212241512 | F82: 85300001473180 | G82: 五龙乡 | H82: 牛尾村委会 | I82: 13577370532 | J82: 农村贫困劳动力 | K82: 保洁员 | L82: 2021年7-9月 | M82: 500元/人/月 | N82: 1500
A83: 81 | B83: 郑吕云 | C83: 男 | D83: 30 | E83: 530323199005061618 | F83: 85300002225915 | G83: 五龙乡 | H83: 狗街村委会 | I83: 15087459378 | J83: 农村贫困劳动力 | K83: 保洁员 | L83: 2021年7-9月 | M83: 500元/人/月 | N83: 1500
... A102: 100 | B102: 万双秀 | C102: 女 | D102: 45 | E102: 530323197601170520 | F102: 5500000140040996 | G102: 五龙乡 | H102: 花桂村委会 | I102: 18287471941 | J102: 农村贫困劳动力 | K102: 保洁员 | L102: 2021年7-9月 | M102: 500元/人/月 | N102: 1500
A103: 101 | B103: 刘金华 | C103: 男 | D103: 22 | E103: 530323199805191517 | F103: 85300001278383 | G103: 五龙乡 | H103: 保太村委会 | I103: 19188735515 | J103: 农村贫困劳动力 | K103: 保洁员 | L103: 2021年7-9月 | M103: 500元/人/月 | N103: 1500
A104: 102 | B104: 袁江 | C104: 女 | D104: 30 | E104: 530323199102031680 | F104: 85300000343805 | G104: 五龙乡 | H104: 牛尾村委会 | I104: 13769892523 | J104: 农村贫困劳动力 | K104: 保洁员 | L104: 2021年7-9月 | M104: 500元/人/月 | N104: 1500
A105: 103 | B105: 许江涛 | C105: 女 | D105: 24 | E105: 530323199608281548 | F105: 5500000223829241 | G105: 五龙乡 | H105: 大厂村委会 | I105: 13887444465 | J105: 农村贫困劳动力 | K105: 保洁员 | L105: 2021年7-9月 | M105: 500元/人/月 | N105: 1500
A106: 104 | B106: 赵小山 | C106: 男 | D106: 26 | E106: 530323199406041538 | F106: 85300000497135 | G106: 五龙乡 | H106: 保太村委会 | I106: 15087459379 | J106: 农村贫困劳动力 | K106: 保洁员 | L106: 2021年7-9月 | M106: 500元/人/月 | N106: 1500
A107: 105 | B107: 周云香 | C107: 女 | D107: 52 | E107: 530323196805181526 | F107: 85300000573254 | G107: 五龙乡 | H107: 保太村委会 | I107: 15969103254 | J107: 农村贫困劳动力 | K107: 保洁员 | L107: 2021年7-9月 | M107: 500元/人/月 | N107: 1500
A108: 106 | B108: 周左芝 | C108: 女 | D108: 63 | E108: 532227195708251526 | F108: 85300000846771 | G108: 五龙乡 | H108: 花桂村委会 | I108: 18388359380 | J108: 农村贫困劳动力 | K108: 保洁员 | L108: 2021年7-9月 | M108: 500元/人/月 | N108: 1500
A109: 107 | B109: 朱绕珍 | C109: 女 | D109: 61 | E109: 532227195911071520 | F109: 85300000896589 | G109: 五龙乡 | H109: 花桂村委会 | I109: 13466053262 | J109: 农村贫困劳动力 | K109: 保洁员 | L109: 2021年7-9月 | M109: 500元/人/月 | N109: 1500
A110: 108 | B110: 胡小艳 | C110: 女 | D110: 37 | E110: 530323198306241546 | F110: 85300000975409 | G110: 五龙乡 | H110: 狗街村委会 | I110: 15825059075 | J110: 农村贫困劳动力 | K110: 保洁员 | L110: 2021年7-9月 | M110: 500元/人/月 | N110: 1500
A111: 109 | B111: 陈明芬 | C111: 女 | D111: 33 | E111: 532101198706055024 | F111: 85300001614766 | G111: 五龙乡 | H111: 保太村委会 | I111: 18924862521 | J111: 农村贫困劳动力 | K111: 保洁员 | L111: 2021年7-9月 | M111: 500元/人/月 | N111: 1500
A112: 110 | B112: 胡江辉 | C112: 男 | D112: 28 | E112: 530323199204161611 | F112: 85300001626042 | G112: 五龙乡 | H112: 保太村委会 | I112: 15974674513 | J112: 农村贫困劳动力 | K112: 保洁员 | L112: 2021年7-9月 | M112: 500元/人/月 | N112: 1500
A113: 111 | B113: 刘美仙 | C113: 女 | D113: 53 | E113: 532227196803051527 | F113: 85300000895148 | G113: 五龙乡 | H113: 牛尾村委会 | I113: 15911931841 | J113: 农村贫困劳动力 | K113: 保洁员 | L113: 2021年7-9月 | M113: 500元/人/月 | N113: 1500
A114: 112 | B114: 钱利坤 | C114: 男 | D114: 30 | E114: 53032319900921153X | F114: 85300000573254 | G114: 五龙乡 | H114: 保太村委会 | I114: 15969103254 | J114: 农村贫困劳动力 | K114: 保洁员 | L114: 2021年7-9月 | M114: 500元/人/月 | N114: 1500
A115: 113 | B115: 徐老科 | C115: 男 | D115: 44 | E115: 530323197606051539 | F115: 5500000227054535 | G115: 五龙乡 | H115: 牛尾村委会 | I115: 13466029372 | J115: 农村贫困劳动力 | K115: 保洁员 | L115: 2021年7-9月 | M115: 500元/人/月 | N115: 1500
... A122: 120 | B122: 胡菊连 | C122: 女 | D122: 63 | E122: 532227195707231523 | F122: 85300001427548 | G122: 五龙乡 | H122: 保太村委会 | I122: 14787290937 | J122: 农村贫困劳动力 | K122: 保洁员 | L122: 2021年7-9月 | M122: 500元/人/月 | N122: 1500
A123: 121 | B123: 李巧英 | C123: =IF(MOD(MID(E123,17,1),2),"男","女") -> 女 | D123: =YEAR(NOW())-MID(E123,7,4) -> 53 | E123: 530323196808131129 | F123: 85300000895435 | G123: 彩云镇 | H123: 槟榔居委会槟榔洞村 | I123: 18388329124 | J123: 农村大龄贫困劳动力 | K123: 保洁员 | L123: 2021年7-9月 | M123: 500元/人/月 | N123: 1500
A124: 122 | B124: 李紫平 | C124: =IF(MOD(MID(E124,17,1),2),"男","女") -> 男 | D124: =YEAR(NOW())-MID(E124,7,4) -> 52 | E124: 53222719690519115X | F124: 85300000108007 | G124: 彩云镇 | H124: 槟榔居委会大乃邑村 | I124: 13732769250 | J124: 农村大龄贫困劳动力 | K124: 保洁员 | L124: 2021年7-9月 | M124: 500元/人/月 | N124: 1500
A125: 123 | B125: 朱保华 | C125: =IF(MOD(MID(E125,17,1),2),"男","女") -> 男 | D125: =YEAR(NOW())-MID(E125,7,4) -> 35 | E125: 530323198604051177 | F125: 85300002220204 | G125: 彩云镇 | H125: 槟榔居委会大紫薇村 | I125: 18908744895 | J125: 农村贫困劳动力 | K125: 保洁员 | L125: 2021年7-9月 | M125: 500元/人/月 | N125: 1500
A126: 124 | B126: 李永明 | C126: =IF(MOD(MID(E126,17,1),2),"男","女") -> 男 | D126: =YEAR(NOW())-MID(E126,7,4) -> 42 | E126: 532227197910271116 | F126: 85300002207250 | G126: 彩云镇 | H126: 槟榔居委会小长山村 | I126: 13769874734 | J126: 农村大龄贫困劳动力 | K126: 保洁员 | L126: 2021年7-9月 | M126: 500元/人/月 | N126: 1500
A127: 125 | B127: 邵绕香 | C127: =IF(MOD(MID(E127,17,1),2),"男","女") -> 女 | D127: =YEAR(NOW())-MID(E127,7,4) -> 34 | E127: 530323198710211322 | F127: 85300002220246 | G127: 彩云镇 | H127: 槟榔居委会小乃邑村 | I127: 15974697037 | J127: 农村贫困劳动力 | K127: 保洁员 | L127: 2021年7-9月 | M127: 500元/人/月 | N127: 1500
A128: 126 | B128: 杨石荣 | C128: =IF(MOD(MID(E128,17,1),2),"男","女") -> 男 | D128: =YEAR(NOW())-MID(E128,7,4) -> 46 | E128: 532227197510081153 | F128: 85300001457441 | G128: 彩云镇 | H128: 槟榔居委会大紫薇村 | I128: 15974559158 | J128: 农村大龄贫困劳动力 | K128: 保洁员 | L128: 2021年7-9月 | M128: 500元/人/月 | N128: 1500
A129: 127 | B129: 纪友兰 | C129: =IF(MOD(MID(E129,17,1),2),"男","女") -> 女 | D129: =YEAR(NOW())-MID(E129,7,4) -> 33 | E129: 532227198811150540 | F129: 85300000945971 | G129: 彩云镇 | H129: 槟榔居委会大紫薇村 | I129: 15987418493 | J129: 农村贫困劳动力 | K129: 保洁员 | L129: 2021年7-9月 | M129: 500元/人/月 | N129: 1500
A130: 128 | B130: 李阿芬 | C130: =IF(MOD(MID(E130,17,1),2),"男","女") -> 女 | D130: =YEAR(NOW())-MID(E130,7,4) -> 35 | E130: 530323198604031328 | F130: 85300000757904 | G130: 彩云镇 | H130: 槟榔居委会左舍村 | I130: 15974580246 | J130: 农村贫困劳动力 | K130: 保洁员 | L130: 2021年7-9月 | M130: 500元/人/月 | N130: 1500
A131: 129 | B131: 李梅英 | C131: =IF(MOD(MID(E131,17,1),2),"男","女") -> 女 | D131: =YEAR(NOW())-MID(E131,7,4) -> 47 | E131: 530323197406281129 | F131: 85300000783098 | G131: 彩云镇 | H131: 槟榔居委会槟榔洞村 | I131: 15287404105 | J131: 农村大龄贫困劳动力 | K131: 保洁员 | L131: 2021年7-9月 | M131: 500元/人/月 | N131: 1500
A132: 130 | B132: 张石云 | C132: =IF(MOD(MID(E132,17,1),2),"男","女") -> 男 | D132: =YEAR(NOW())-MID(E132,7,4) -> 34 | E132: 530323198703141258 | F132: 85300002207263 | G132: 彩云镇 | H132: 槟榔居委会大乃邑村 | I132: 15924843241 | J132: 农村贫困劳动力 | K132: 保洁员 | L132: 2021年7-9月 | M132: 500元/人/月 | N132: 1500
A133: 131 | B133: 杨五拾 | C133: =IF(MOD(MID(E133,17,1),2),"男","女") -> 男 | D133: =YEAR(NOW())-MID(E133,7,4) -> 55 | E133: 532227196607201110 | F133: 85300001574350 | G133: 彩云镇 | H133: 槟榔居委会槟榔洞村 | I133: 15287829951 | J133: 农村大龄贫困劳动力 | K133: 保洁员 | L133: 2021年7-9月 | M133: 500元/人/月 | N133: 1500
A134: 132 | B134: 朱老丽 | C134: =IF(MOD(MID(E134,17,1),2),"男","女") -> 女 | D134: =YEAR(NOW())-MID(E134,7,4) -> 39 | E134: 530323198205161264 | F134: 85300000107447 | G134: 彩云镇 | H134: 槟榔居委会左舍村 | I134: 18387448161 | J134: 农村残疾劳动力家庭 | K134: 保洁员 | L134: 2021年7-9月 | M134: 500元/人/月 | N134: 1500
...

Sheet Sheet1
A1: 师宗县2021年三季度脱贫劳动力乡村公益性岗位资金补贴公示
A2: 序号 | B2: 姓名 | C2: 性别 | D2: 年龄 | E2: 乡、镇（街道） | F2: 家庭所在村委会 | G2: 贫困人员类别 | H2: 岗位名称 | I2: 补贴期限 | J2: 补贴标准 | K2: 补贴金额 | L2: 备注
A3: 1 | B3: 窦友忠 | C3: 男 | D3: 56 | E3: 漾月街道 | F3: 法块社区 | G3: 农村有重病患者家庭劳动力 | H3: 保洁员 | I3: 2021年7-9月 | J3: 500元/人/月 | K3: 1500
A4: 2 | B4: 朱永林 | C4: 男 | D4: 40 | E4: 漾月街道 | F4: 法块社区 | G4: 农村残疾家庭劳动力 | H4: 保洁员 | I4: 2021年7-9月 | J4: 500元/人/月 | K4: 1500
A5: 3 | B5: 王陶先 | C5: 男 | D5: 49 | E5: 漾月街道 | F5: 法块社区 | G5: 农村大龄贫困劳动力 | H5: 保洁员 | I5: 2021年7-9月 | J5: 500元/人/月 | K5: 1500
A6: 4 | B6: 张田能 | C6: 男 | D6: 45 | E6: 漾月街道 | F6: 法块社区 | G6: 农村残疾家庭劳动力 | H6: 保洁员 | I6: 2021年7-9月 | J6: 500元/人/月 | K6: 1500
A7: 5 | B7: 梁国琼 | C7: 女 | D7: 31 | E7: 漾月街道 | F7: 法块社区 | G7: 一般贫困户 | H7: 保洁员 | I7: 2021年7-9月 | J7: 500元/人/月 | K7: 1500
A8: 6 | B8: 侯老四 | C8: 男 | D8: 59 | E8: 漾月街道 | F8: 法块社区 | G8: 一般贫困户 | H8: 保洁员 | I8: 2021年7-9月 | J8: 500元/人/月 | K8: 1500
A9: 7 | B9: 聂国良 | C9: 男 | D9: 50 | E9: 漾月街道 | F9: 法雨社区 | G9: 农村残疾家庭劳动力 | H9: 保洁员 | I9: 2021年7-9月 | J9: 500元/人/月 | K9: 1500
A10: 8 | B10: 殷海发 | C10: 男 | D10: 49 | E10: 漾月街道 | F10: 法雨社区 | G10: 农村残疾家庭劳动力 | H10: 保洁员 | I10: 2021年7-9月 | J10: 500元/人/月 | K10: 1500
A11: 9 | B11: 殷石祥 | C11: 男 | D11: 39 | E11: 漾月街道 | F11: 法雨社区 | G11: 农村残疾家庭劳动力 | H11: 保洁员 | I11: 2021年7-9月 | J11: 500元/人/月 | K11: 1500
A12: 10 | B12: 侍书堂 | C12: 男 | D12: 53 | E12: 漾月街道 | F12: 法雨社区 | G12: 农村大龄贫困劳动力 | H12: 保洁员 | I12: 2021年7-9月 | J12: 500元/人/月 | K12: 1500
A13: 11 | B13: 殷利昆 | C13: 男 | D13: 47 | E13: 漾月街道 | F13: 法雨社区 | G13: 农村残疾家庭劳动力 | H13: 保洁员 | I13: 2021年7-9月 | J13: 500元/人/月 | K13: 1500
A14: 12 | B14: 赵建生 | C14: 男 | D14: 57 | E14: 漾月街道 | F14: 法雨社区 | G14: 农村大龄贫困劳动力 | H14: 保洁员 | I14: 2021年7-9月 | J14: 500元/人/月 | K14: 1500
... A30: 28 | B30: 方永良 | C30: 男 | D30: 41 | E30: 漾月街道 | F30: 丰岭村委会 | G30: 农村贫困劳动力 | H30: 保洁员 | I30: 2021年7-9月 | J30: 500元/人/月 | K30: 1500
A31: 29 | B31: 金正红 | C31: 男 | D31: 37 | E31: 漾月街道 | F31: 丰岭村委会 | H31: 保洁员 | I31: 2021年7-9月 | J31: 500元/人/月 | K31: 1500
A32: 30 | B32: 朱丽芬 | C32: 女 | D32: 56 | E32: 漾月街道 | F32: 路新社区 | G32: 一般贫困户 | H32: 保洁员 | I32: 2021年7-9月 | J32: 500元/人/月 | K32: 1500
A33: 31 | B33: 陈六华 | C33: 男 | D33: 48 | E33: 漾月街道 | F33: 捏龙村委会 | G33: 一般贫困户 | H33: 保洁员 | I33: 2021年7-9月 | J33: 500元/人/月 | K33: 1500
A34: 32 | B34: 李国友 | C34: 男 | D34: 41 | E34: 漾月街道 | F34: 捏龙村委会 | G34: 低保贫困户 | H34: 保洁员 | I34: 2021年7-9月 | J34: 500元/人/月 | K34: 1500
A35: 33 | B35: 赵八十 | C35: 男 | D35: 54 | E35: 漾月街道 | F35: 捏龙村委会 | G35: 一般贫困户 | H35: 保洁员 | I35: 2021年7-9月 | J35: 500元/人/月 | K35: 1500
A36: 34 | B36: 唐建华 | C36: 男 | D36: 49 | E36: 漾月街道 | F36: 捏龙村委会 | G36: 低保贫困户 | H36: 保洁员 | I36: 2021年7-9月 | J36: 500元/人/月 | K36: 1500
A37: 35 | B37: 卢老见 | C37: 男 | D37: 58 | E37: 漾月街道 | F37: 捏龙村委会 | G37: 一般贫困户 | H37: 保洁员 | I37: 2021年7-9月 | J37: 500元/人/月 | K37: 1500
A38: 36 | B38: 皇老党 | C38: 男 | D38: 47 | E38: 漾月街道 | F38: 捏龙村委会 | G38: 低保贫困户 | H38: 保洁员 | I38: 2021年7-9月 | J38: 500元/人/月 | K38: 1500
A39: 37 | B39: 周路香 | C39: 女 | D39: 58 | E39: 漾月街道 | F39: 捏龙村委会 | G39: 一般贫困户 | H39: 保洁员 | I39: 2021年7-9月 | J39: 500元/人/月 | K39: 1500
A40: 38 | B40: 金生 | C40: 男 | D40: 56 | E40: 漾月街道 | F40: 捏龙村委会 | G40: 一般贫困户 | H40: 保洁员 | I40: 2021年7-9月 | J40: 500元/人/月 | K40: 1500
A41: 39 | B41: 许小连 | C41: 女 | D41: 57 | E41: 漾月街道 | F41: 捏龙村委会 | G41: 一般贫困户 | H41: 保洁员 | I41: 2021年7-9月 | J41: 500元/人/月 | K41: 1500
A42: 40 | B42: 胡美玲 | C42: 女 | D42: 28 | E42: 漾月街道 | F42: 捏龙村委会 | G42: 一般贫困户 | H42: 保洁员 | I42: 2021年7-9月 | J42: 500元/人/月 | K42: 1500
A43: 41 | B43: 余江涛 | C43: 男 | D43: 21 | E43: 漾月街道 | F43: 捏龙村委会 | G43: 一般贫困户 | H43: 保洁员 | I43: 2021年7-9月 | J43: 500元/人/月 | K43: 1500
... A157: 155 | B157: 张老生 | C157: 男 | D157: 46 | E157: 彩云镇 | F157: 长街村委会宗昔村 | G157: 农村大龄贫困劳动力 | H157: 保洁员 | I157: 2021年7-9月 | J157: 500元/人/月 | K157: 1500
A158: 156 | B158: 雷桂林 | C158: 男 | D158: 23 | E158: 彩云镇 | F158: 长街村委会大沙湾村 | H158: 保洁员 | I158: 2021年7-9月 | J158: 500元/人/月 | K158: 1500
A159: 157 | B159: 袁永全 | C159: 男 | D159: 29 | E159: 彩云镇 | F159: 长街村委会拨云村 | G159: 农村贫困劳动力 | H159: 保洁员 | I159: 2021年7-9月 | J159: 500元/人/月 | K159: 1500
A160: 158 | B160: 王小七 | C160: 男 | D160: 63 | E160: 彩云镇 | F160: 长街村委会拨云村 | G160: 农村大龄贫困劳动力 | H160: 保洁员 | I160: 2021年7-9月 | J160: 500元/人/月 | K160: 1500
A161: 159 | B161: 吴法昌 | C161: 男 | D161: 61 | E161: 彩云镇 | F161: 长街村委会长街村 | G161: 农村大龄贫困劳动力 | H161: 保洁员 | I161: 2021年7-9月 | J161: 500元/人/月 | K161: 1500
A162: 160 | B162: 张兴发 | C162: 男 | D162: 35 | E162: 彩云镇 | F162: 长街村委会当当石村 | G162: 农村贫困劳动力 | H162: 保洁员 | I162: 2021年7-9月 | J162: 500元/人/月 | K162: 1500
A163: 161 | B163: 黄老分 | C163: 女 | D163: 48 | E163: 彩云镇 | F163: 长街村委会小矣则村 | G163: 农村大龄贫困劳动力 | H163: 保洁员 | I163: 2021年7-9月 | J163: 500元/人/月 | K163: 1500
A164: 162 | B164: 刘云所 | C164: 男 | D164: 53 | E164: 彩云镇 | F164: 长街村委会小矣则村 | G164: 农村大龄贫困劳动力 | H164: 保洁员 | I164: 2021年7-9月 | J164: 500元/人/月 | K164: 1500
A165: 163 | B165: 黄焕存 | C165: 女 | D165: 60 | E165: 彩云镇 | F165: 长街村委会老寨村 | G165: 农村大龄贫困劳动力 | H165: 保洁员 | I165: 2021年7-9月 | J165: 500元/人/月 | K165: 1500
A166: 164 | B166: 赵小翠 | C166: 女 | D166: 62 | E166: 彩云镇 | F166: 路撒村委会法宜村 | G166: 农村大龄贫困劳动力 | H166: 保洁员 | I166: 2021年7-9月 | J166: 500元/人/月 | K166: 1500
A167: 165 | B167: 李小四 | C167: 女 | D167: 53 | E167: 彩云镇 | F167: 路撒村委会小路撒村 | G167: 农村大龄贫困劳动力 | H167: 保洁员 | I167: 2021年7-9月 | J167: 500元/人/月 | K167: 1500
A168: 166 | B168: 李海莲 | C168: 女 | D168: 46 | E168: 彩云镇 | F168: 路撒村委会居者乐村 | G168: 农村大龄贫困劳动力 | H168: 保洁员 | I168: 2021年7-9月 | J168: 500元/人/月 | K168: 1500
A169: 167 | B169: 陈老左 | C169: 女 | D169: 54 | E169: 彩云镇 | F169: 路撒村委会所依格村 | G169: 农村大龄贫困劳动力 | H169: 保洁员 | I169: 2021年7-9月 | J169: 500元/人/月 | K169: 1500
A170: 168 | B170: 王左存 | C170: 女 | D170: 50 | E170: 彩云镇 | F170: 路撒村委会大路撒村 | G170: 农村大龄贫困劳动力 | H170: 保洁员 | I170: 2021年7-9月 | J170: 500元/人/月 | K170: 1500
... A204: 202 | B204: 张文先 | C204: 男 | D204: 52 | E204: 彩云镇 | F204: 彩云镇足法村委会新村村 | G204: 农村大龄贫困劳动力 | H204: 保洁员 | I204: 2021年7-9月 | J204: 500元/人/月 | K204: 1500
A205: 203 | B205: 伏建昆 | C205: 男 | D205: 34 | E205: 彩云镇 | F205: 彩云镇足法村委会新村村 | G205: 农村有重病患者家庭劳动力 | H205: 保洁员 | I205: 44378 | J205: 500元/人/月 | K205: 500 | L205: 7月终止
A206: 204 | B206: 申小华 | C206: 男 | D206: 41 | E206: 彩云镇 | F206: 彩云镇足法村委会白泥塘村 | G206: 农村有重病患者家庭劳动力 | H206: 保洁员 | I206: 2021年7-9月 | J206: 500元/人/月 | K206: 1500
A207: 205 | B207: 尚国平 | C207: 男 | D207: 59 | E207: 彩云镇 | F207: 彩云镇足法村委会足法村 | G207: 农村大龄贫困劳动力 | H207: 保洁员 | I207: 44378 | J207: 500元/人/月 | K207: 500 | L207: 7月终止
A208: 206 | B208: 杨琼芬 | C208: 女 | D208: 49 | E208: 彩云镇 | F208: 彩云镇足法村委会足法村 | G208: 农村大龄贫困劳动力 | H208: 保洁员 | I208: 2021年7-9月 | J208: 500元/人/月 | K208: 1500
A209: 207 | B209: 陈小耿 | C209: 男 | D209: 55 | E209: 彩云镇 | F209: 彩云镇足法村委会架格村 | G209: 农村大龄贫困劳动力 | H209: 保洁员 | I209: 2021年7-9月 | J209: 500元/人/月 | K209: 1500
A210: 208 | B210: 尚贵生 | C210: 男 | D210: 65 | E210: 彩云镇 | F210: 足法村委会足法村 | G210: 农村大龄贫困劳动力 | H210: 保洁员 | I210: 44378 | J210: 500元/人/月 | K210: 500 | L210: 7月终止
A211: 209 | B211: 李定书 | C211: 男 | D211: 56 | E211: 彩云镇 | F211: 足法村委会小可居村 | G211: 农村大龄贫困劳动力 | H211: 保洁员 | I211: 2021年7-9月 | J211: 500元/人/月 | K211: 1500
A212: 210 | B212: 白小花 | C212: 女 | D212: 53 | E212: 彩云镇 | F212: 足法村委会白泥塘村 | G212: 农村大龄贫困劳动力 | H212: 保洁员 | I212: 2021年7-9月 | J212: 500元/人/月 | K212: 1500
A213: 211 | B213: 伏小兰 | C213: 女 | D213: 52 | E213: 彩云镇 | F213: 足法村委会架格村 | G213: 农村大龄贫困劳动力 | H213: 保洁员 | I213: 2021年7-9月 | J213: 500元/人/月 | K213: 1500
A214: 212 | B214: 曾葱兰 | C214: 女 | D214: 64 | E214: 彩云镇 | F214: 足法村委会架格村 | G214: 农村大龄贫困劳动力 | H214: 保洁员 | I214: 2021年7-9月 | J214: 500元/人/月 | K214: 1500
A215: 213 | B215: 张小兵 | C215: 男 | D215: 42 | E215: 彩云镇 | F215: 足法村委会新村 | G215: 农村大龄贫困劳动力 | H215: 保洁员 | I215: 2021年7-9月 | J215: 500元/人/月 | K215: 1500
A216: 214 | B216: 张老焕 | C216: 女 | D216: 53 | E216: 彩云镇 | F216: 足法村委会老可居村 | G216: 农村大龄贫困劳动力 | H216: 保洁员 | I216: 2021年7-9月 | J216: 500元/人/月 | K216: 1500
A217: 215 | B217: 陈小定 | C217: 男 | D217: 58 | E217: 彩云镇 | F217: 足法村委会老可居村 | G217: 农村大龄贫困劳动力 | H217: 保洁员 | I217: 2021年7-9月 | J217: 500元/人/月 | K217: 1500
A218: 216 | B218: 查存焕 | C218: 女 | D218: 62 | E218: 彩云镇 | F218: 彩云镇足法村委会新村村 | G218: 农村大龄贫困劳动力 | H218: 保洁员 | I218: 2021年8-9月 | J218: 500元/人/月 | K218: 1000
A219: 217 | B219: 李石芬 | C219: 女 | D219: 33 | E219: 彩云镇 | F219: 足法村委会足法村 | G219: 农村大龄贫困劳动力 | H219: 保洁员 | I219: 2021年8-9月 | J219: 500元/人/月 | K219: 1000
A220: 218 | B220: 李关华 | C220: 男 | D220: 53 | E220: 彩云镇 | F220: 足法村委会足法村 | G220: 农村大龄贫困劳动力 | H220: 保洁员 | I220: 2021年8-9月 | J220: 500元/人/月 | K220: 1000
A221: 219 | B221: 魏永才 | C221: 男 | D221: 39 | E221: 彩云镇 | F221: 彩云镇务龙村委会大矣则村 | G221: 农村贫困劳动力 | H221: 保洁员 | I221: 2021年7-9月 | J221: 500元/人/月 | K221: 1500
A222: 220 | B222: 刘永寿 | C222: 男 | D222: 47 | E222: 彩云镇 | F222: 彩云镇务龙村委会大务龙村 | G222: 农村大龄贫困劳动力 | H222: 保洁员 | I222: 2021年7-9月 | J222: 500元/人/月 | K222: 1500
... A402: 400 | B402: 李忠兴 | C402: 男 | D402: 53 | E402: 丹凤街道 | F402: 山龙村委会下阿令村 | G402: 农村贫困劳动力 | H402: 保洁员 | I402: 2021年7-9月 | J402: 500元/人/月 | K402: 1500
A403: 401 | B403: 向老四 | C403: 男 | D403: 47 | E403: 丹凤街道 | F403: 大堵社区高家坟居民小组 | G403: 农村贫困劳动力 | H403: 保洁员 | I403: 44378 | J403: 500元/人/月 | K403: 500 | L403: 7月终止
A404: 402 | B404: 颜家良 | C404: 男 | D404: 42 | E404: 丹凤街道 | F404: 大堵社区大塘子居民小组 | G404: 农村贫困劳动力 | H404: 保洁员 | I404: 2021年7-9月 | J404: 500元/人/月 | K404: 1500
A405: 403 | B405: 皇春香 | C405: 女 | D405: 56 | E405: 丹凤街道 | F405: 淑足村委会延河村 | G405: 农村贫困劳动力 | H405: 保洁员 | I405: 2021年7-9月 | J405: 500元/人/月 | K405: 1500
A406: 404 | B406: 朱菊芝 | C406: 女 | D406: 64 | E406: 丹凤街道 | F406: 淑足村委会淑足村 | G406: 农村贫困劳动力 | H406: 保洁员 | I406: 2021年7-9月 | J406: 500元/人/月 | K406: 1500
A407: 405 | B407: 朱定生 | C407: 男 | D407: 48 | E407: 丹凤街道 | F407: 淑足村委会大完旦村 | G407: 农村贫困劳动力 | H407: 保洁员 | I407: 2021年7-9月 | J407: 500元/人/月 | K407: 1500
A408: 406 | B408: 刘聪花 | C408: 女 | D408: 45 | E408: 丹凤街道 | F408: 淑足村委会大龙切村 | G408: 农村贫困劳动力 | H408: 保洁员 | I408: 2021年7-9月 | J408: 500元/人/月 | K408: 1500
A409: 407 | B409: 赵进学 | C409: 男 | D409: 62 | E409: 丹凤街道 | F409: 法杂村委会大山脉村 | G409: 农村贫困劳动力 | H409: 保洁员 | I409: 2021年7-9月 | J409: 500元/人/月 | K409: 1500
A410: 408 | B410: 胡金芬 | C410: 女 | D410: 43 | E410: 丹凤街道 | F410: 古城社区小河口村居民小组 | G410: 农村贫困劳动力 | H410: 保洁员 | I410: 2021年7-9月 | J410: 500元/人/月 | K410: 1500
A411: 409 | B411: 李贵林 | C411: 男 | D411: 44 | E411: 丹凤街道 | F411: 荣海社区 | G411: 农村贫困劳动力 | H411: 扶贫信息员 | I411: 2021年7-9月 | J411: 500元/人/月 | K411: 1500
A412: 410 | B412: 周志祥 | C412: 男 | D412: 37 | E412: 丹凤街道 | F412: 海晏社区水台子村 | G412: 农村贫困劳动力 | H412: 保洁员 | I412: 2021年7-9月 | J412: 500元/人/月 | K412: 1500
A413: 411 | B413: 陈桂芬 | C413: 女 | D413: 48 | E413: 丹凤街道 | F413: 古城社区子午家园 | G413: 农村贫困劳动力 | H413: 保洁员 | I413: 2021年7-9月 | J413: 500元/人/月 | K413: 1500
A414: 412 | B414: 李小兰 | C414: 女 | D414: 35 | E414: 丹凤街道 | F414: 古城社区子午家园 | G414: 农村贫困劳动力 | H414: 保洁员 | I414: 2021年7-9月 | J414: 500元/人/月 | K414: 1500
A415: 413 | B415: 张福良 | C415: 男 | D415: 50 | E415: 丹凤街道 | F415: 法杂村委会雨脉村 | G415: 农村贫困劳动力 | H415: 保洁员 | I415: 2021年7-9月 | J415: 500元/人/月 | K415: 1500
... A747: 745 | B747: 田成得 | C747: 男 | D747: 52 | E747: 龙庆乡 | F747: 黑尔村委会大平寨村 | G747: 农村贫困劳动力 | H747: 信息员 | I747: 2021年7-9月 | J747: 500元/人/月 | K747: 1500
J748: 合计金额： | K748: 1111500
B749: 经办人： | I749: 时间： | J749: 年 月 | K749: 日
